BEGIN:VCALENDAR
VERSION:2.0
PRODID:-//Clayton Bocce League
METHOD:PUBLISH
BEGIN:VTIMEZONE
TZID:America/Los_Angeles
X-LIC-LOCATION:America/Los_Angeles
BEGIN:DAYLIGHT
TZOFFSETFROM:-0800
TZOFFSETTO:-0700
TZNAME:PDT
DTSTART:20070311T020000
RRULE:FREQ=YEARLY;BYMONTH=3;BYDAY=2SU
END:DAYLIGHT
BEGIN:STANDARD
TZOFFSETFROM:-0700
TZOFFSETTO:-0800
TZNAME:PST
DTSTART:20071104T020000
RRULE:FREQ=YEARLY;BYMONTH=11;BYDAY=1SU
END:STANDARD
END:VTIMEZONE
BEGIN:VEVENT
DTSTAMP:20260419T000000Z
UID:d994ef1a-2d35-4816-b64b-f61f23f750c1@ClaytonBocce
DTSTART;TZID=America/Los_Angeles:20260419T170000
DTEND;TZID=America/Los_Angeles:20260419T193000
STATUS:CONFIRMED
SUMMARY:V.A. NOBLES vs CANCEL MY APPOINTMENTS AND HOLD ALL M
 Y BALLS
URL:/League/Schedule/2940
DESCRIPTION:Regular Season match: V.A. NOBLES vs CANCEL MY A
 PPOINTMENTS AND HOLD ALL MY BALLS
LOCATION:Martinez Court 15
END:VEVENT
BEGIN:VEVENT
DTSTAMP:20260419T000000Z
UID:3476c0bb-6fef-451f-9cf9-fdd9b2b36e4b@ClaytonBocce
DTSTART;TZID=America/Los_Angeles:20260426T170000
DTEND;TZID=America/Los_Angeles:20260426T193000
STATUS:CONFIRMED
SUMMARY:V.A. NOBLES vs BOCCE OF THRONES
URL:/League/Schedule/2940
DESCRIPTION:Regular Season match: V.A. NOBLES vs BOCCE OF TH
 RONES
LOCATION:Martinez Court 4
END:VEVENT
BEGIN:VEVENT
DTSTAMP:20260419T000000Z
UID:96008aea-8e25-48fa-8cb5-4986100ce114@ClaytonBocce
DTSTART;TZID=America/Los_Angeles:20260503T170000
DTEND;TZID=America/Los_Angeles:20260503T193000
STATUS:CONFIRMED
SUMMARY:V.A. NOBLES vs FUHGETABOCCE
URL:/League/Schedule/2940
DESCRIPTION:Regular Season match: V.A. NOBLES vs FUHGETABOCC
 E
LOCATION:Martinez Court 10
END:VEVENT
BEGIN:VEVENT
DTSTAMP:20260419T000000Z
UID:1cbe5b7c-952e-4cd2-907c-3f58776f7011@ClaytonBocce
DTSTART;TZID=America/Los_Angeles:20260517T170000
DTEND;TZID=America/Los_Angeles:20260517T193000
STATUS:CONFIRMED
SUMMARY:V.A. NOBLES vs CLOSE ENOUGH
URL:/League/Schedule/2940
DESCRIPTION:Regular Season match: V.A. NOBLES vs CLOSE ENOUG
 H
LOCATION:Martinez Court 7
END:VEVENT
BEGIN:VEVENT
DTSTAMP:20260419T000000Z
UID:cb70525d-4f80-42f8-bcd0-2cecbe9b72fd@ClaytonBocce
DTSTART;TZID=America/Los_Angeles:20260607T170000
DTEND;TZID=America/Los_Angeles:20260607T193000
STATUS:CONFIRMED
SUMMARY:V.A. NOBLES vs ACE ROLLERS
URL:/League/Schedule/2940
DESCRIPTION:Regular Season match: V.A. NOBLES vs ACE ROLLERS
LOCATION:Martinez Court 2
END:VEVENT
BEGIN:VEVENT
DTSTAMP:20260419T000000Z
UID:b14e2f3e-4cf3-4df8-8613-1cf055522d8a@ClaytonBocce
DTSTART;TZID=America/Los_Angeles:20260614T170000
DTEND;TZID=America/Los_Angeles:20260614T193000
STATUS:CONFIRMED
SUMMARY:V.A. NOBLES vs BOCCE SNATCHERS
URL:/League/Schedule/2940
DESCRIPTION:Regular Season match: V.A. NOBLES vs BOCCE SNATC
 HERS
LOCATION:Martinez Court 6
END:VEVENT
BEGIN:VEVENT
DTSTAMP:20260419T000000Z
UID:aa8a1a5f-968e-4918-b912-b676e4f03b5c@ClaytonBocce
DTSTART;TZID=America/Los_Angeles:20260621T170000
DTEND;TZID=America/Los_Angeles:20260621T193000
STATUS:CONFIRMED
SUMMARY:V.A. NOBLES vs CANCEL MY APPOINTMENTS AND HOLD ALL M
 Y BALLS
URL:/League/Schedule/2940
DESCRIPTION:Regular Season match: V.A. NOBLES vs CANCEL MY A
 PPOINTMENTS AND HOLD ALL MY BALLS
LOCATION:Martinez Court 13
END:VEVENT
BEGIN:VEVENT
DTSTAMP:20260419T000000Z
UID:b76581f9-1c90-4567-92ff-10f0a7833220@ClaytonBocce
DTSTART;TZID=America/Los_Angeles:20260628T170000
DTEND;TZID=America/Los_Angeles:20260628T193000
STATUS:CONFIRMED
SUMMARY:V.A. NOBLES vs BOCCE OF THRONES
URL:/League/Schedule/2940
DESCRIPTION:Regular Season match: V.A. NOBLES vs BOCCE OF TH
 RONES
LOCATION:Martinez Court 8
END:VEVENT
BEGIN:VEVENT
DTSTAMP:20260419T000000Z
UID:daa3373a-662b-4068-adff-f9af927f7ddf@ClaytonBocce
DTSTART;TZID=America/Los_Angeles:20260712T170000
DTEND;TZID=America/Los_Angeles:20260712T193000
STATUS:CONFIRMED
SUMMARY:V.A. NOBLES vs FUHGETABOCCE
URL:/League/Schedule/2940
DESCRIPTION:Regular Season match: V.A. NOBLES vs FUHGETABOCC
 E
LOCATION:Martinez Court 3
END:VEVENT
BEGIN:VEVENT
DTSTAMP:20260419T000000Z
UID:edf9fada-b07a-46fb-b881-4838e97c1247@ClaytonBocce
DTSTART;TZID=America/Los_Angeles:20260719T170000
DTEND;TZID=America/Los_Angeles:20260719T193000
STATUS:CONFIRMED
SUMMARY:V.A. NOBLES vs CLOSE ENOUGH
URL:/League/Schedule/2940
DESCRIPTION:Regular Season match: V.A. NOBLES vs CLOSE ENOUG
 H
LOCATION:Martinez Court 5
END:VEVENT
BEGIN:VEVENT
DTSTAMP:20260419T000000Z
UID:8fa5f058-c1a3-4775-aa58-e6b22fbeddc6@ClaytonBocce
DTSTART;TZID=America/Los_Angeles:20260802T170000
DTEND;TZID=America/Los_Angeles:20260802T193000
STATUS:CONFIRMED
SUMMARY:V.A. NOBLES vs ACE ROLLERS
URL:/League/Schedule/2940
DESCRIPTION:Regular Season match: V.A. NOBLES vs ACE ROLLERS
LOCATION:Martinez Court 9
END:VEVENT
BEGIN:VEVENT
DTSTAMP:20260419T000000Z
UID:315e3b17-1bf3-4c0f-b066-1090bd633a5d@ClaytonBocce
DTSTART;TZID=America/Los_Angeles:20260809T170000
DTEND;TZID=America/Los_Angeles:20260809T193000
STATUS:CONFIRMED
SUMMARY:V.A. NOBLES vs BOCCE SNATCHERS
URL:/League/Schedule/2940
DESCRIPTION:Regular Season match: V.A. NOBLES vs BOCCE SNATC
 HERS
LOCATION:Martinez Court 12
END:VEVENT
BEGIN:VEVENT
DTSTAMP:20260419T000000Z
UID:816c26f3-beaf-49a7-ae09-881381309c02@ClaytonBocce
DTSTART;TZID=America/Los_Angeles:20260816T170000
DTEND;TZID=America/Los_Angeles:20260816T193000
STATUS:CONFIRMED
SUMMARY:V.A. NOBLES vs CANCEL MY APPOINTMENTS AND HOLD ALL M
 Y BALLS
URL:/League/Schedule/2940
DESCRIPTION:Regular Season match: V.A. NOBLES vs CANCEL MY A
 PPOINTMENTS AND HOLD ALL MY BALLS
LOCATION:Martinez Court 4
END:VEVENT
BEGIN:VEVENT
DTSTAMP:20260419T000000Z
UID:ecb10d6d-a532-40c9-b9e8-67cac04b2632@ClaytonBocce
DTSTART;TZID=America/Los_Angeles:20260823T170000
DTEND;TZID=America/Los_Angeles:20260823T193000
STATUS:CONFIRMED
SUMMARY:V.A. NOBLES vs BOCCE OF THRONES
URL:/League/Schedule/2940
DESCRIPTION:Regular Season match: V.A. NOBLES vs BOCCE OF TH
 RONES
LOCATION:Martinez Court 11
END:VEVENT
BEGIN:VEVENT
DTSTAMP:20260419T000000Z
UID:8018fbfa-a15f-46d7-b145-0c16df3c3577@ClaytonBocce
DTSTART;TZID=America/Los_Angeles:20260830T170000
DTEND;TZID=America/Los_Angeles:20260830T193000
STATUS:CONFIRMED
SUMMARY:V.A. NOBLES vs FUHGETABOCCE
URL:/League/Schedule/2940
DESCRIPTION:Regular Season match: V.A. NOBLES vs FUHGETABOCC
 E
LOCATION:Martinez Court 8
END:VEVENT
BEGIN:VEVENT
DTSTAMP:20260419T000000Z
UID:040d969d-08e1-4968-a84f-82e482470151@ClaytonBocce
DTSTART;TZID=America/Los_Angeles:20260906T170000
DTEND;TZID=America/Los_Angeles:20260906T193000
STATUS:CONFIRMED
SUMMARY:V.A. NOBLES vs CLOSE ENOUGH
URL:/League/Schedule/2940
DESCRIPTION:Regular Season match: V.A. NOBLES vs CLOSE ENOUG
 H
LOCATION:Martinez Court 1
END:VEVENT
BEGIN:VEVENT
DTSTAMP:20260419T000000Z
UID:31e10d35-93d3-41c1-b6f0-bfcd2389addc@ClaytonBocce
DTSTART;TZID=America/Los_Angeles:20260920T170000
DTEND;TZID=America/Los_Angeles:20260920T193000
STATUS:CONFIRMED
SUMMARY:V.A. NOBLES vs ACE ROLLERS
URL:/League/Schedule/2940
DESCRIPTION:Regular Season match: V.A. NOBLES vs ACE ROLLERS
LOCATION:Martinez Court 14
END:VEVENT
END:VCALENDAR
