BEGIN:VCALENDAR
VERSION:2.0
PRODID:-//Clayton Bocce League
METHOD:PUBLISH
BEGIN:VTIMEZONE
TZID:America/Los_Angeles
X-LIC-LOCATION:America/Los_Angeles
BEGIN:DAYLIGHT
TZOFFSETFROM:-0800
TZOFFSETTO:-0700
TZNAME:PDT
DTSTART:20070311T020000
RRULE:FREQ=YEARLY;BYMONTH=3;BYDAY=2SU
END:DAYLIGHT
BEGIN:STANDARD
TZOFFSETFROM:-0700
TZOFFSETTO:-0800
TZNAME:PST
DTSTART:20071104T020000
RRULE:FREQ=YEARLY;BYMONTH=11;BYDAY=1SU
END:STANDARD
END:VTIMEZONE
BEGIN:VEVENT
DTSTAMP:20260419T000000Z
UID:0ff92479-9525-4b66-b6fb-676a628aa71c@ClaytonBocce
DTSTART;TZID=America/Los_Angeles:20260426T170000
DTEND;TZID=America/Los_Angeles:20260426T193000
STATUS:CONFIRMED
SUMMARY:WHAT-A-BIOCCE vs PALLINOS DEEP
URL:/League/Schedule/2930
DESCRIPTION:Regular Season match: WHAT-A-BIOCCE vs PALLINOS 
 DEEP
LOCATION:Martinez Court 14
END:VEVENT
BEGIN:VEVENT
DTSTAMP:20260419T000000Z
UID:c946956c-4f1e-43c8-90cd-89a111a3ac91@ClaytonBocce
DTSTART;TZID=America/Los_Angeles:20260503T170000
DTEND;TZID=America/Los_Angeles:20260503T193000
STATUS:CONFIRMED
SUMMARY:WHAT-A-BIOCCE vs LET'S ROLL
URL:/League/Schedule/2930
DESCRIPTION:Regular Season match: WHAT-A-BIOCCE vs LET'S ROL
 L
LOCATION:Martinez Court 3
END:VEVENT
BEGIN:VEVENT
DTSTAMP:20260419T000000Z
UID:14ff99bc-ca65-4fca-ab12-81a4cc83700a@ClaytonBocce
DTSTART;TZID=America/Los_Angeles:20260517T170000
DTEND;TZID=America/Los_Angeles:20260517T193000
STATUS:CONFIRMED
SUMMARY:WHAT-A-BIOCCE vs BOCCE CATS
URL:/League/Schedule/2930
DESCRIPTION:Regular Season match: WHAT-A-BIOCCE vs BOCCE CAT
 S
LOCATION:Martinez Court 12
END:VEVENT
BEGIN:VEVENT
DTSTAMP:20260419T000000Z
UID:ee5f2920-33f5-48c1-996b-983d939c3337@ClaytonBocce
DTSTART;TZID=America/Los_Angeles:20260531T170000
DTEND;TZID=America/Los_Angeles:20260531T193000
STATUS:CONFIRMED
SUMMARY:WHAT-A-BIOCCE vs TRAVELERS
URL:/League/Schedule/2930
DESCRIPTION:Regular Season match: WHAT-A-BIOCCE vs TRAVELERS
LOCATION:Martinez Court 11
END:VEVENT
BEGIN:VEVENT
DTSTAMP:20260419T000000Z
UID:506e7767-6792-40bb-8635-a1565cc1ab28@ClaytonBocce
DTSTART;TZID=America/Los_Angeles:20260607T170000
DTEND;TZID=America/Los_Angeles:20260607T193000
STATUS:CONFIRMED
SUMMARY:WHAT-A-BIOCCE vs YOU CAN'T TELL FROM HERE
URL:/League/Schedule/2930
DESCRIPTION:Regular Season match: WHAT-A-BIOCCE vs YOU CAN'T
  TELL FROM HERE
LOCATION:Martinez Court 10
END:VEVENT
BEGIN:VEVENT
DTSTAMP:20260419T000000Z
UID:a42d23da-82dc-4118-acab-8a0c359f2248@ClaytonBocce
DTSTART;TZID=America/Los_Angeles:20260614T170000
DTEND;TZID=America/Los_Angeles:20260614T193000
STATUS:CONFIRMED
SUMMARY:WHAT-A-BIOCCE vs PINEAPPLOUS
URL:/League/Schedule/2930
DESCRIPTION:Regular Season match: WHAT-A-BIOCCE vs PINEAPPLO
 US
LOCATION:Martinez Court 9
END:VEVENT
BEGIN:VEVENT
DTSTAMP:20260419T000000Z
UID:e49a7d1e-4afe-4e9e-9848-b837a37d6a87@ClaytonBocce
DTSTART;TZID=America/Los_Angeles:20260628T170000
DTEND;TZID=America/Los_Angeles:20260628T193000
STATUS:CONFIRMED
SUMMARY:WHAT-A-BIOCCE vs PALLINOS DEEP
URL:/League/Schedule/2930
DESCRIPTION:Regular Season match: WHAT-A-BIOCCE vs PALLINOS 
 DEEP
LOCATION:Martinez Court 15
END:VEVENT
BEGIN:VEVENT
DTSTAMP:20260419T000000Z
UID:128c0481-7cc3-4ec0-ba3d-a3f632c57493@ClaytonBocce
DTSTART;TZID=America/Los_Angeles:20260712T170000
DTEND;TZID=America/Los_Angeles:20260712T193000
STATUS:CONFIRMED
SUMMARY:WHAT-A-BIOCCE vs LET'S ROLL
URL:/League/Schedule/2930
DESCRIPTION:Regular Season match: WHAT-A-BIOCCE vs LET'S ROL
 L
LOCATION:Martinez Court 5
END:VEVENT
BEGIN:VEVENT
DTSTAMP:20260419T000000Z
UID:c3ac4578-88aa-40e1-8efd-6b0e5afd6c1e@ClaytonBocce
DTSTART;TZID=America/Los_Angeles:20260719T170000
DTEND;TZID=America/Los_Angeles:20260719T193000
STATUS:CONFIRMED
SUMMARY:WHAT-A-BIOCCE vs BOCCE CATS
URL:/League/Schedule/2930
DESCRIPTION:Regular Season match: WHAT-A-BIOCCE vs BOCCE CAT
 S
LOCATION:Martinez Court 3
END:VEVENT
BEGIN:VEVENT
DTSTAMP:20260419T000000Z
UID:faec56b1-819f-4b7e-996f-4a53b9aca61a@ClaytonBocce
DTSTART;TZID=America/Los_Angeles:20260726T170000
DTEND;TZID=America/Los_Angeles:20260726T193000
STATUS:CONFIRMED
SUMMARY:WHAT-A-BIOCCE vs TRAVELERS
URL:/League/Schedule/2930
DESCRIPTION:Regular Season match: WHAT-A-BIOCCE vs TRAVELERS
LOCATION:Martinez Court 15
END:VEVENT
BEGIN:VEVENT
DTSTAMP:20260419T000000Z
UID:16ae5051-2b8d-49df-ba9d-62c151c66757@ClaytonBocce
DTSTART;TZID=America/Los_Angeles:20260802T170000
DTEND;TZID=America/Los_Angeles:20260802T193000
STATUS:CONFIRMED
SUMMARY:WHAT-A-BIOCCE vs YOU CAN'T TELL FROM HERE
URL:/League/Schedule/2930
DESCRIPTION:Regular Season match: WHAT-A-BIOCCE vs YOU CAN'T
  TELL FROM HERE
LOCATION:Martinez Court 13
END:VEVENT
BEGIN:VEVENT
DTSTAMP:20260419T000000Z
UID:50429ab6-1fb0-4336-b3e2-43049d4203a2@ClaytonBocce
DTSTART;TZID=America/Los_Angeles:20260809T170000
DTEND;TZID=America/Los_Angeles:20260809T193000
STATUS:CONFIRMED
SUMMARY:WHAT-A-BIOCCE vs PINEAPPLOUS
URL:/League/Schedule/2930
DESCRIPTION:Regular Season match: WHAT-A-BIOCCE vs PINEAPPLO
 US
LOCATION:Martinez Court 8
END:VEVENT
BEGIN:VEVENT
DTSTAMP:20260419T000000Z
UID:a7513214-c8ef-4587-84d7-b41cbe548db3@ClaytonBocce
DTSTART;TZID=America/Los_Angeles:20260823T170000
DTEND;TZID=America/Los_Angeles:20260823T193000
STATUS:CONFIRMED
SUMMARY:WHAT-A-BIOCCE vs PALLINOS DEEP
URL:/League/Schedule/2930
DESCRIPTION:Regular Season match: WHAT-A-BIOCCE vs PALLINOS 
 DEEP
LOCATION:Martinez Court 9
END:VEVENT
BEGIN:VEVENT
DTSTAMP:20260419T000000Z
UID:c99233ba-e7f8-48fb-aeba-6ff09036979f@ClaytonBocce
DTSTART;TZID=America/Los_Angeles:20260830T170000
DTEND;TZID=America/Los_Angeles:20260830T193000
STATUS:CONFIRMED
SUMMARY:WHAT-A-BIOCCE vs LET'S ROLL
URL:/League/Schedule/2930
DESCRIPTION:Regular Season match: WHAT-A-BIOCCE vs LET'S ROL
 L
LOCATION:Martinez Court 12
END:VEVENT
BEGIN:VEVENT
DTSTAMP:20260419T000000Z
UID:0434fddc-1d33-4bc5-8be7-693f1f532249@ClaytonBocce
DTSTART;TZID=America/Los_Angeles:20260906T170000
DTEND;TZID=America/Los_Angeles:20260906T193000
STATUS:CONFIRMED
SUMMARY:WHAT-A-BIOCCE vs BOCCE CATS
URL:/League/Schedule/2930
DESCRIPTION:Regular Season match: WHAT-A-BIOCCE vs BOCCE CAT
 S
LOCATION:Martinez Court 11
END:VEVENT
BEGIN:VEVENT
DTSTAMP:20260419T000000Z
UID:bbda5ba3-5fdf-4282-8a40-75e2db253300@ClaytonBocce
DTSTART;TZID=America/Los_Angeles:20260913T170000
DTEND;TZID=America/Los_Angeles:20260913T193000
STATUS:CONFIRMED
SUMMARY:WHAT-A-BIOCCE vs TRAVELERS
URL:/League/Schedule/2930
DESCRIPTION:Regular Season match: WHAT-A-BIOCCE vs TRAVELERS
LOCATION:Martinez Court 5
END:VEVENT
BEGIN:VEVENT
DTSTAMP:20260419T000000Z
UID:77b04598-7239-4416-ad27-67cc5c37d73e@ClaytonBocce
DTSTART;TZID=America/Los_Angeles:20260920T170000
DTEND;TZID=America/Los_Angeles:20260920T193000
STATUS:CONFIRMED
SUMMARY:WHAT-A-BIOCCE vs YOU CAN'T TELL FROM HERE
URL:/League/Schedule/2930
DESCRIPTION:Regular Season match: WHAT-A-BIOCCE vs YOU CAN'T
  TELL FROM HERE
LOCATION:Martinez Court 1
END:VEVENT
END:VCALENDAR
