BEGIN:VCALENDAR
VERSION:2.0
PRODID:-//Clayton Bocce League
METHOD:PUBLISH
BEGIN:VTIMEZONE
TZID:America/Los_Angeles
X-LIC-LOCATION:America/Los_Angeles
BEGIN:DAYLIGHT
TZOFFSETFROM:-0800
TZOFFSETTO:-0700
TZNAME:PDT
DTSTART:20070311T020000
RRULE:FREQ=YEARLY;BYMONTH=3;BYDAY=2SU
END:DAYLIGHT
BEGIN:STANDARD
TZOFFSETFROM:-0700
TZOFFSETTO:-0800
TZNAME:PST
DTSTART:20071104T020000
RRULE:FREQ=YEARLY;BYMONTH=11;BYDAY=1SU
END:STANDARD
END:VTIMEZONE
BEGIN:VEVENT
DTSTAMP:20260419T000000Z
UID:b43678b2-0a46-4e94-b044-fd3f315d472e@ClaytonBocce
DTSTART;TZID=America/Los_Angeles:20260614T170000
DTEND;TZID=America/Los_Angeles:20260614T193000
STATUS:CONFIRMED
SUMMARY:BARBER BALLERS vs PALLINO PALS
URL:/League/Schedule/2911
DESCRIPTION:Regular Season match: BARBER BALLERS vs PALLINO 
 PALS
LOCATION:Martinez Court 10
END:VEVENT
END:VCALENDAR
