BEGIN:VCALENDAR
VERSION:2.0
PRODID:-//Clayton Bocce League
METHOD:PUBLISH
BEGIN:VTIMEZONE
TZID:America/Los_Angeles
X-LIC-LOCATION:America/Los_Angeles
BEGIN:DAYLIGHT
TZOFFSETFROM:-0800
TZOFFSETTO:-0700
TZNAME:PDT
DTSTART:20070311T020000
RRULE:FREQ=YEARLY;BYMONTH=3;BYDAY=2SU
END:DAYLIGHT
BEGIN:STANDARD
TZOFFSETFROM:-0700
TZOFFSETTO:-0800
TZNAME:PST
DTSTART:20071104T020000
RRULE:FREQ=YEARLY;BYMONTH=11;BYDAY=1SU
END:STANDARD
END:VTIMEZONE
BEGIN:VEVENT
DTSTAMP:20260419T000000Z
UID:bda5637c-c914-4b83-80d3-fc82063815bf@ClaytonBocce
DTSTART;TZID=America/Los_Angeles:20260419T170000
DTEND;TZID=America/Los_Angeles:20260419T193000
STATUS:CONFIRMED
SUMMARY:BOCCE CATS vs PINEAPPLOUS
URL:/League/Schedule/2925
DESCRIPTION:Regular Season match: BOCCE CATS vs PINEAPPLOUS
LOCATION:Martinez Court 8
END:VEVENT
BEGIN:VEVENT
DTSTAMP:20260419T000000Z
UID:7c153d2a-b8ce-4cdb-a637-96a1cb557793@ClaytonBocce
DTSTART;TZID=America/Los_Angeles:20260426T170000
DTEND;TZID=America/Los_Angeles:20260426T193000
STATUS:CONFIRMED
SUMMARY:BOCCE CATS vs LET'S ROLL
URL:/League/Schedule/2925
DESCRIPTION:Regular Season match: BOCCE CATS vs LET'S ROLL
LOCATION:Martinez Court 13
END:VEVENT
BEGIN:VEVENT
DTSTAMP:20260419T000000Z
UID:f606bfdc-d01c-4160-b4ab-3a8ad427fe37@ClaytonBocce
DTSTART;TZID=America/Los_Angeles:20260503T170000
DTEND;TZID=America/Los_Angeles:20260503T193000
STATUS:CONFIRMED
SUMMARY:BOCCE CATS vs TRAVELERS
URL:/League/Schedule/2925
DESCRIPTION:Regular Season match: BOCCE CATS vs TRAVELERS
LOCATION:Martinez Court 4
END:VEVENT
BEGIN:VEVENT
DTSTAMP:20260419T000000Z
UID:14ff99bc-ca65-4fca-ab12-81a4cc83700a@ClaytonBocce
DTSTART;TZID=America/Los_Angeles:20260517T170000
DTEND;TZID=America/Los_Angeles:20260517T193000
STATUS:CONFIRMED
SUMMARY:BOCCE CATS vs WHAT-A-BIOCCE
URL:/League/Schedule/2925
DESCRIPTION:Regular Season match: BOCCE CATS vs WHAT-A-BIOCC
 E
LOCATION:Martinez Court 12
END:VEVENT
BEGIN:VEVENT
DTSTAMP:20260419T000000Z
UID:921bdd85-6ba1-42a5-8ce9-13e8509af8cf@ClaytonBocce
DTSTART;TZID=America/Los_Angeles:20260531T170000
DTEND;TZID=America/Los_Angeles:20260531T193000
STATUS:CONFIRMED
SUMMARY:BOCCE CATS vs YOU CAN'T TELL FROM HERE
URL:/League/Schedule/2925
DESCRIPTION:Regular Season match: BOCCE CATS vs YOU CAN'T TE
 LL FROM HERE
LOCATION:Martinez Court 9
END:VEVENT
BEGIN:VEVENT
DTSTAMP:20260419T000000Z
UID:d5f1e533-8973-4276-a25f-1618c745ed39@ClaytonBocce
DTSTART;TZID=America/Los_Angeles:20260614T170000
DTEND;TZID=America/Los_Angeles:20260614T193000
STATUS:CONFIRMED
SUMMARY:BOCCE CATS vs PALLINOS DEEP
URL:/League/Schedule/2925
DESCRIPTION:Regular Season match: BOCCE CATS vs PALLINOS DEE
 P
LOCATION:Martinez Court 1
END:VEVENT
BEGIN:VEVENT
DTSTAMP:20260419T000000Z
UID:878a5caf-e078-4a34-9cfd-b9c4433ea95a@ClaytonBocce
DTSTART;TZID=America/Los_Angeles:20260621T170000
DTEND;TZID=America/Los_Angeles:20260621T193000
STATUS:CONFIRMED
SUMMARY:BOCCE CATS vs PINEAPPLOUS
URL:/League/Schedule/2925
DESCRIPTION:Regular Season match: BOCCE CATS vs PINEAPPLOUS
LOCATION:Martinez Court 7
END:VEVENT
BEGIN:VEVENT
DTSTAMP:20260419T000000Z
UID:33a50b7b-f21e-4f64-86ba-97e26638a64d@ClaytonBocce
DTSTART;TZID=America/Los_Angeles:20260628T170000
DTEND;TZID=America/Los_Angeles:20260628T193000
STATUS:CONFIRMED
SUMMARY:BOCCE CATS vs LET'S ROLL
URL:/League/Schedule/2925
DESCRIPTION:Regular Season match: BOCCE CATS vs LET'S ROLL
LOCATION:Martinez Court 2
END:VEVENT
BEGIN:VEVENT
DTSTAMP:20260419T000000Z
UID:23a372cb-59f9-453b-8010-f3046e5efa70@ClaytonBocce
DTSTART;TZID=America/Los_Angeles:20260712T170000
DTEND;TZID=America/Los_Angeles:20260712T193000
STATUS:CONFIRMED
SUMMARY:BOCCE CATS vs TRAVELERS
URL:/League/Schedule/2925
DESCRIPTION:Regular Season match: BOCCE CATS vs TRAVELERS
LOCATION:Martinez Court 6
END:VEVENT
BEGIN:VEVENT
DTSTAMP:20260419T000000Z
UID:c3ac4578-88aa-40e1-8efd-6b0e5afd6c1e@ClaytonBocce
DTSTART;TZID=America/Los_Angeles:20260719T170000
DTEND;TZID=America/Los_Angeles:20260719T193000
STATUS:CONFIRMED
SUMMARY:BOCCE CATS vs WHAT-A-BIOCCE
URL:/League/Schedule/2925
DESCRIPTION:Regular Season match: BOCCE CATS vs WHAT-A-BIOCC
 E
LOCATION:Martinez Court 3
END:VEVENT
BEGIN:VEVENT
DTSTAMP:20260419T000000Z
UID:06ba56ce-6050-49b2-8db8-53dd9dd515ea@ClaytonBocce
DTSTART;TZID=America/Los_Angeles:20260726T170000
DTEND;TZID=America/Los_Angeles:20260726T193000
STATUS:CONFIRMED
SUMMARY:BOCCE CATS vs YOU CAN'T TELL FROM HERE
URL:/League/Schedule/2925
DESCRIPTION:Regular Season match: BOCCE CATS vs YOU CAN'T TE
 LL FROM HERE
LOCATION:Martinez Court 11
END:VEVENT
BEGIN:VEVENT
DTSTAMP:20260419T000000Z
UID:02c326d0-89cc-43af-b64d-1aad2b07ac29@ClaytonBocce
DTSTART;TZID=America/Los_Angeles:20260809T170000
DTEND;TZID=America/Los_Angeles:20260809T193000
STATUS:CONFIRMED
SUMMARY:BOCCE CATS vs PALLINOS DEEP
URL:/League/Schedule/2925
DESCRIPTION:Regular Season match: BOCCE CATS vs PALLINOS DEE
 P
LOCATION:Martinez Court 14
END:VEVENT
BEGIN:VEVENT
DTSTAMP:20260419T000000Z
UID:3ef6fbf6-3088-4e3c-87ea-32efde1d4361@ClaytonBocce
DTSTART;TZID=America/Los_Angeles:20260816T170000
DTEND;TZID=America/Los_Angeles:20260816T193000
STATUS:CONFIRMED
SUMMARY:BOCCE CATS vs PINEAPPLOUS
URL:/League/Schedule/2925
DESCRIPTION:Regular Season match: BOCCE CATS vs PINEAPPLOUS
LOCATION:Martinez Court 15
END:VEVENT
BEGIN:VEVENT
DTSTAMP:20260419T000000Z
UID:0b507708-2de4-4d14-a725-850c402004d2@ClaytonBocce
DTSTART;TZID=America/Los_Angeles:20260823T170000
DTEND;TZID=America/Los_Angeles:20260823T193000
STATUS:CONFIRMED
SUMMARY:BOCCE CATS vs LET'S ROLL
URL:/League/Schedule/2925
DESCRIPTION:Regular Season match: BOCCE CATS vs LET'S ROLL
LOCATION:Martinez Court 7
END:VEVENT
BEGIN:VEVENT
DTSTAMP:20260419T000000Z
UID:bdd6ff5b-be5d-4a43-a2f8-4ddc5654cc06@ClaytonBocce
DTSTART;TZID=America/Los_Angeles:20260830T170000
DTEND;TZID=America/Los_Angeles:20260830T193000
STATUS:CONFIRMED
SUMMARY:BOCCE CATS vs TRAVELERS
URL:/League/Schedule/2925
DESCRIPTION:Regular Season match: BOCCE CATS vs TRAVELERS
LOCATION:Martinez Court 10
END:VEVENT
BEGIN:VEVENT
DTSTAMP:20260419T000000Z
UID:0434fddc-1d33-4bc5-8be7-693f1f532249@ClaytonBocce
DTSTART;TZID=America/Los_Angeles:20260906T170000
DTEND;TZID=America/Los_Angeles:20260906T193000
STATUS:CONFIRMED
SUMMARY:BOCCE CATS vs WHAT-A-BIOCCE
URL:/League/Schedule/2925
DESCRIPTION:Regular Season match: BOCCE CATS vs WHAT-A-BIOCC
 E
LOCATION:Martinez Court 11
END:VEVENT
BEGIN:VEVENT
DTSTAMP:20260419T000000Z
UID:cdb2056a-dad6-4a11-ab7c-9569e42670ae@ClaytonBocce
DTSTART;TZID=America/Los_Angeles:20260913T170000
DTEND;TZID=America/Los_Angeles:20260913T193000
STATUS:CONFIRMED
SUMMARY:BOCCE CATS vs YOU CAN'T TELL FROM HERE
URL:/League/Schedule/2925
DESCRIPTION:Regular Season match: BOCCE CATS vs YOU CAN'T TE
 LL FROM HERE
LOCATION:Martinez Court 6
END:VEVENT
END:VCALENDAR
