BEGIN:VCALENDAR
VERSION:2.0
PRODID:-//Clayton Bocce League
METHOD:PUBLISH
BEGIN:VTIMEZONE
TZID:America/Los_Angeles
X-LIC-LOCATION:America/Los_Angeles
BEGIN:DAYLIGHT
TZOFFSETFROM:-0800
TZOFFSETTO:-0700
TZNAME:PDT
DTSTART:20070311T020000
RRULE:FREQ=YEARLY;BYMONTH=3;BYDAY=2SU
END:DAYLIGHT
BEGIN:STANDARD
TZOFFSETFROM:-0700
TZOFFSETTO:-0800
TZNAME:PST
DTSTART:20071104T020000
RRULE:FREQ=YEARLY;BYMONTH=11;BYDAY=1SU
END:STANDARD
END:VTIMEZONE
BEGIN:VEVENT
DTSTAMP:20260419T000000Z
UID:bda5637c-c914-4b83-80d3-fc82063815bf@ClaytonBocce
DTSTART;TZID=America/Los_Angeles:20260419T170000
DTEND;TZID=America/Los_Angeles:20260419T193000
STATUS:CONFIRMED
SUMMARY:PINEAPPLOUS vs BOCCE CATS
URL:/League/Schedule/2928
DESCRIPTION:Regular Season match: PINEAPPLOUS vs BOCCE CATS
LOCATION:Martinez Court 8
END:VEVENT
BEGIN:VEVENT
DTSTAMP:20260419T000000Z
UID:d787c8b3-0ff8-456a-af6e-c58093755e5f@ClaytonBocce
DTSTART;TZID=America/Los_Angeles:20260426T170000
DTEND;TZID=America/Los_Angeles:20260426T193000
STATUS:CONFIRMED
SUMMARY:PINEAPPLOUS vs YOU CAN'T TELL FROM HERE
URL:/League/Schedule/2928
DESCRIPTION:Regular Season match: PINEAPPLOUS vs YOU CAN'T T
 ELL FROM HERE
LOCATION:Martinez Court 12
END:VEVENT
BEGIN:VEVENT
DTSTAMP:20260419T000000Z
UID:b846b892-f573-40d2-8017-3a1ebe99a0da@ClaytonBocce
DTSTART;TZID=America/Los_Angeles:20260517T170000
DTEND;TZID=America/Los_Angeles:20260517T193000
STATUS:CONFIRMED
SUMMARY:PINEAPPLOUS vs TRAVELERS
URL:/League/Schedule/2928
DESCRIPTION:Regular Season match: PINEAPPLOUS vs TRAVELERS
LOCATION:Martinez Court 5
END:VEVENT
BEGIN:VEVENT
DTSTAMP:20260419T000000Z
UID:67d21895-d023-4a3b-b922-502a952f225b@ClaytonBocce
DTSTART;TZID=America/Los_Angeles:20260531T170000
DTEND;TZID=America/Los_Angeles:20260531T193000
STATUS:CONFIRMED
SUMMARY:PINEAPPLOUS vs PALLINOS DEEP
URL:/League/Schedule/2928
DESCRIPTION:Regular Season match: PINEAPPLOUS vs PALLINOS DE
 EP
LOCATION:Martinez Court 10
END:VEVENT
BEGIN:VEVENT
DTSTAMP:20260419T000000Z
UID:2aeb08d9-11a0-4200-9efe-2be0e425990c@ClaytonBocce
DTSTART;TZID=America/Los_Angeles:20260607T170000
DTEND;TZID=America/Los_Angeles:20260607T193000
STATUS:CONFIRMED
SUMMARY:PINEAPPLOUS vs LET'S ROLL
URL:/League/Schedule/2928
DESCRIPTION:Regular Season match: PINEAPPLOUS vs LET'S ROLL
LOCATION:Martinez Court 11
END:VEVENT
BEGIN:VEVENT
DTSTAMP:20260419T000000Z
UID:a42d23da-82dc-4118-acab-8a0c359f2248@ClaytonBocce
DTSTART;TZID=America/Los_Angeles:20260614T170000
DTEND;TZID=America/Los_Angeles:20260614T193000
STATUS:CONFIRMED
SUMMARY:PINEAPPLOUS vs WHAT-A-BIOCCE
URL:/League/Schedule/2928
DESCRIPTION:Regular Season match: PINEAPPLOUS vs WHAT-A-BIOC
 CE
LOCATION:Martinez Court 9
END:VEVENT
BEGIN:VEVENT
DTSTAMP:20260419T000000Z
UID:878a5caf-e078-4a34-9cfd-b9c4433ea95a@ClaytonBocce
DTSTART;TZID=America/Los_Angeles:20260621T170000
DTEND;TZID=America/Los_Angeles:20260621T193000
STATUS:CONFIRMED
SUMMARY:PINEAPPLOUS vs BOCCE CATS
URL:/League/Schedule/2928
DESCRIPTION:Regular Season match: PINEAPPLOUS vs BOCCE CATS
LOCATION:Martinez Court 7
END:VEVENT
BEGIN:VEVENT
DTSTAMP:20260419T000000Z
UID:b00c5a84-7202-49a4-8b39-29ebd0b19038@ClaytonBocce
DTSTART;TZID=America/Los_Angeles:20260628T170000
DTEND;TZID=America/Los_Angeles:20260628T193000
STATUS:CONFIRMED
SUMMARY:PINEAPPLOUS vs YOU CAN'T TELL FROM HERE
URL:/League/Schedule/2928
DESCRIPTION:Regular Season match: PINEAPPLOUS vs YOU CAN'T T
 ELL FROM HERE
LOCATION:Martinez Court 5
END:VEVENT
BEGIN:VEVENT
DTSTAMP:20260419T000000Z
UID:e4adf01b-cbcd-43d6-a811-bafb09f08265@ClaytonBocce
DTSTART;TZID=America/Los_Angeles:20260719T170000
DTEND;TZID=America/Los_Angeles:20260719T193000
STATUS:CONFIRMED
SUMMARY:PINEAPPLOUS vs TRAVELERS
URL:/League/Schedule/2928
DESCRIPTION:Regular Season match: PINEAPPLOUS vs TRAVELERS
LOCATION:Martinez Court 13
END:VEVENT
BEGIN:VEVENT
DTSTAMP:20260419T000000Z
UID:d6237be9-9a0c-447b-8ea7-9a4fe9180dce@ClaytonBocce
DTSTART;TZID=America/Los_Angeles:20260726T170000
DTEND;TZID=America/Los_Angeles:20260726T193000
STATUS:CONFIRMED
SUMMARY:PINEAPPLOUS vs PALLINOS DEEP
URL:/League/Schedule/2928
DESCRIPTION:Regular Season match: PINEAPPLOUS vs PALLINOS DE
 EP
LOCATION:Martinez Court 1
END:VEVENT
BEGIN:VEVENT
DTSTAMP:20260419T000000Z
UID:e569ee73-6a41-4830-a7bb-2688d9b7e348@ClaytonBocce
DTSTART;TZID=America/Los_Angeles:20260802T170000
DTEND;TZID=America/Los_Angeles:20260802T193000
STATUS:CONFIRMED
SUMMARY:PINEAPPLOUS vs LET'S ROLL
URL:/League/Schedule/2928
DESCRIPTION:Regular Season match: PINEAPPLOUS vs LET'S ROLL
LOCATION:Martinez Court 2
END:VEVENT
BEGIN:VEVENT
DTSTAMP:20260419T000000Z
UID:50429ab6-1fb0-4336-b3e2-43049d4203a2@ClaytonBocce
DTSTART;TZID=America/Los_Angeles:20260809T170000
DTEND;TZID=America/Los_Angeles:20260809T193000
STATUS:CONFIRMED
SUMMARY:PINEAPPLOUS vs WHAT-A-BIOCCE
URL:/League/Schedule/2928
DESCRIPTION:Regular Season match: PINEAPPLOUS vs WHAT-A-BIOC
 CE
LOCATION:Martinez Court 8
END:VEVENT
BEGIN:VEVENT
DTSTAMP:20260419T000000Z
UID:3ef6fbf6-3088-4e3c-87ea-32efde1d4361@ClaytonBocce
DTSTART;TZID=America/Los_Angeles:20260816T170000
DTEND;TZID=America/Los_Angeles:20260816T193000
STATUS:CONFIRMED
SUMMARY:PINEAPPLOUS vs BOCCE CATS
URL:/League/Schedule/2928
DESCRIPTION:Regular Season match: PINEAPPLOUS vs BOCCE CATS
LOCATION:Martinez Court 15
END:VEVENT
BEGIN:VEVENT
DTSTAMP:20260419T000000Z
UID:0b04c147-ec97-48a7-af96-e34aa1fe3d7d@ClaytonBocce
DTSTART;TZID=America/Los_Angeles:20260823T170000
DTEND;TZID=America/Los_Angeles:20260823T193000
STATUS:CONFIRMED
SUMMARY:PINEAPPLOUS vs YOU CAN'T TELL FROM HERE
URL:/League/Schedule/2928
DESCRIPTION:Regular Season match: PINEAPPLOUS vs YOU CAN'T T
 ELL FROM HERE
LOCATION:Martinez Court 12
END:VEVENT
BEGIN:VEVENT
DTSTAMP:20260419T000000Z
UID:0d04ad0e-b62b-4416-a58c-c1f309099e65@ClaytonBocce
DTSTART;TZID=America/Los_Angeles:20260906T170000
DTEND;TZID=America/Los_Angeles:20260906T193000
STATUS:CONFIRMED
SUMMARY:PINEAPPLOUS vs TRAVELERS
URL:/League/Schedule/2928
DESCRIPTION:Regular Season match: PINEAPPLOUS vs TRAVELERS
LOCATION:Martinez Court 9
END:VEVENT
BEGIN:VEVENT
DTSTAMP:20260419T000000Z
UID:dd678fe1-189b-4f7f-b865-5c50d3d4b7bc@ClaytonBocce
DTSTART;TZID=America/Los_Angeles:20260913T170000
DTEND;TZID=America/Los_Angeles:20260913T193000
STATUS:CONFIRMED
SUMMARY:PINEAPPLOUS vs PALLINOS DEEP
URL:/League/Schedule/2928
DESCRIPTION:Regular Season match: PINEAPPLOUS vs PALLINOS DE
 EP
LOCATION:Martinez Court 3
END:VEVENT
BEGIN:VEVENT
DTSTAMP:20260419T000000Z
UID:f76629e8-6c0f-4da8-bac5-5a80ab3f7ef8@ClaytonBocce
DTSTART;TZID=America/Los_Angeles:20260920T170000
DTEND;TZID=America/Los_Angeles:20260920T193000
STATUS:CONFIRMED
SUMMARY:PINEAPPLOUS vs LET'S ROLL
URL:/League/Schedule/2928
DESCRIPTION:Regular Season match: PINEAPPLOUS vs LET'S ROLL
LOCATION:Martinez Court 10
END:VEVENT
END:VCALENDAR
