BEGIN:VCALENDAR
VERSION:2.0
PRODID:-//Clayton Bocce League
METHOD:PUBLISH
BEGIN:VTIMEZONE
TZID:America/Los_Angeles
X-LIC-LOCATION:America/Los_Angeles
BEGIN:DAYLIGHT
TZOFFSETFROM:-0800
TZOFFSETTO:-0700
TZNAME:PDT
DTSTART:20070311T020000
RRULE:FREQ=YEARLY;BYMONTH=3;BYDAY=2SU
END:DAYLIGHT
BEGIN:STANDARD
TZOFFSETFROM:-0700
TZOFFSETTO:-0800
TZNAME:PST
DTSTART:20071104T020000
RRULE:FREQ=YEARLY;BYMONTH=11;BYDAY=1SU
END:STANDARD
END:VTIMEZONE
BEGIN:VEVENT
DTSTAMP:20260419T000000Z
UID:bb6dfa91-2bae-4517-8190-9d950d3c12d0@ClaytonBocce
DTSTART;TZID=America/Los_Angeles:20260419T170000
DTEND;TZID=America/Los_Angeles:20260419T193000
STATUS:CONFIRMED
SUMMARY:YOU CAN'T TELL FROM HERE vs TRAVELERS
URL:/League/Schedule/2924
DESCRIPTION:Regular Season match: YOU CAN'T TELL FROM HERE v
 s TRAVELERS
LOCATION:Martinez Court 7
END:VEVENT
BEGIN:VEVENT
DTSTAMP:20260419T000000Z
UID:d787c8b3-0ff8-456a-af6e-c58093755e5f@ClaytonBocce
DTSTART;TZID=America/Los_Angeles:20260426T170000
DTEND;TZID=America/Los_Angeles:20260426T193000
STATUS:CONFIRMED
SUMMARY:YOU CAN'T TELL FROM HERE vs PINEAPPLOUS
URL:/League/Schedule/2924
DESCRIPTION:Regular Season match: YOU CAN'T TELL FROM HERE v
 s PINEAPPLOUS
LOCATION:Martinez Court 12
END:VEVENT
BEGIN:VEVENT
DTSTAMP:20260419T000000Z
UID:b3c5e818-3eb9-4826-b924-d0afdfe92a11@ClaytonBocce
DTSTART;TZID=America/Los_Angeles:20260503T170000
DTEND;TZID=America/Los_Angeles:20260503T193000
STATUS:CONFIRMED
SUMMARY:YOU CAN'T TELL FROM HERE vs PALLINOS DEEP
URL:/League/Schedule/2924
DESCRIPTION:Regular Season match: YOU CAN'T TELL FROM HERE v
 s PALLINOS DEEP
LOCATION:Martinez Court 2
END:VEVENT
BEGIN:VEVENT
DTSTAMP:20260419T000000Z
UID:d8520f06-05a2-497a-9b26-2bd9e96b36e5@ClaytonBocce
DTSTART;TZID=America/Los_Angeles:20260517T170000
DTEND;TZID=America/Los_Angeles:20260517T193000
STATUS:CONFIRMED
SUMMARY:YOU CAN'T TELL FROM HERE vs LET'S ROLL
URL:/League/Schedule/2924
DESCRIPTION:Regular Season match: YOU CAN'T TELL FROM HERE v
 s LET'S ROLL
LOCATION:Martinez Court 6
END:VEVENT
BEGIN:VEVENT
DTSTAMP:20260419T000000Z
UID:921bdd85-6ba1-42a5-8ce9-13e8509af8cf@ClaytonBocce
DTSTART;TZID=America/Los_Angeles:20260531T170000
DTEND;TZID=America/Los_Angeles:20260531T193000
STATUS:CONFIRMED
SUMMARY:YOU CAN'T TELL FROM HERE vs BOCCE CATS
URL:/League/Schedule/2924
DESCRIPTION:Regular Season match: YOU CAN'T TELL FROM HERE v
 s BOCCE CATS
LOCATION:Martinez Court 9
END:VEVENT
BEGIN:VEVENT
DTSTAMP:20260419T000000Z
UID:506e7767-6792-40bb-8635-a1565cc1ab28@ClaytonBocce
DTSTART;TZID=America/Los_Angeles:20260607T170000
DTEND;TZID=America/Los_Angeles:20260607T193000
STATUS:CONFIRMED
SUMMARY:YOU CAN'T TELL FROM HERE vs WHAT-A-BIOCCE
URL:/League/Schedule/2924
DESCRIPTION:Regular Season match: YOU CAN'T TELL FROM HERE v
 s WHAT-A-BIOCCE
LOCATION:Martinez Court 10
END:VEVENT
BEGIN:VEVENT
DTSTAMP:20260419T000000Z
UID:b6f9910b-dcf0-48cb-8f04-f21e5a84f066@ClaytonBocce
DTSTART;TZID=America/Los_Angeles:20260621T170000
DTEND;TZID=America/Los_Angeles:20260621T193000
STATUS:CONFIRMED
SUMMARY:YOU CAN'T TELL FROM HERE vs TRAVELERS
URL:/League/Schedule/2924
DESCRIPTION:Regular Season match: YOU CAN'T TELL FROM HERE v
 s TRAVELERS
LOCATION:Martinez Court 3
END:VEVENT
BEGIN:VEVENT
DTSTAMP:20260419T000000Z
UID:b00c5a84-7202-49a4-8b39-29ebd0b19038@ClaytonBocce
DTSTART;TZID=America/Los_Angeles:20260628T170000
DTEND;TZID=America/Los_Angeles:20260628T193000
STATUS:CONFIRMED
SUMMARY:YOU CAN'T TELL FROM HERE vs PINEAPPLOUS
URL:/League/Schedule/2924
DESCRIPTION:Regular Season match: YOU CAN'T TELL FROM HERE v
 s PINEAPPLOUS
LOCATION:Martinez Court 5
END:VEVENT
BEGIN:VEVENT
DTSTAMP:20260419T000000Z
UID:69e9894d-f3ed-487e-8d57-a7d8d6579d72@ClaytonBocce
DTSTART;TZID=America/Los_Angeles:20260712T170000
DTEND;TZID=America/Los_Angeles:20260712T193000
STATUS:CONFIRMED
SUMMARY:YOU CAN'T TELL FROM HERE vs PALLINOS DEEP
URL:/League/Schedule/2924
DESCRIPTION:Regular Season match: YOU CAN'T TELL FROM HERE v
 s PALLINOS DEEP
LOCATION:Martinez Court 4
END:VEVENT
BEGIN:VEVENT
DTSTAMP:20260419T000000Z
UID:61b57b17-16d4-4796-8bef-70353ca55a1f@ClaytonBocce
DTSTART;TZID=America/Los_Angeles:20260719T170000
DTEND;TZID=America/Los_Angeles:20260719T193000
STATUS:CONFIRMED
SUMMARY:YOU CAN'T TELL FROM HERE vs LET'S ROLL
URL:/League/Schedule/2924
DESCRIPTION:Regular Season match: YOU CAN'T TELL FROM HERE v
 s LET'S ROLL
LOCATION:Martinez Court 14
END:VEVENT
BEGIN:VEVENT
DTSTAMP:20260419T000000Z
UID:06ba56ce-6050-49b2-8db8-53dd9dd515ea@ClaytonBocce
DTSTART;TZID=America/Los_Angeles:20260726T170000
DTEND;TZID=America/Los_Angeles:20260726T193000
STATUS:CONFIRMED
SUMMARY:YOU CAN'T TELL FROM HERE vs BOCCE CATS
URL:/League/Schedule/2924
DESCRIPTION:Regular Season match: YOU CAN'T TELL FROM HERE v
 s BOCCE CATS
LOCATION:Martinez Court 11
END:VEVENT
BEGIN:VEVENT
DTSTAMP:20260419T000000Z
UID:16ae5051-2b8d-49df-ba9d-62c151c66757@ClaytonBocce
DTSTART;TZID=America/Los_Angeles:20260802T170000
DTEND;TZID=America/Los_Angeles:20260802T193000
STATUS:CONFIRMED
SUMMARY:YOU CAN'T TELL FROM HERE vs WHAT-A-BIOCCE
URL:/League/Schedule/2924
DESCRIPTION:Regular Season match: YOU CAN'T TELL FROM HERE v
 s WHAT-A-BIOCCE
LOCATION:Martinez Court 13
END:VEVENT
BEGIN:VEVENT
DTSTAMP:20260419T000000Z
UID:d60b2fe9-186e-4c38-b265-92a92f447a85@ClaytonBocce
DTSTART;TZID=America/Los_Angeles:20260816T170000
DTEND;TZID=America/Los_Angeles:20260816T193000
STATUS:CONFIRMED
SUMMARY:YOU CAN'T TELL FROM HERE vs TRAVELERS
URL:/League/Schedule/2924
DESCRIPTION:Regular Season match: YOU CAN'T TELL FROM HERE v
 s TRAVELERS
LOCATION:Martinez Court 14
END:VEVENT
BEGIN:VEVENT
DTSTAMP:20260419T000000Z
UID:0b04c147-ec97-48a7-af96-e34aa1fe3d7d@ClaytonBocce
DTSTART;TZID=America/Los_Angeles:20260823T170000
DTEND;TZID=America/Los_Angeles:20260823T193000
STATUS:CONFIRMED
SUMMARY:YOU CAN'T TELL FROM HERE vs PINEAPPLOUS
URL:/League/Schedule/2924
DESCRIPTION:Regular Season match: YOU CAN'T TELL FROM HERE v
 s PINEAPPLOUS
LOCATION:Martinez Court 12
END:VEVENT
BEGIN:VEVENT
DTSTAMP:20260419T000000Z
UID:a7d00614-5039-477b-951c-2ddf5aec1765@ClaytonBocce
DTSTART;TZID=America/Los_Angeles:20260830T170000
DTEND;TZID=America/Los_Angeles:20260830T193000
STATUS:CONFIRMED
SUMMARY:YOU CAN'T TELL FROM HERE vs PALLINOS DEEP
URL:/League/Schedule/2924
DESCRIPTION:Regular Season match: YOU CAN'T TELL FROM HERE v
 s PALLINOS DEEP
LOCATION:Martinez Court 15
END:VEVENT
BEGIN:VEVENT
DTSTAMP:20260419T000000Z
UID:7a22d6dd-760b-424d-a52c-11dce29c8330@ClaytonBocce
DTSTART;TZID=America/Los_Angeles:20260906T170000
DTEND;TZID=America/Los_Angeles:20260906T193000
STATUS:CONFIRMED
SUMMARY:YOU CAN'T TELL FROM HERE vs LET'S ROLL
URL:/League/Schedule/2924
DESCRIPTION:Regular Season match: YOU CAN'T TELL FROM HERE v
 s LET'S ROLL
LOCATION:Martinez Court 5
END:VEVENT
BEGIN:VEVENT
DTSTAMP:20260419T000000Z
UID:cdb2056a-dad6-4a11-ab7c-9569e42670ae@ClaytonBocce
DTSTART;TZID=America/Los_Angeles:20260913T170000
DTEND;TZID=America/Los_Angeles:20260913T193000
STATUS:CONFIRMED
SUMMARY:YOU CAN'T TELL FROM HERE vs BOCCE CATS
URL:/League/Schedule/2924
DESCRIPTION:Regular Season match: YOU CAN'T TELL FROM HERE v
 s BOCCE CATS
LOCATION:Martinez Court 6
END:VEVENT
BEGIN:VEVENT
DTSTAMP:20260419T000000Z
UID:77b04598-7239-4416-ad27-67cc5c37d73e@ClaytonBocce
DTSTART;TZID=America/Los_Angeles:20260920T170000
DTEND;TZID=America/Los_Angeles:20260920T193000
STATUS:CONFIRMED
SUMMARY:YOU CAN'T TELL FROM HERE vs WHAT-A-BIOCCE
URL:/League/Schedule/2924
DESCRIPTION:Regular Season match: YOU CAN'T TELL FROM HERE v
 s WHAT-A-BIOCCE
LOCATION:Martinez Court 1
END:VEVENT
END:VCALENDAR
