BEGIN:VCALENDAR
VERSION:2.0
PRODID:-//Clayton Bocce League
METHOD:PUBLISH
BEGIN:VTIMEZONE
TZID:America/Los_Angeles
X-LIC-LOCATION:America/Los_Angeles
BEGIN:DAYLIGHT
TZOFFSETFROM:-0800
TZOFFSETTO:-0700
TZNAME:PDT
DTSTART:20070311T020000
RRULE:FREQ=YEARLY;BYMONTH=3;BYDAY=2SU
END:DAYLIGHT
BEGIN:STANDARD
TZOFFSETFROM:-0700
TZOFFSETTO:-0800
TZNAME:PST
DTSTART:20071104T020000
RRULE:FREQ=YEARLY;BYMONTH=11;BYDAY=1SU
END:STANDARD
END:VTIMEZONE
BEGIN:VEVENT
DTSTAMP:20260419T000000Z
UID:bb6dfa91-2bae-4517-8190-9d950d3c12d0@ClaytonBocce
DTSTART;TZID=America/Los_Angeles:20260419T170000
DTEND;TZID=America/Los_Angeles:20260419T193000
STATUS:CONFIRMED
SUMMARY:TRAVELERS vs YOU CAN'T TELL FROM HERE
URL:/League/Schedule/2929
DESCRIPTION:Regular Season match: TRAVELERS vs YOU CAN'T TEL
 L FROM HERE
LOCATION:Martinez Court 7
END:VEVENT
BEGIN:VEVENT
DTSTAMP:20260419T000000Z
UID:f606bfdc-d01c-4160-b4ab-3a8ad427fe37@ClaytonBocce
DTSTART;TZID=America/Los_Angeles:20260503T170000
DTEND;TZID=America/Los_Angeles:20260503T193000
STATUS:CONFIRMED
SUMMARY:TRAVELERS vs BOCCE CATS
URL:/League/Schedule/2929
DESCRIPTION:Regular Season match: TRAVELERS vs BOCCE CATS
LOCATION:Martinez Court 4
END:VEVENT
BEGIN:VEVENT
DTSTAMP:20260419T000000Z
UID:b846b892-f573-40d2-8017-3a1ebe99a0da@ClaytonBocce
DTSTART;TZID=America/Los_Angeles:20260517T170000
DTEND;TZID=America/Los_Angeles:20260517T193000
STATUS:CONFIRMED
SUMMARY:TRAVELERS vs PINEAPPLOUS
URL:/League/Schedule/2929
DESCRIPTION:Regular Season match: TRAVELERS vs PINEAPPLOUS
LOCATION:Martinez Court 5
END:VEVENT
BEGIN:VEVENT
DTSTAMP:20260419T000000Z
UID:ee5f2920-33f5-48c1-996b-983d939c3337@ClaytonBocce
DTSTART;TZID=America/Los_Angeles:20260531T170000
DTEND;TZID=America/Los_Angeles:20260531T193000
STATUS:CONFIRMED
SUMMARY:TRAVELERS vs WHAT-A-BIOCCE
URL:/League/Schedule/2929
DESCRIPTION:Regular Season match: TRAVELERS vs WHAT-A-BIOCCE
LOCATION:Martinez Court 11
END:VEVENT
BEGIN:VEVENT
DTSTAMP:20260419T000000Z
UID:83473ca3-954b-4c51-9deb-e150d0490444@ClaytonBocce
DTSTART;TZID=America/Los_Angeles:20260607T170000
DTEND;TZID=America/Los_Angeles:20260607T193000
STATUS:CONFIRMED
SUMMARY:TRAVELERS vs PALLINOS DEEP
URL:/League/Schedule/2929
DESCRIPTION:Regular Season match: TRAVELERS vs PALLINOS DEEP
LOCATION:Martinez Court 12
END:VEVENT
BEGIN:VEVENT
DTSTAMP:20260419T000000Z
UID:90ccfe98-085d-4441-a431-de7acf782843@ClaytonBocce
DTSTART;TZID=America/Los_Angeles:20260614T170000
DTEND;TZID=America/Los_Angeles:20260614T193000
STATUS:CONFIRMED
SUMMARY:TRAVELERS vs LET'S ROLL
URL:/League/Schedule/2929
DESCRIPTION:Regular Season match: TRAVELERS vs LET'S ROLL
LOCATION:Martinez Court 15
END:VEVENT
BEGIN:VEVENT
DTSTAMP:20260419T000000Z
UID:b6f9910b-dcf0-48cb-8f04-f21e5a84f066@ClaytonBocce
DTSTART;TZID=America/Los_Angeles:20260621T170000
DTEND;TZID=America/Los_Angeles:20260621T193000
STATUS:CONFIRMED
SUMMARY:TRAVELERS vs YOU CAN'T TELL FROM HERE
URL:/League/Schedule/2929
DESCRIPTION:Regular Season match: TRAVELERS vs YOU CAN'T TEL
 L FROM HERE
LOCATION:Martinez Court 3
END:VEVENT
BEGIN:VEVENT
DTSTAMP:20260419T000000Z
UID:23a372cb-59f9-453b-8010-f3046e5efa70@ClaytonBocce
DTSTART;TZID=America/Los_Angeles:20260712T170000
DTEND;TZID=America/Los_Angeles:20260712T193000
STATUS:CONFIRMED
SUMMARY:TRAVELERS vs BOCCE CATS
URL:/League/Schedule/2929
DESCRIPTION:Regular Season match: TRAVELERS vs BOCCE CATS
LOCATION:Martinez Court 6
END:VEVENT
BEGIN:VEVENT
DTSTAMP:20260419T000000Z
UID:e4adf01b-cbcd-43d6-a811-bafb09f08265@ClaytonBocce
DTSTART;TZID=America/Los_Angeles:20260719T170000
DTEND;TZID=America/Los_Angeles:20260719T193000
STATUS:CONFIRMED
SUMMARY:TRAVELERS vs PINEAPPLOUS
URL:/League/Schedule/2929
DESCRIPTION:Regular Season match: TRAVELERS vs PINEAPPLOUS
LOCATION:Martinez Court 13
END:VEVENT
BEGIN:VEVENT
DTSTAMP:20260419T000000Z
UID:faec56b1-819f-4b7e-996f-4a53b9aca61a@ClaytonBocce
DTSTART;TZID=America/Los_Angeles:20260726T170000
DTEND;TZID=America/Los_Angeles:20260726T193000
STATUS:CONFIRMED
SUMMARY:TRAVELERS vs WHAT-A-BIOCCE
URL:/League/Schedule/2929
DESCRIPTION:Regular Season match: TRAVELERS vs WHAT-A-BIOCCE
LOCATION:Martinez Court 15
END:VEVENT
BEGIN:VEVENT
DTSTAMP:20260419T000000Z
UID:9b1a8d81-2bdd-45da-9a80-0eb7c112d020@ClaytonBocce
DTSTART;TZID=America/Los_Angeles:20260802T170000
DTEND;TZID=America/Los_Angeles:20260802T193000
STATUS:CONFIRMED
SUMMARY:TRAVELERS vs PALLINOS DEEP
URL:/League/Schedule/2929
DESCRIPTION:Regular Season match: TRAVELERS vs PALLINOS DEEP
LOCATION:Martinez Court 11
END:VEVENT
BEGIN:VEVENT
DTSTAMP:20260419T000000Z
UID:34729b8c-02d4-4a35-8db6-32a3c75ad811@ClaytonBocce
DTSTART;TZID=America/Los_Angeles:20260809T170000
DTEND;TZID=America/Los_Angeles:20260809T193000
STATUS:CONFIRMED
SUMMARY:TRAVELERS vs LET'S ROLL
URL:/League/Schedule/2929
DESCRIPTION:Regular Season match: TRAVELERS vs LET'S ROLL
LOCATION:Martinez Court 1
END:VEVENT
BEGIN:VEVENT
DTSTAMP:20260419T000000Z
UID:d60b2fe9-186e-4c38-b265-92a92f447a85@ClaytonBocce
DTSTART;TZID=America/Los_Angeles:20260816T170000
DTEND;TZID=America/Los_Angeles:20260816T193000
STATUS:CONFIRMED
SUMMARY:TRAVELERS vs YOU CAN'T TELL FROM HERE
URL:/League/Schedule/2929
DESCRIPTION:Regular Season match: TRAVELERS vs YOU CAN'T TEL
 L FROM HERE
LOCATION:Martinez Court 14
END:VEVENT
BEGIN:VEVENT
DTSTAMP:20260419T000000Z
UID:bdd6ff5b-be5d-4a43-a2f8-4ddc5654cc06@ClaytonBocce
DTSTART;TZID=America/Los_Angeles:20260830T170000
DTEND;TZID=America/Los_Angeles:20260830T193000
STATUS:CONFIRMED
SUMMARY:TRAVELERS vs BOCCE CATS
URL:/League/Schedule/2929
DESCRIPTION:Regular Season match: TRAVELERS vs BOCCE CATS
LOCATION:Martinez Court 10
END:VEVENT
BEGIN:VEVENT
DTSTAMP:20260419T000000Z
UID:0d04ad0e-b62b-4416-a58c-c1f309099e65@ClaytonBocce
DTSTART;TZID=America/Los_Angeles:20260906T170000
DTEND;TZID=America/Los_Angeles:20260906T193000
STATUS:CONFIRMED
SUMMARY:TRAVELERS vs PINEAPPLOUS
URL:/League/Schedule/2929
DESCRIPTION:Regular Season match: TRAVELERS vs PINEAPPLOUS
LOCATION:Martinez Court 9
END:VEVENT
BEGIN:VEVENT
DTSTAMP:20260419T000000Z
UID:bbda5ba3-5fdf-4282-8a40-75e2db253300@ClaytonBocce
DTSTART;TZID=America/Los_Angeles:20260913T170000
DTEND;TZID=America/Los_Angeles:20260913T193000
STATUS:CONFIRMED
SUMMARY:TRAVELERS vs WHAT-A-BIOCCE
URL:/League/Schedule/2929
DESCRIPTION:Regular Season match: TRAVELERS vs WHAT-A-BIOCCE
LOCATION:Martinez Court 5
END:VEVENT
BEGIN:VEVENT
DTSTAMP:20260419T000000Z
UID:02eb5acc-82d1-416c-8405-7cfcca804289@ClaytonBocce
DTSTART;TZID=America/Los_Angeles:20260920T170000
DTEND;TZID=America/Los_Angeles:20260920T193000
STATUS:CONFIRMED
SUMMARY:TRAVELERS vs PALLINOS DEEP
URL:/League/Schedule/2929
DESCRIPTION:Regular Season match: TRAVELERS vs PALLINOS DEEP
LOCATION:Martinez Court 8
END:VEVENT
END:VCALENDAR
