BEGIN:VCALENDAR
VERSION:2.0
PRODID:-//Clayton Bocce League
METHOD:PUBLISH
BEGIN:VTIMEZONE
TZID:America/Los_Angeles
X-LIC-LOCATION:America/Los_Angeles
BEGIN:DAYLIGHT
TZOFFSETFROM:-0800
TZOFFSETTO:-0700
TZNAME:PDT
DTSTART:20070311T020000
RRULE:FREQ=YEARLY;BYMONTH=3;BYDAY=2SU
END:DAYLIGHT
BEGIN:STANDARD
TZOFFSETFROM:-0700
TZOFFSETTO:-0800
TZNAME:PST
DTSTART:20071104T020000
RRULE:FREQ=YEARLY;BYMONTH=11;BYDAY=1SU
END:STANDARD
END:VTIMEZONE
BEGIN:VEVENT
DTSTAMP:20260419T000000Z
UID:aaba8dcc-7069-47fc-8c59-5f4ede67555b@ClaytonBocce
DTSTART;TZID=America/Los_Angeles:20260419T170000
DTEND;TZID=America/Los_Angeles:20260419T193000
STATUS:CONFIRMED
SUMMARY:LET'S ROLL vs PALLINOS DEEP
URL:/League/Schedule/2926
DESCRIPTION:Regular Season match: LET'S ROLL vs PALLINOS DEE
 P
LOCATION:Martinez Court 9
END:VEVENT
BEGIN:VEVENT
DTSTAMP:20260419T000000Z
UID:7c153d2a-b8ce-4cdb-a637-96a1cb557793@ClaytonBocce
DTSTART;TZID=America/Los_Angeles:20260426T170000
DTEND;TZID=America/Los_Angeles:20260426T193000
STATUS:CONFIRMED
SUMMARY:LET'S ROLL vs BOCCE CATS
URL:/League/Schedule/2926
DESCRIPTION:Regular Season match: LET'S ROLL vs BOCCE CATS
LOCATION:Martinez Court 13
END:VEVENT
BEGIN:VEVENT
DTSTAMP:20260419T000000Z
UID:c946956c-4f1e-43c8-90cd-89a111a3ac91@ClaytonBocce
DTSTART;TZID=America/Los_Angeles:20260503T170000
DTEND;TZID=America/Los_Angeles:20260503T193000
STATUS:CONFIRMED
SUMMARY:LET'S ROLL vs WHAT-A-BIOCCE
URL:/League/Schedule/2926
DESCRIPTION:Regular Season match: LET'S ROLL vs WHAT-A-BIOCC
 E
LOCATION:Martinez Court 3
END:VEVENT
BEGIN:VEVENT
DTSTAMP:20260419T000000Z
UID:d8520f06-05a2-497a-9b26-2bd9e96b36e5@ClaytonBocce
DTSTART;TZID=America/Los_Angeles:20260517T170000
DTEND;TZID=America/Los_Angeles:20260517T193000
STATUS:CONFIRMED
SUMMARY:LET'S ROLL vs YOU CAN'T TELL FROM HERE
URL:/League/Schedule/2926
DESCRIPTION:Regular Season match: LET'S ROLL vs YOU CAN'T TE
 LL FROM HERE
LOCATION:Martinez Court 6
END:VEVENT
BEGIN:VEVENT
DTSTAMP:20260419T000000Z
UID:2aeb08d9-11a0-4200-9efe-2be0e425990c@ClaytonBocce
DTSTART;TZID=America/Los_Angeles:20260607T170000
DTEND;TZID=America/Los_Angeles:20260607T193000
STATUS:CONFIRMED
SUMMARY:LET'S ROLL vs PINEAPPLOUS
URL:/League/Schedule/2926
DESCRIPTION:Regular Season match: LET'S ROLL vs PINEAPPLOUS
LOCATION:Martinez Court 11
END:VEVENT
BEGIN:VEVENT
DTSTAMP:20260419T000000Z
UID:90ccfe98-085d-4441-a431-de7acf782843@ClaytonBocce
DTSTART;TZID=America/Los_Angeles:20260614T170000
DTEND;TZID=America/Los_Angeles:20260614T193000
STATUS:CONFIRMED
SUMMARY:LET'S ROLL vs TRAVELERS
URL:/League/Schedule/2926
DESCRIPTION:Regular Season match: LET'S ROLL vs TRAVELERS
LOCATION:Martinez Court 15
END:VEVENT
BEGIN:VEVENT
DTSTAMP:20260419T000000Z
UID:b3cb2ab5-74e5-43c3-8ce1-36ac0bc89d62@ClaytonBocce
DTSTART;TZID=America/Los_Angeles:20260621T170000
DTEND;TZID=America/Los_Angeles:20260621T193000
STATUS:CONFIRMED
SUMMARY:LET'S ROLL vs PALLINOS DEEP
URL:/League/Schedule/2926
DESCRIPTION:Regular Season match: LET'S ROLL vs PALLINOS DEE
 P
LOCATION:Martinez Court 6
END:VEVENT
BEGIN:VEVENT
DTSTAMP:20260419T000000Z
UID:33a50b7b-f21e-4f64-86ba-97e26638a64d@ClaytonBocce
DTSTART;TZID=America/Los_Angeles:20260628T170000
DTEND;TZID=America/Los_Angeles:20260628T193000
STATUS:CONFIRMED
SUMMARY:LET'S ROLL vs BOCCE CATS
URL:/League/Schedule/2926
DESCRIPTION:Regular Season match: LET'S ROLL vs BOCCE CATS
LOCATION:Martinez Court 2
END:VEVENT
BEGIN:VEVENT
DTSTAMP:20260419T000000Z
UID:128c0481-7cc3-4ec0-ba3d-a3f632c57493@ClaytonBocce
DTSTART;TZID=America/Los_Angeles:20260712T170000
DTEND;TZID=America/Los_Angeles:20260712T193000
STATUS:CONFIRMED
SUMMARY:LET'S ROLL vs WHAT-A-BIOCCE
URL:/League/Schedule/2926
DESCRIPTION:Regular Season match: LET'S ROLL vs WHAT-A-BIOCC
 E
LOCATION:Martinez Court 5
END:VEVENT
BEGIN:VEVENT
DTSTAMP:20260419T000000Z
UID:61b57b17-16d4-4796-8bef-70353ca55a1f@ClaytonBocce
DTSTART;TZID=America/Los_Angeles:20260719T170000
DTEND;TZID=America/Los_Angeles:20260719T193000
STATUS:CONFIRMED
SUMMARY:LET'S ROLL vs YOU CAN'T TELL FROM HERE
URL:/League/Schedule/2926
DESCRIPTION:Regular Season match: LET'S ROLL vs YOU CAN'T TE
 LL FROM HERE
LOCATION:Martinez Court 14
END:VEVENT
BEGIN:VEVENT
DTSTAMP:20260419T000000Z
UID:e569ee73-6a41-4830-a7bb-2688d9b7e348@ClaytonBocce
DTSTART;TZID=America/Los_Angeles:20260802T170000
DTEND;TZID=America/Los_Angeles:20260802T193000
STATUS:CONFIRMED
SUMMARY:LET'S ROLL vs PINEAPPLOUS
URL:/League/Schedule/2926
DESCRIPTION:Regular Season match: LET'S ROLL vs PINEAPPLOUS
LOCATION:Martinez Court 2
END:VEVENT
BEGIN:VEVENT
DTSTAMP:20260419T000000Z
UID:34729b8c-02d4-4a35-8db6-32a3c75ad811@ClaytonBocce
DTSTART;TZID=America/Los_Angeles:20260809T170000
DTEND;TZID=America/Los_Angeles:20260809T193000
STATUS:CONFIRMED
SUMMARY:LET'S ROLL vs TRAVELERS
URL:/League/Schedule/2926
DESCRIPTION:Regular Season match: LET'S ROLL vs TRAVELERS
LOCATION:Martinez Court 1
END:VEVENT
BEGIN:VEVENT
DTSTAMP:20260419T000000Z
UID:29cfa740-9527-4f32-9953-383502116ab7@ClaytonBocce
DTSTART;TZID=America/Los_Angeles:20260816T170000
DTEND;TZID=America/Los_Angeles:20260816T193000
STATUS:CONFIRMED
SUMMARY:LET'S ROLL vs PALLINOS DEEP
URL:/League/Schedule/2926
DESCRIPTION:Regular Season match: LET'S ROLL vs PALLINOS DEE
 P
LOCATION:Martinez Court 13
END:VEVENT
BEGIN:VEVENT
DTSTAMP:20260419T000000Z
UID:0b507708-2de4-4d14-a725-850c402004d2@ClaytonBocce
DTSTART;TZID=America/Los_Angeles:20260823T170000
DTEND;TZID=America/Los_Angeles:20260823T193000
STATUS:CONFIRMED
SUMMARY:LET'S ROLL vs BOCCE CATS
URL:/League/Schedule/2926
DESCRIPTION:Regular Season match: LET'S ROLL vs BOCCE CATS
LOCATION:Martinez Court 7
END:VEVENT
BEGIN:VEVENT
DTSTAMP:20260419T000000Z
UID:c99233ba-e7f8-48fb-aeba-6ff09036979f@ClaytonBocce
DTSTART;TZID=America/Los_Angeles:20260830T170000
DTEND;TZID=America/Los_Angeles:20260830T193000
STATUS:CONFIRMED
SUMMARY:LET'S ROLL vs WHAT-A-BIOCCE
URL:/League/Schedule/2926
DESCRIPTION:Regular Season match: LET'S ROLL vs WHAT-A-BIOCC
 E
LOCATION:Martinez Court 12
END:VEVENT
BEGIN:VEVENT
DTSTAMP:20260419T000000Z
UID:7a22d6dd-760b-424d-a52c-11dce29c8330@ClaytonBocce
DTSTART;TZID=America/Los_Angeles:20260906T170000
DTEND;TZID=America/Los_Angeles:20260906T193000
STATUS:CONFIRMED
SUMMARY:LET'S ROLL vs YOU CAN'T TELL FROM HERE
URL:/League/Schedule/2926
DESCRIPTION:Regular Season match: LET'S ROLL vs YOU CAN'T TE
 LL FROM HERE
LOCATION:Martinez Court 5
END:VEVENT
BEGIN:VEVENT
DTSTAMP:20260419T000000Z
UID:f76629e8-6c0f-4da8-bac5-5a80ab3f7ef8@ClaytonBocce
DTSTART;TZID=America/Los_Angeles:20260920T170000
DTEND;TZID=America/Los_Angeles:20260920T193000
STATUS:CONFIRMED
SUMMARY:LET'S ROLL vs PINEAPPLOUS
URL:/League/Schedule/2926
DESCRIPTION:Regular Season match: LET'S ROLL vs PINEAPPLOUS
LOCATION:Martinez Court 10
END:VEVENT
END:VCALENDAR
