BEGIN:VCALENDAR
VERSION:2.0
PRODID:-//Clayton Bocce League
METHOD:PUBLISH
BEGIN:VTIMEZONE
TZID:America/Los_Angeles
X-LIC-LOCATION:America/Los_Angeles
BEGIN:DAYLIGHT
TZOFFSETFROM:-0800
TZOFFSETTO:-0700
TZNAME:PDT
DTSTART:20070311T020000
RRULE:FREQ=YEARLY;BYMONTH=3;BYDAY=2SU
END:DAYLIGHT
BEGIN:STANDARD
TZOFFSETFROM:-0700
TZOFFSETTO:-0800
TZNAME:PST
DTSTART:20071104T020000
RRULE:FREQ=YEARLY;BYMONTH=11;BYDAY=1SU
END:STANDARD
END:VTIMEZONE
BEGIN:VEVENT
DTSTAMP:20260419T000000Z
UID:aaba8dcc-7069-47fc-8c59-5f4ede67555b@ClaytonBocce
DTSTART;TZID=America/Los_Angeles:20260419T170000
DTEND;TZID=America/Los_Angeles:20260419T193000
STATUS:CONFIRMED
SUMMARY:PALLINOS DEEP vs LET'S ROLL
URL:/League/Schedule/2927
DESCRIPTION:Regular Season match: PALLINOS DEEP vs LET'S ROL
 L
LOCATION:Martinez Court 9
END:VEVENT
BEGIN:VEVENT
DTSTAMP:20260419T000000Z
UID:0ff92479-9525-4b66-b6fb-676a628aa71c@ClaytonBocce
DTSTART;TZID=America/Los_Angeles:20260426T170000
DTEND;TZID=America/Los_Angeles:20260426T193000
STATUS:CONFIRMED
SUMMARY:PALLINOS DEEP vs WHAT-A-BIOCCE
URL:/League/Schedule/2927
DESCRIPTION:Regular Season match: PALLINOS DEEP vs WHAT-A-BI
 OCCE
LOCATION:Martinez Court 14
END:VEVENT
BEGIN:VEVENT
DTSTAMP:20260419T000000Z
UID:b3c5e818-3eb9-4826-b924-d0afdfe92a11@ClaytonBocce
DTSTART;TZID=America/Los_Angeles:20260503T170000
DTEND;TZID=America/Los_Angeles:20260503T193000
STATUS:CONFIRMED
SUMMARY:PALLINOS DEEP vs YOU CAN'T TELL FROM HERE
URL:/League/Schedule/2927
DESCRIPTION:Regular Season match: PALLINOS DEEP vs YOU CAN'T
  TELL FROM HERE
LOCATION:Martinez Court 2
END:VEVENT
BEGIN:VEVENT
DTSTAMP:20260419T000000Z
UID:67d21895-d023-4a3b-b922-502a952f225b@ClaytonBocce
DTSTART;TZID=America/Los_Angeles:20260531T170000
DTEND;TZID=America/Los_Angeles:20260531T193000
STATUS:CONFIRMED
SUMMARY:PALLINOS DEEP vs PINEAPPLOUS
URL:/League/Schedule/2927
DESCRIPTION:Regular Season match: PALLINOS DEEP vs PINEAPPLO
 US
LOCATION:Martinez Court 10
END:VEVENT
BEGIN:VEVENT
DTSTAMP:20260419T000000Z
UID:83473ca3-954b-4c51-9deb-e150d0490444@ClaytonBocce
DTSTART;TZID=America/Los_Angeles:20260607T170000
DTEND;TZID=America/Los_Angeles:20260607T193000
STATUS:CONFIRMED
SUMMARY:PALLINOS DEEP vs TRAVELERS
URL:/League/Schedule/2927
DESCRIPTION:Regular Season match: PALLINOS DEEP vs TRAVELERS
LOCATION:Martinez Court 12
END:VEVENT
BEGIN:VEVENT
DTSTAMP:20260419T000000Z
UID:d5f1e533-8973-4276-a25f-1618c745ed39@ClaytonBocce
DTSTART;TZID=America/Los_Angeles:20260614T170000
DTEND;TZID=America/Los_Angeles:20260614T193000
STATUS:CONFIRMED
SUMMARY:PALLINOS DEEP vs BOCCE CATS
URL:/League/Schedule/2927
DESCRIPTION:Regular Season match: PALLINOS DEEP vs BOCCE CAT
 S
LOCATION:Martinez Court 1
END:VEVENT
BEGIN:VEVENT
DTSTAMP:20260419T000000Z
UID:b3cb2ab5-74e5-43c3-8ce1-36ac0bc89d62@ClaytonBocce
DTSTART;TZID=America/Los_Angeles:20260621T170000
DTEND;TZID=America/Los_Angeles:20260621T193000
STATUS:CONFIRMED
SUMMARY:PALLINOS DEEP vs LET'S ROLL
URL:/League/Schedule/2927
DESCRIPTION:Regular Season match: PALLINOS DEEP vs LET'S ROL
 L
LOCATION:Martinez Court 6
END:VEVENT
BEGIN:VEVENT
DTSTAMP:20260419T000000Z
UID:e49a7d1e-4afe-4e9e-9848-b837a37d6a87@ClaytonBocce
DTSTART;TZID=America/Los_Angeles:20260628T170000
DTEND;TZID=America/Los_Angeles:20260628T193000
STATUS:CONFIRMED
SUMMARY:PALLINOS DEEP vs WHAT-A-BIOCCE
URL:/League/Schedule/2927
DESCRIPTION:Regular Season match: PALLINOS DEEP vs WHAT-A-BI
 OCCE
LOCATION:Martinez Court 15
END:VEVENT
BEGIN:VEVENT
DTSTAMP:20260419T000000Z
UID:69e9894d-f3ed-487e-8d57-a7d8d6579d72@ClaytonBocce
DTSTART;TZID=America/Los_Angeles:20260712T170000
DTEND;TZID=America/Los_Angeles:20260712T193000
STATUS:CONFIRMED
SUMMARY:PALLINOS DEEP vs YOU CAN'T TELL FROM HERE
URL:/League/Schedule/2927
DESCRIPTION:Regular Season match: PALLINOS DEEP vs YOU CAN'T
  TELL FROM HERE
LOCATION:Martinez Court 4
END:VEVENT
BEGIN:VEVENT
DTSTAMP:20260419T000000Z
UID:d6237be9-9a0c-447b-8ea7-9a4fe9180dce@ClaytonBocce
DTSTART;TZID=America/Los_Angeles:20260726T170000
DTEND;TZID=America/Los_Angeles:20260726T193000
STATUS:CONFIRMED
SUMMARY:PALLINOS DEEP vs PINEAPPLOUS
URL:/League/Schedule/2927
DESCRIPTION:Regular Season match: PALLINOS DEEP vs PINEAPPLO
 US
LOCATION:Martinez Court 1
END:VEVENT
BEGIN:VEVENT
DTSTAMP:20260419T000000Z
UID:9b1a8d81-2bdd-45da-9a80-0eb7c112d020@ClaytonBocce
DTSTART;TZID=America/Los_Angeles:20260802T170000
DTEND;TZID=America/Los_Angeles:20260802T193000
STATUS:CONFIRMED
SUMMARY:PALLINOS DEEP vs TRAVELERS
URL:/League/Schedule/2927
DESCRIPTION:Regular Season match: PALLINOS DEEP vs TRAVELERS
LOCATION:Martinez Court 11
END:VEVENT
BEGIN:VEVENT
DTSTAMP:20260419T000000Z
UID:02c326d0-89cc-43af-b64d-1aad2b07ac29@ClaytonBocce
DTSTART;TZID=America/Los_Angeles:20260809T170000
DTEND;TZID=America/Los_Angeles:20260809T193000
STATUS:CONFIRMED
SUMMARY:PALLINOS DEEP vs BOCCE CATS
URL:/League/Schedule/2927
DESCRIPTION:Regular Season match: PALLINOS DEEP vs BOCCE CAT
 S
LOCATION:Martinez Court 14
END:VEVENT
BEGIN:VEVENT
DTSTAMP:20260419T000000Z
UID:29cfa740-9527-4f32-9953-383502116ab7@ClaytonBocce
DTSTART;TZID=America/Los_Angeles:20260816T170000
DTEND;TZID=America/Los_Angeles:20260816T193000
STATUS:CONFIRMED
SUMMARY:PALLINOS DEEP vs LET'S ROLL
URL:/League/Schedule/2927
DESCRIPTION:Regular Season match: PALLINOS DEEP vs LET'S ROL
 L
LOCATION:Martinez Court 13
END:VEVENT
BEGIN:VEVENT
DTSTAMP:20260419T000000Z
UID:a7513214-c8ef-4587-84d7-b41cbe548db3@ClaytonBocce
DTSTART;TZID=America/Los_Angeles:20260823T170000
DTEND;TZID=America/Los_Angeles:20260823T193000
STATUS:CONFIRMED
SUMMARY:PALLINOS DEEP vs WHAT-A-BIOCCE
URL:/League/Schedule/2927
DESCRIPTION:Regular Season match: PALLINOS DEEP vs WHAT-A-BI
 OCCE
LOCATION:Martinez Court 9
END:VEVENT
BEGIN:VEVENT
DTSTAMP:20260419T000000Z
UID:a7d00614-5039-477b-951c-2ddf5aec1765@ClaytonBocce
DTSTART;TZID=America/Los_Angeles:20260830T170000
DTEND;TZID=America/Los_Angeles:20260830T193000
STATUS:CONFIRMED
SUMMARY:PALLINOS DEEP vs YOU CAN'T TELL FROM HERE
URL:/League/Schedule/2927
DESCRIPTION:Regular Season match: PALLINOS DEEP vs YOU CAN'T
  TELL FROM HERE
LOCATION:Martinez Court 15
END:VEVENT
BEGIN:VEVENT
DTSTAMP:20260419T000000Z
UID:dd678fe1-189b-4f7f-b865-5c50d3d4b7bc@ClaytonBocce
DTSTART;TZID=America/Los_Angeles:20260913T170000
DTEND;TZID=America/Los_Angeles:20260913T193000
STATUS:CONFIRMED
SUMMARY:PALLINOS DEEP vs PINEAPPLOUS
URL:/League/Schedule/2927
DESCRIPTION:Regular Season match: PALLINOS DEEP vs PINEAPPLO
 US
LOCATION:Martinez Court 3
END:VEVENT
BEGIN:VEVENT
DTSTAMP:20260419T000000Z
UID:02eb5acc-82d1-416c-8405-7cfcca804289@ClaytonBocce
DTSTART;TZID=America/Los_Angeles:20260920T170000
DTEND;TZID=America/Los_Angeles:20260920T193000
STATUS:CONFIRMED
SUMMARY:PALLINOS DEEP vs TRAVELERS
URL:/League/Schedule/2927
DESCRIPTION:Regular Season match: PALLINOS DEEP vs TRAVELERS
LOCATION:Martinez Court 8
END:VEVENT
END:VCALENDAR
