BEGIN:VCALENDAR
VERSION:2.0
PRODID:-//Clayton Bocce League
METHOD:PUBLISH
BEGIN:VTIMEZONE
TZID:America/Los_Angeles
X-LIC-LOCATION:America/Los_Angeles
BEGIN:DAYLIGHT
TZOFFSETFROM:-0800
TZOFFSETTO:-0700
TZNAME:PDT
DTSTART:20070311T020000
RRULE:FREQ=YEARLY;BYMONTH=3;BYDAY=2SU
END:DAYLIGHT
BEGIN:STANDARD
TZOFFSETFROM:-0700
TZOFFSETTO:-0800
TZNAME:PST
DTSTART:20071104T020000
RRULE:FREQ=YEARLY;BYMONTH=11;BYDAY=1SU
END:STANDARD
END:VTIMEZONE
BEGIN:VEVENT
DTSTAMP:20260419T000000Z
UID:e7b2f352-4ea6-45b1-974d-71215f20b29f@ClaytonBocce
DTSTART;TZID=America/Los_Angeles:20260419T170000
DTEND;TZID=America/Los_Angeles:20260419T193000
STATUS:CONFIRMED
SUMMARY:MUSO LUNGO vs CHIRP CHIRP
URL:/League/Schedule/2919
DESCRIPTION:Regular Season match: MUSO LUNGO vs CHIRP CHIRP
LOCATION:Martinez Court 6
END:VEVENT
BEGIN:VEVENT
DTSTAMP:20260419T000000Z
UID:6cf4aba7-b858-4d1b-a4fb-f0dfd1dac0f0@ClaytonBocce
DTSTART;TZID=America/Los_Angeles:20260426T170000
DTEND;TZID=America/Los_Angeles:20260426T193000
STATUS:CONFIRMED
SUMMARY:MUSO LUNGO vs FRIENDS & FAMILY
URL:/League/Schedule/2919
DESCRIPTION:Regular Season match: MUSO LUNGO vs FRIENDS & FA
 MILY
LOCATION:Martinez Court 10
END:VEVENT
BEGIN:VEVENT
DTSTAMP:20260419T000000Z
UID:b9dbf164-ba3f-4fc7-a92b-6fd09d6f6019@ClaytonBocce
DTSTART;TZID=America/Los_Angeles:20260503T170000
DTEND;TZID=America/Los_Angeles:20260503T193000
STATUS:CONFIRMED
SUMMARY:MUSO LUNGO vs THE BIG LEBOCCE
URL:/League/Schedule/2919
DESCRIPTION:Regular Season match: MUSO LUNGO vs THE BIG LEBO
 CCE
LOCATION:Martinez Court 1
END:VEVENT
BEGIN:VEVENT
DTSTAMP:20260419T000000Z
UID:a316fd6c-17e2-4c01-9941-9614d22938d1@ClaytonBocce
DTSTART;TZID=America/Los_Angeles:20260517T170000
DTEND;TZID=America/Los_Angeles:20260517T193000
STATUS:CONFIRMED
SUMMARY:MUSO LUNGO vs LAST CALL
URL:/League/Schedule/2919
DESCRIPTION:Regular Season match: MUSO LUNGO vs LAST CALL
LOCATION:Martinez Court 3
END:VEVENT
BEGIN:VEVENT
DTSTAMP:20260419T000000Z
UID:75d6b92c-0cb1-485d-bd49-0f6b459bd1ce@ClaytonBocce
DTSTART;TZID=America/Los_Angeles:20260607T170000
DTEND;TZID=America/Los_Angeles:20260607T193000
STATUS:CONFIRMED
SUMMARY:MUSO LUNGO vs FBI
URL:/League/Schedule/2919
DESCRIPTION:Regular Season match: MUSO LUNGO vs FBI
LOCATION:Martinez Court 8
END:VEVENT
BEGIN:VEVENT
DTSTAMP:20260419T000000Z
UID:d20871ca-8ec0-46f7-93a2-c9cdc3b5c6de@ClaytonBocce
DTSTART;TZID=America/Los_Angeles:20260614T170000
DTEND;TZID=America/Los_Angeles:20260614T193000
STATUS:CONFIRMED
SUMMARY:MUSO LUNGO vs MEAT THE KINDERS
URL:/League/Schedule/2919
DESCRIPTION:Regular Season match: MUSO LUNGO vs MEAT THE KIN
 DERS
LOCATION:Martinez Court 12
END:VEVENT
BEGIN:VEVENT
DTSTAMP:20260419T000000Z
UID:df8ebcad-c4d1-4e8a-bc6f-6b7b40be979e@ClaytonBocce
DTSTART;TZID=America/Los_Angeles:20260621T170000
DTEND;TZID=America/Los_Angeles:20260621T193000
STATUS:CONFIRMED
SUMMARY:MUSO LUNGO vs CHIRP CHIRP
URL:/League/Schedule/2919
DESCRIPTION:Regular Season match: MUSO LUNGO vs CHIRP CHIRP
LOCATION:Martinez Court 4
END:VEVENT
BEGIN:VEVENT
DTSTAMP:20260419T000000Z
UID:c522fc94-b2d1-493b-8fcc-eee0ba18c364@ClaytonBocce
DTSTART;TZID=America/Los_Angeles:20260628T170000
DTEND;TZID=America/Los_Angeles:20260628T193000
STATUS:CONFIRMED
SUMMARY:MUSO LUNGO vs FRIENDS & FAMILY
URL:/League/Schedule/2919
DESCRIPTION:Regular Season match: MUSO LUNGO vs FRIENDS & FA
 MILY
LOCATION:Martinez Court 14
END:VEVENT
BEGIN:VEVENT
DTSTAMP:20260419T000000Z
UID:de24fb5a-12c9-4d86-aa7d-d46d9d91efa2@ClaytonBocce
DTSTART;TZID=America/Los_Angeles:20260712T170000
DTEND;TZID=America/Los_Angeles:20260712T193000
STATUS:CONFIRMED
SUMMARY:MUSO LUNGO vs THE BIG LEBOCCE
URL:/League/Schedule/2919
DESCRIPTION:Regular Season match: MUSO LUNGO vs THE BIG LEBO
 CCE
LOCATION:Martinez Court 2
END:VEVENT
BEGIN:VEVENT
DTSTAMP:20260419T000000Z
UID:806c79b3-bb65-4069-b8de-5f38b3c0008f@ClaytonBocce
DTSTART;TZID=America/Los_Angeles:20260719T170000
DTEND;TZID=America/Los_Angeles:20260719T193000
STATUS:CONFIRMED
SUMMARY:MUSO LUNGO vs LAST CALL
URL:/League/Schedule/2919
DESCRIPTION:Regular Season match: MUSO LUNGO vs LAST CALL
LOCATION:Martinez Court 11
END:VEVENT
BEGIN:VEVENT
DTSTAMP:20260419T000000Z
UID:5ff4ec1c-b61e-4d11-a145-6354eb3a7ffe@ClaytonBocce
DTSTART;TZID=America/Los_Angeles:20260802T170000
DTEND;TZID=America/Los_Angeles:20260802T193000
STATUS:CONFIRMED
SUMMARY:MUSO LUNGO vs FBI
URL:/League/Schedule/2919
DESCRIPTION:Regular Season match: MUSO LUNGO vs FBI
LOCATION:Martinez Court 15
END:VEVENT
BEGIN:VEVENT
DTSTAMP:20260419T000000Z
UID:c31f712a-6da1-42c5-a8e1-ad69fdb50f08@ClaytonBocce
DTSTART;TZID=America/Los_Angeles:20260809T170000
DTEND;TZID=America/Los_Angeles:20260809T193000
STATUS:CONFIRMED
SUMMARY:MUSO LUNGO vs MEAT THE KINDERS
URL:/League/Schedule/2919
DESCRIPTION:Regular Season match: MUSO LUNGO vs MEAT THE KIN
 DERS
LOCATION:Martinez Court 5
END:VEVENT
BEGIN:VEVENT
DTSTAMP:20260419T000000Z
UID:dd5e76d3-c658-4992-a9a4-c84beb4d5906@ClaytonBocce
DTSTART;TZID=America/Los_Angeles:20260816T170000
DTEND;TZID=America/Los_Angeles:20260816T193000
STATUS:CONFIRMED
SUMMARY:MUSO LUNGO vs CHIRP CHIRP
URL:/League/Schedule/2919
DESCRIPTION:Regular Season match: MUSO LUNGO vs CHIRP CHIRP
LOCATION:Martinez Court 9
END:VEVENT
BEGIN:VEVENT
DTSTAMP:20260419T000000Z
UID:c57cb261-9b0f-40e5-af2b-e832505b3936@ClaytonBocce
DTSTART;TZID=America/Los_Angeles:20260823T170000
DTEND;TZID=America/Los_Angeles:20260823T193000
STATUS:CONFIRMED
SUMMARY:MUSO LUNGO vs FRIENDS & FAMILY
URL:/League/Schedule/2919
DESCRIPTION:Regular Season match: MUSO LUNGO vs FRIENDS & FA
 MILY
LOCATION:Martinez Court 13
END:VEVENT
BEGIN:VEVENT
DTSTAMP:20260419T000000Z
UID:10312b2f-9ff6-424a-9205-4f967e62f12c@ClaytonBocce
DTSTART;TZID=America/Los_Angeles:20260830T170000
DTEND;TZID=America/Los_Angeles:20260830T193000
STATUS:CONFIRMED
SUMMARY:MUSO LUNGO vs THE BIG LEBOCCE
URL:/League/Schedule/2919
DESCRIPTION:Regular Season match: MUSO LUNGO vs THE BIG LEBO
 CCE
LOCATION:Martinez Court 4
END:VEVENT
BEGIN:VEVENT
DTSTAMP:20260419T000000Z
UID:fefc6209-e162-4ce1-ac79-d67ecb5953f4@ClaytonBocce
DTSTART;TZID=America/Los_Angeles:20260906T170000
DTEND;TZID=America/Los_Angeles:20260906T193000
STATUS:CONFIRMED
SUMMARY:MUSO LUNGO vs LAST CALL
URL:/League/Schedule/2919
DESCRIPTION:Regular Season match: MUSO LUNGO vs LAST CALL
LOCATION:Martinez Court 15
END:VEVENT
BEGIN:VEVENT
DTSTAMP:20260419T000000Z
UID:4a70f550-fd3f-47a4-94a7-52108dd7991f@ClaytonBocce
DTSTART;TZID=America/Los_Angeles:20260920T170000
DTEND;TZID=America/Los_Angeles:20260920T193000
STATUS:CONFIRMED
SUMMARY:MUSO LUNGO vs FBI
URL:/League/Schedule/2919
DESCRIPTION:Regular Season match: MUSO LUNGO vs FBI
LOCATION:Martinez Court 7
END:VEVENT
END:VCALENDAR
