BEGIN:VCALENDAR
VERSION:2.0
PRODID:-//Clayton Bocce League
METHOD:PUBLISH
BEGIN:VTIMEZONE
TZID:America/Los_Angeles
X-LIC-LOCATION:America/Los_Angeles
BEGIN:DAYLIGHT
TZOFFSETFROM:-0800
TZOFFSETTO:-0700
TZNAME:PDT
DTSTART:20070311T020000
RRULE:FREQ=YEARLY;BYMONTH=3;BYDAY=2SU
END:DAYLIGHT
BEGIN:STANDARD
TZOFFSETFROM:-0700
TZOFFSETTO:-0800
TZNAME:PST
DTSTART:20071104T020000
RRULE:FREQ=YEARLY;BYMONTH=11;BYDAY=1SU
END:STANDARD
END:VTIMEZONE
BEGIN:VEVENT
DTSTAMP:20260419T000000Z
UID:e7b2f352-4ea6-45b1-974d-71215f20b29f@ClaytonBocce
DTSTART;TZID=America/Los_Angeles:20260419T170000
DTEND;TZID=America/Los_Angeles:20260419T193000
STATUS:CONFIRMED
SUMMARY:CHIRP CHIRP vs MUSO LUNGO
URL:/League/Schedule/2920
DESCRIPTION:Regular Season match: CHIRP CHIRP vs MUSO LUNGO
LOCATION:Martinez Court 6
END:VEVENT
BEGIN:VEVENT
DTSTAMP:20260419T000000Z
UID:a281e71a-aa21-48f1-aa0d-fcd80336690e@ClaytonBocce
DTSTART;TZID=America/Los_Angeles:20260426T170000
DTEND;TZID=America/Los_Angeles:20260426T193000
STATUS:CONFIRMED
SUMMARY:CHIRP CHIRP vs THE BIG LEBOCCE
URL:/League/Schedule/2920
DESCRIPTION:Regular Season match: CHIRP CHIRP vs THE BIG LEB
 OCCE
LOCATION:Martinez Court 11
END:VEVENT
BEGIN:VEVENT
DTSTAMP:20260419T000000Z
UID:4d7ca6d4-145a-4cb5-8244-503a8dd0077f@ClaytonBocce
DTSTART;TZID=America/Los_Angeles:20260503T170000
DTEND;TZID=America/Los_Angeles:20260503T193000
STATUS:CONFIRMED
SUMMARY:CHIRP CHIRP vs LAST CALL
URL:/League/Schedule/2920
DESCRIPTION:Regular Season match: CHIRP CHIRP vs LAST CALL
LOCATION:Martinez Court 14
END:VEVENT
BEGIN:VEVENT
DTSTAMP:20260419T000000Z
UID:0cf25046-7582-4924-92b2-110e26ec0905@ClaytonBocce
DTSTART;TZID=America/Los_Angeles:20260531T170000
DTEND;TZID=America/Los_Angeles:20260531T193000
STATUS:CONFIRMED
SUMMARY:CHIRP CHIRP vs FBI
URL:/League/Schedule/2920
DESCRIPTION:Regular Season match: CHIRP CHIRP vs FBI
LOCATION:Martinez Court 7
END:VEVENT
BEGIN:VEVENT
DTSTAMP:20260419T000000Z
UID:50374693-c741-4877-a1b5-79495def1ec5@ClaytonBocce
DTSTART;TZID=America/Los_Angeles:20260607T170000
DTEND;TZID=America/Los_Angeles:20260607T193000
STATUS:CONFIRMED
SUMMARY:CHIRP CHIRP vs MEAT THE KINDERS
URL:/League/Schedule/2920
DESCRIPTION:Regular Season match: CHIRP CHIRP vs MEAT THE KI
 NDERS
LOCATION:Martinez Court 9
END:VEVENT
BEGIN:VEVENT
DTSTAMP:20260419T000000Z
UID:50373c37-a1d4-4c29-b38d-22f18b1bbfda@ClaytonBocce
DTSTART;TZID=America/Los_Angeles:20260614T170000
DTEND;TZID=America/Los_Angeles:20260614T193000
STATUS:CONFIRMED
SUMMARY:CHIRP CHIRP vs FRIENDS & FAMILY
URL:/League/Schedule/2920
DESCRIPTION:Regular Season match: CHIRP CHIRP vs FRIENDS & F
 AMILY
LOCATION:Martinez Court 3
END:VEVENT
BEGIN:VEVENT
DTSTAMP:20260419T000000Z
UID:df8ebcad-c4d1-4e8a-bc6f-6b7b40be979e@ClaytonBocce
DTSTART;TZID=America/Los_Angeles:20260621T170000
DTEND;TZID=America/Los_Angeles:20260621T193000
STATUS:CONFIRMED
SUMMARY:CHIRP CHIRP vs MUSO LUNGO
URL:/League/Schedule/2920
DESCRIPTION:Regular Season match: CHIRP CHIRP vs MUSO LUNGO
LOCATION:Martinez Court 4
END:VEVENT
BEGIN:VEVENT
DTSTAMP:20260419T000000Z
UID:f74d3c23-78d2-49a7-bb5f-ca752305a835@ClaytonBocce
DTSTART;TZID=America/Los_Angeles:20260628T170000
DTEND;TZID=America/Los_Angeles:20260628T193000
STATUS:CONFIRMED
SUMMARY:CHIRP CHIRP vs THE BIG LEBOCCE
URL:/League/Schedule/2920
DESCRIPTION:Regular Season match: CHIRP CHIRP vs THE BIG LEB
 OCCE
LOCATION:Martinez Court 6
END:VEVENT
BEGIN:VEVENT
DTSTAMP:20260419T000000Z
UID:0f76a19d-f010-4c71-add2-0e765624fe8a@ClaytonBocce
DTSTART;TZID=America/Los_Angeles:20260712T170000
DTEND;TZID=America/Los_Angeles:20260712T193000
STATUS:CONFIRMED
SUMMARY:CHIRP CHIRP vs LAST CALL
URL:/League/Schedule/2920
DESCRIPTION:Regular Season match: CHIRP CHIRP vs LAST CALL
LOCATION:Martinez Court 10
END:VEVENT
BEGIN:VEVENT
DTSTAMP:20260419T000000Z
UID:f5df0d1c-de1f-45b9-88a4-7c4cb5fca726@ClaytonBocce
DTSTART;TZID=America/Los_Angeles:20260726T170000
DTEND;TZID=America/Los_Angeles:20260726T193000
STATUS:CONFIRMED
SUMMARY:CHIRP CHIRP vs FBI
URL:/League/Schedule/2920
DESCRIPTION:Regular Season match: CHIRP CHIRP vs FBI
LOCATION:Martinez Court 12
END:VEVENT
BEGIN:VEVENT
DTSTAMP:20260419T000000Z
UID:75d29380-afda-44e8-8fc9-9261f30216a4@ClaytonBocce
DTSTART;TZID=America/Los_Angeles:20260802T170000
DTEND;TZID=America/Los_Angeles:20260802T193000
STATUS:CONFIRMED
SUMMARY:CHIRP CHIRP vs MEAT THE KINDERS
URL:/League/Schedule/2920
DESCRIPTION:Regular Season match: CHIRP CHIRP vs MEAT THE KI
 NDERS
LOCATION:Martinez Court 14
END:VEVENT
BEGIN:VEVENT
DTSTAMP:20260419T000000Z
UID:b4f56e17-fe3a-4840-8295-3ed0d778cad9@ClaytonBocce
DTSTART;TZID=America/Los_Angeles:20260809T170000
DTEND;TZID=America/Los_Angeles:20260809T193000
STATUS:CONFIRMED
SUMMARY:CHIRP CHIRP vs FRIENDS & FAMILY
URL:/League/Schedule/2920
DESCRIPTION:Regular Season match: CHIRP CHIRP vs FRIENDS & F
 AMILY
LOCATION:Martinez Court 7
END:VEVENT
BEGIN:VEVENT
DTSTAMP:20260419T000000Z
UID:dd5e76d3-c658-4992-a9a4-c84beb4d5906@ClaytonBocce
DTSTART;TZID=America/Los_Angeles:20260816T170000
DTEND;TZID=America/Los_Angeles:20260816T193000
STATUS:CONFIRMED
SUMMARY:CHIRP CHIRP vs MUSO LUNGO
URL:/League/Schedule/2920
DESCRIPTION:Regular Season match: CHIRP CHIRP vs MUSO LUNGO
LOCATION:Martinez Court 9
END:VEVENT
BEGIN:VEVENT
DTSTAMP:20260419T000000Z
UID:606791c5-4290-4232-8979-ea3e800952a1@ClaytonBocce
DTSTART;TZID=America/Los_Angeles:20260823T170000
DTEND;TZID=America/Los_Angeles:20260823T193000
STATUS:CONFIRMED
SUMMARY:CHIRP CHIRP vs THE BIG LEBOCCE
URL:/League/Schedule/2920
DESCRIPTION:Regular Season match: CHIRP CHIRP vs THE BIG LEB
 OCCE
LOCATION:Martinez Court 15
END:VEVENT
BEGIN:VEVENT
DTSTAMP:20260419T000000Z
UID:c1aec194-2916-4522-adf8-9728c2e69f9c@ClaytonBocce
DTSTART;TZID=America/Los_Angeles:20260830T170000
DTEND;TZID=America/Los_Angeles:20260830T193000
STATUS:CONFIRMED
SUMMARY:CHIRP CHIRP vs LAST CALL
URL:/League/Schedule/2920
DESCRIPTION:Regular Season match: CHIRP CHIRP vs LAST CALL
LOCATION:Martinez Court 2
END:VEVENT
BEGIN:VEVENT
DTSTAMP:20260419T000000Z
UID:8fe2feba-2a34-45c5-97e8-5cce727cc181@ClaytonBocce
DTSTART;TZID=America/Los_Angeles:20260913T170000
DTEND;TZID=America/Los_Angeles:20260913T193000
STATUS:CONFIRMED
SUMMARY:CHIRP CHIRP vs FBI
URL:/League/Schedule/2920
DESCRIPTION:Regular Season match: CHIRP CHIRP vs FBI
LOCATION:Martinez Court 4
END:VEVENT
BEGIN:VEVENT
DTSTAMP:20260419T000000Z
UID:c962cc3f-63f7-49d7-870d-b17d707ca62d@ClaytonBocce
DTSTART;TZID=America/Los_Angeles:20260920T170000
DTEND;TZID=America/Los_Angeles:20260920T193000
STATUS:CONFIRMED
SUMMARY:CHIRP CHIRP vs MEAT THE KINDERS
URL:/League/Schedule/2920
DESCRIPTION:Regular Season match: CHIRP CHIRP vs MEAT THE KI
 NDERS
LOCATION:Martinez Court 13
END:VEVENT
END:VCALENDAR
