BEGIN:VCALENDAR
VERSION:2.0
PRODID:-//Clayton Bocce League
METHOD:PUBLISH
BEGIN:VTIMEZONE
TZID:America/Los_Angeles
X-LIC-LOCATION:America/Los_Angeles
BEGIN:DAYLIGHT
TZOFFSETFROM:-0800
TZOFFSETTO:-0700
TZNAME:PDT
DTSTART:20070311T020000
RRULE:FREQ=YEARLY;BYMONTH=3;BYDAY=2SU
END:DAYLIGHT
BEGIN:STANDARD
TZOFFSETFROM:-0700
TZOFFSETTO:-0800
TZNAME:PST
DTSTART:20071104T020000
RRULE:FREQ=YEARLY;BYMONTH=11;BYDAY=1SU
END:STANDARD
END:VTIMEZONE
BEGIN:VEVENT
DTSTAMP:20260419T000000Z
UID:a281e71a-aa21-48f1-aa0d-fcd80336690e@ClaytonBocce
DTSTART;TZID=America/Los_Angeles:20260426T170000
DTEND;TZID=America/Los_Angeles:20260426T193000
STATUS:CONFIRMED
SUMMARY:THE BIG LEBOCCE vs CHIRP CHIRP
URL:/League/Schedule/2923
DESCRIPTION:Regular Season match: THE BIG LEBOCCE vs CHIRP C
 HIRP
LOCATION:Martinez Court 11
END:VEVENT
BEGIN:VEVENT
DTSTAMP:20260419T000000Z
UID:b9dbf164-ba3f-4fc7-a92b-6fd09d6f6019@ClaytonBocce
DTSTART;TZID=America/Los_Angeles:20260503T170000
DTEND;TZID=America/Los_Angeles:20260503T193000
STATUS:CONFIRMED
SUMMARY:THE BIG LEBOCCE vs MUSO LUNGO
URL:/League/Schedule/2923
DESCRIPTION:Regular Season match: THE BIG LEBOCCE vs MUSO LU
 NGO
LOCATION:Martinez Court 1
END:VEVENT
BEGIN:VEVENT
DTSTAMP:20260419T000000Z
UID:c69c3fef-56c8-4f77-bbda-0ac5f00184a4@ClaytonBocce
DTSTART;TZID=America/Los_Angeles:20260517T170000
DTEND;TZID=America/Los_Angeles:20260517T193000
STATUS:CONFIRMED
SUMMARY:THE BIG LEBOCCE vs FRIENDS & FAMILY
URL:/League/Schedule/2923
DESCRIPTION:Regular Season match: THE BIG LEBOCCE vs FRIENDS
  & FAMILY
LOCATION:Martinez Court 4
END:VEVENT
BEGIN:VEVENT
DTSTAMP:20260419T000000Z
UID:b676988a-201a-4e2d-9bca-2aea0ac57ad5@ClaytonBocce
DTSTART;TZID=America/Los_Angeles:20260531T170000
DTEND;TZID=America/Los_Angeles:20260531T193000
STATUS:CONFIRMED
SUMMARY:THE BIG LEBOCCE vs MEAT THE KINDERS
URL:/League/Schedule/2923
DESCRIPTION:Regular Season match: THE BIG LEBOCCE vs MEAT TH
 E KINDERS
LOCATION:Martinez Court 8
END:VEVENT
BEGIN:VEVENT
DTSTAMP:20260419T000000Z
UID:fb1fb2d7-eb59-43b5-acb6-986157349a1e@ClaytonBocce
DTSTART;TZID=America/Los_Angeles:20260607T170000
DTEND;TZID=America/Los_Angeles:20260607T193000
STATUS:CONFIRMED
SUMMARY:THE BIG LEBOCCE vs LAST CALL
URL:/League/Schedule/2923
DESCRIPTION:Regular Season match: THE BIG LEBOCCE vs LAST CA
 LL
LOCATION:Martinez Court 7
END:VEVENT
BEGIN:VEVENT
DTSTAMP:20260419T000000Z
UID:784f7e5a-76ec-47f5-899e-8d11e42f1522@ClaytonBocce
DTSTART;TZID=America/Los_Angeles:20260614T170000
DTEND;TZID=America/Los_Angeles:20260614T193000
STATUS:CONFIRMED
SUMMARY:THE BIG LEBOCCE vs FBI
URL:/League/Schedule/2923
DESCRIPTION:Regular Season match: THE BIG LEBOCCE vs FBI
LOCATION:Martinez Court 14
END:VEVENT
BEGIN:VEVENT
DTSTAMP:20260419T000000Z
UID:f74d3c23-78d2-49a7-bb5f-ca752305a835@ClaytonBocce
DTSTART;TZID=America/Los_Angeles:20260628T170000
DTEND;TZID=America/Los_Angeles:20260628T193000
STATUS:CONFIRMED
SUMMARY:THE BIG LEBOCCE vs CHIRP CHIRP
URL:/League/Schedule/2923
DESCRIPTION:Regular Season match: THE BIG LEBOCCE vs CHIRP C
 HIRP
LOCATION:Martinez Court 6
END:VEVENT
BEGIN:VEVENT
DTSTAMP:20260419T000000Z
UID:de24fb5a-12c9-4d86-aa7d-d46d9d91efa2@ClaytonBocce
DTSTART;TZID=America/Los_Angeles:20260712T170000
DTEND;TZID=America/Los_Angeles:20260712T193000
STATUS:CONFIRMED
SUMMARY:THE BIG LEBOCCE vs MUSO LUNGO
URL:/League/Schedule/2923
DESCRIPTION:Regular Season match: THE BIG LEBOCCE vs MUSO LU
 NGO
LOCATION:Martinez Court 2
END:VEVENT
BEGIN:VEVENT
DTSTAMP:20260419T000000Z
UID:67c2e695-3eaa-4338-9939-4763b3827e42@ClaytonBocce
DTSTART;TZID=America/Los_Angeles:20260719T170000
DTEND;TZID=America/Los_Angeles:20260719T193000
STATUS:CONFIRMED
SUMMARY:THE BIG LEBOCCE vs FRIENDS & FAMILY
URL:/League/Schedule/2923
DESCRIPTION:Regular Season match: THE BIG LEBOCCE vs FRIENDS
  & FAMILY
LOCATION:Martinez Court 9
END:VEVENT
BEGIN:VEVENT
DTSTAMP:20260419T000000Z
UID:7cfada38-75b5-4c18-86ad-59b72f0f64a4@ClaytonBocce
DTSTART;TZID=America/Los_Angeles:20260726T170000
DTEND;TZID=America/Los_Angeles:20260726T193000
STATUS:CONFIRMED
SUMMARY:THE BIG LEBOCCE vs MEAT THE KINDERS
URL:/League/Schedule/2923
DESCRIPTION:Regular Season match: THE BIG LEBOCCE vs MEAT TH
 E KINDERS
LOCATION:Martinez Court 13
END:VEVENT
BEGIN:VEVENT
DTSTAMP:20260419T000000Z
UID:36ba7aa9-cf9c-4774-80ac-67f81f77c742@ClaytonBocce
DTSTART;TZID=America/Los_Angeles:20260802T170000
DTEND;TZID=America/Los_Angeles:20260802T193000
STATUS:CONFIRMED
SUMMARY:THE BIG LEBOCCE vs LAST CALL
URL:/League/Schedule/2923
DESCRIPTION:Regular Season match: THE BIG LEBOCCE vs LAST CA
 LL
LOCATION:Martinez Court 10
END:VEVENT
BEGIN:VEVENT
DTSTAMP:20260419T000000Z
UID:0e8feb7b-7984-4d05-b09c-bbf1d7191f19@ClaytonBocce
DTSTART;TZID=America/Los_Angeles:20260809T170000
DTEND;TZID=America/Los_Angeles:20260809T193000
STATUS:CONFIRMED
SUMMARY:THE BIG LEBOCCE vs FBI
URL:/League/Schedule/2923
DESCRIPTION:Regular Season match: THE BIG LEBOCCE vs FBI
LOCATION:Martinez Court 3
END:VEVENT
BEGIN:VEVENT
DTSTAMP:20260419T000000Z
UID:606791c5-4290-4232-8979-ea3e800952a1@ClaytonBocce
DTSTART;TZID=America/Los_Angeles:20260823T170000
DTEND;TZID=America/Los_Angeles:20260823T193000
STATUS:CONFIRMED
SUMMARY:THE BIG LEBOCCE vs CHIRP CHIRP
URL:/League/Schedule/2923
DESCRIPTION:Regular Season match: THE BIG LEBOCCE vs CHIRP C
 HIRP
LOCATION:Martinez Court 15
END:VEVENT
BEGIN:VEVENT
DTSTAMP:20260419T000000Z
UID:10312b2f-9ff6-424a-9205-4f967e62f12c@ClaytonBocce
DTSTART;TZID=America/Los_Angeles:20260830T170000
DTEND;TZID=America/Los_Angeles:20260830T193000
STATUS:CONFIRMED
SUMMARY:THE BIG LEBOCCE vs MUSO LUNGO
URL:/League/Schedule/2923
DESCRIPTION:Regular Season match: THE BIG LEBOCCE vs MUSO LU
 NGO
LOCATION:Martinez Court 4
END:VEVENT
BEGIN:VEVENT
DTSTAMP:20260419T000000Z
UID:6f7f4492-8676-48e7-aa18-8395fb8a3803@ClaytonBocce
DTSTART;TZID=America/Los_Angeles:20260906T170000
DTEND;TZID=America/Los_Angeles:20260906T193000
STATUS:CONFIRMED
SUMMARY:THE BIG LEBOCCE vs FRIENDS & FAMILY
URL:/League/Schedule/2923
DESCRIPTION:Regular Season match: THE BIG LEBOCCE vs FRIENDS
  & FAMILY
LOCATION:Martinez Court 2
END:VEVENT
BEGIN:VEVENT
DTSTAMP:20260419T000000Z
UID:1fdfa42a-5b10-4bba-ab15-04fb22928c94@ClaytonBocce
DTSTART;TZID=America/Los_Angeles:20260913T170000
DTEND;TZID=America/Los_Angeles:20260913T193000
STATUS:CONFIRMED
SUMMARY:THE BIG LEBOCCE vs MEAT THE KINDERS
URL:/League/Schedule/2923
DESCRIPTION:Regular Season match: THE BIG LEBOCCE vs MEAT TH
 E KINDERS
LOCATION:Martinez Court 1
END:VEVENT
BEGIN:VEVENT
DTSTAMP:20260419T000000Z
UID:db2b23c2-2e8f-4cc8-b174-1087dec740f5@ClaytonBocce
DTSTART;TZID=America/Los_Angeles:20260920T170000
DTEND;TZID=America/Los_Angeles:20260920T193000
STATUS:CONFIRMED
SUMMARY:THE BIG LEBOCCE vs LAST CALL
URL:/League/Schedule/2923
DESCRIPTION:Regular Season match: THE BIG LEBOCCE vs LAST CA
 LL
LOCATION:Martinez Court 9
END:VEVENT
END:VCALENDAR
