BEGIN:VCALENDAR
VERSION:2.0
PRODID:-//Clayton Bocce League
METHOD:PUBLISH
BEGIN:VTIMEZONE
TZID:America/Los_Angeles
X-LIC-LOCATION:America/Los_Angeles
BEGIN:DAYLIGHT
TZOFFSETFROM:-0800
TZOFFSETTO:-0700
TZNAME:PDT
DTSTART:20070311T020000
RRULE:FREQ=YEARLY;BYMONTH=3;BYDAY=2SU
END:DAYLIGHT
BEGIN:STANDARD
TZOFFSETFROM:-0700
TZOFFSETTO:-0800
TZNAME:PST
DTSTART:20071104T020000
RRULE:FREQ=YEARLY;BYMONTH=11;BYDAY=1SU
END:STANDARD
END:VTIMEZONE
BEGIN:VEVENT
DTSTAMP:20260419T000000Z
UID:6d59b04b-5e10-4863-8983-131c63ac083e@ClaytonBocce
DTSTART;TZID=America/Los_Angeles:20260419T170000
DTEND;TZID=America/Los_Angeles:20260419T193000
STATUS:CONFIRMED
SUMMARY:MEAT THE KINDERS vs LAST CALL
URL:/League/Schedule/2922
DESCRIPTION:Regular Season match: MEAT THE KINDERS vs LAST C
 ALL
LOCATION:Martinez Court 4
END:VEVENT
BEGIN:VEVENT
DTSTAMP:20260419T000000Z
UID:c68ccec7-7fcd-4975-ab9b-41d8c3c33d7b@ClaytonBocce
DTSTART;TZID=America/Los_Angeles:20260503T170000
DTEND;TZID=America/Los_Angeles:20260503T193000
STATUS:CONFIRMED
SUMMARY:MEAT THE KINDERS vs FRIENDS & FAMILY
URL:/League/Schedule/2922
DESCRIPTION:Regular Season match: MEAT THE KINDERS vs FRIEND
 S & FAMILY
LOCATION:Martinez Court 15
END:VEVENT
BEGIN:VEVENT
DTSTAMP:20260419T000000Z
UID:40c6ef07-e98f-491d-85f9-260fc0655c07@ClaytonBocce
DTSTART;TZID=America/Los_Angeles:20260517T170000
DTEND;TZID=America/Los_Angeles:20260517T193000
STATUS:CONFIRMED
SUMMARY:MEAT THE KINDERS vs FBI
URL:/League/Schedule/2922
DESCRIPTION:Regular Season match: MEAT THE KINDERS vs FBI
LOCATION:Martinez Court 2
END:VEVENT
BEGIN:VEVENT
DTSTAMP:20260419T000000Z
UID:b676988a-201a-4e2d-9bca-2aea0ac57ad5@ClaytonBocce
DTSTART;TZID=America/Los_Angeles:20260531T170000
DTEND;TZID=America/Los_Angeles:20260531T193000
STATUS:CONFIRMED
SUMMARY:MEAT THE KINDERS vs THE BIG LEBOCCE
URL:/League/Schedule/2922
DESCRIPTION:Regular Season match: MEAT THE KINDERS vs THE BI
 G LEBOCCE
LOCATION:Martinez Court 8
END:VEVENT
BEGIN:VEVENT
DTSTAMP:20260419T000000Z
UID:50374693-c741-4877-a1b5-79495def1ec5@ClaytonBocce
DTSTART;TZID=America/Los_Angeles:20260607T170000
DTEND;TZID=America/Los_Angeles:20260607T193000
STATUS:CONFIRMED
SUMMARY:MEAT THE KINDERS vs CHIRP CHIRP
URL:/League/Schedule/2922
DESCRIPTION:Regular Season match: MEAT THE KINDERS vs CHIRP 
 CHIRP
LOCATION:Martinez Court 9
END:VEVENT
BEGIN:VEVENT
DTSTAMP:20260419T000000Z
UID:d20871ca-8ec0-46f7-93a2-c9cdc3b5c6de@ClaytonBocce
DTSTART;TZID=America/Los_Angeles:20260614T170000
DTEND;TZID=America/Los_Angeles:20260614T193000
STATUS:CONFIRMED
SUMMARY:MEAT THE KINDERS vs MUSO LUNGO
URL:/League/Schedule/2922
DESCRIPTION:Regular Season match: MEAT THE KINDERS vs MUSO L
 UNGO
LOCATION:Martinez Court 12
END:VEVENT
BEGIN:VEVENT
DTSTAMP:20260419T000000Z
UID:f0c87c17-2a0b-4a60-85b7-08670b740367@ClaytonBocce
DTSTART;TZID=America/Los_Angeles:20260621T170000
DTEND;TZID=America/Los_Angeles:20260621T193000
STATUS:CONFIRMED
SUMMARY:MEAT THE KINDERS vs LAST CALL
URL:/League/Schedule/2922
DESCRIPTION:Regular Season match: MEAT THE KINDERS vs LAST C
 ALL
LOCATION:Martinez Court 5
END:VEVENT
BEGIN:VEVENT
DTSTAMP:20260419T000000Z
UID:399493bf-219e-43ab-909c-570295a78b50@ClaytonBocce
DTSTART;TZID=America/Los_Angeles:20260712T170000
DTEND;TZID=America/Los_Angeles:20260712T193000
STATUS:CONFIRMED
SUMMARY:MEAT THE KINDERS vs FRIENDS & FAMILY
URL:/League/Schedule/2922
DESCRIPTION:Regular Season match: MEAT THE KINDERS vs FRIEND
 S & FAMILY
LOCATION:Martinez Court 11
END:VEVENT
BEGIN:VEVENT
DTSTAMP:20260419T000000Z
UID:74b3ab06-f342-4b4f-8d10-70d73714f83b@ClaytonBocce
DTSTART;TZID=America/Los_Angeles:20260719T170000
DTEND;TZID=America/Los_Angeles:20260719T193000
STATUS:CONFIRMED
SUMMARY:MEAT THE KINDERS vs FBI
URL:/League/Schedule/2922
DESCRIPTION:Regular Season match: MEAT THE KINDERS vs FBI
LOCATION:Martinez Court 10
END:VEVENT
BEGIN:VEVENT
DTSTAMP:20260419T000000Z
UID:7cfada38-75b5-4c18-86ad-59b72f0f64a4@ClaytonBocce
DTSTART;TZID=America/Los_Angeles:20260726T170000
DTEND;TZID=America/Los_Angeles:20260726T193000
STATUS:CONFIRMED
SUMMARY:MEAT THE KINDERS vs THE BIG LEBOCCE
URL:/League/Schedule/2922
DESCRIPTION:Regular Season match: MEAT THE KINDERS vs THE BI
 G LEBOCCE
LOCATION:Martinez Court 13
END:VEVENT
BEGIN:VEVENT
DTSTAMP:20260419T000000Z
UID:75d29380-afda-44e8-8fc9-9261f30216a4@ClaytonBocce
DTSTART;TZID=America/Los_Angeles:20260802T170000
DTEND;TZID=America/Los_Angeles:20260802T193000
STATUS:CONFIRMED
SUMMARY:MEAT THE KINDERS vs CHIRP CHIRP
URL:/League/Schedule/2922
DESCRIPTION:Regular Season match: MEAT THE KINDERS vs CHIRP 
 CHIRP
LOCATION:Martinez Court 14
END:VEVENT
BEGIN:VEVENT
DTSTAMP:20260419T000000Z
UID:c31f712a-6da1-42c5-a8e1-ad69fdb50f08@ClaytonBocce
DTSTART;TZID=America/Los_Angeles:20260809T170000
DTEND;TZID=America/Los_Angeles:20260809T193000
STATUS:CONFIRMED
SUMMARY:MEAT THE KINDERS vs MUSO LUNGO
URL:/League/Schedule/2922
DESCRIPTION:Regular Season match: MEAT THE KINDERS vs MUSO L
 UNGO
LOCATION:Martinez Court 5
END:VEVENT
BEGIN:VEVENT
DTSTAMP:20260419T000000Z
UID:091634ab-c7f6-45b2-8cdd-f852337cc014@ClaytonBocce
DTSTART;TZID=America/Los_Angeles:20260816T170000
DTEND;TZID=America/Los_Angeles:20260816T193000
STATUS:CONFIRMED
SUMMARY:MEAT THE KINDERS vs LAST CALL
URL:/League/Schedule/2922
DESCRIPTION:Regular Season match: MEAT THE KINDERS vs LAST C
 ALL
LOCATION:Martinez Court 12
END:VEVENT
BEGIN:VEVENT
DTSTAMP:20260419T000000Z
UID:a9090ead-2c03-4843-b055-266f35fcc6cf@ClaytonBocce
DTSTART;TZID=America/Los_Angeles:20260830T170000
DTEND;TZID=America/Los_Angeles:20260830T193000
STATUS:CONFIRMED
SUMMARY:MEAT THE KINDERS vs FRIENDS & FAMILY
URL:/League/Schedule/2922
DESCRIPTION:Regular Season match: MEAT THE KINDERS vs FRIEND
 S & FAMILY
LOCATION:Martinez Court 3
END:VEVENT
BEGIN:VEVENT
DTSTAMP:20260419T000000Z
UID:b6a8c39a-2ae4-427c-b5ac-f44b31a40ccd@ClaytonBocce
DTSTART;TZID=America/Los_Angeles:20260906T170000
DTEND;TZID=America/Los_Angeles:20260906T193000
STATUS:CONFIRMED
SUMMARY:MEAT THE KINDERS vs FBI
URL:/League/Schedule/2922
DESCRIPTION:Regular Season match: MEAT THE KINDERS vs FBI
LOCATION:Martinez Court 6
END:VEVENT
BEGIN:VEVENT
DTSTAMP:20260419T000000Z
UID:1fdfa42a-5b10-4bba-ab15-04fb22928c94@ClaytonBocce
DTSTART;TZID=America/Los_Angeles:20260913T170000
DTEND;TZID=America/Los_Angeles:20260913T193000
STATUS:CONFIRMED
SUMMARY:MEAT THE KINDERS vs THE BIG LEBOCCE
URL:/League/Schedule/2922
DESCRIPTION:Regular Season match: MEAT THE KINDERS vs THE BI
 G LEBOCCE
LOCATION:Martinez Court 1
END:VEVENT
BEGIN:VEVENT
DTSTAMP:20260419T000000Z
UID:c962cc3f-63f7-49d7-870d-b17d707ca62d@ClaytonBocce
DTSTART;TZID=America/Los_Angeles:20260920T170000
DTEND;TZID=America/Los_Angeles:20260920T193000
STATUS:CONFIRMED
SUMMARY:MEAT THE KINDERS vs CHIRP CHIRP
URL:/League/Schedule/2922
DESCRIPTION:Regular Season match: MEAT THE KINDERS vs CHIRP 
 CHIRP
LOCATION:Martinez Court 13
END:VEVENT
END:VCALENDAR
