BEGIN:VCALENDAR
VERSION:2.0
PRODID:-//Clayton Bocce League
METHOD:PUBLISH
BEGIN:VTIMEZONE
TZID:America/Los_Angeles
X-LIC-LOCATION:America/Los_Angeles
BEGIN:DAYLIGHT
TZOFFSETFROM:-0800
TZOFFSETTO:-0700
TZNAME:PDT
DTSTART:20070311T020000
RRULE:FREQ=YEARLY;BYMONTH=3;BYDAY=2SU
END:DAYLIGHT
BEGIN:STANDARD
TZOFFSETFROM:-0700
TZOFFSETTO:-0800
TZNAME:PST
DTSTART:20071104T020000
RRULE:FREQ=YEARLY;BYMONTH=11;BYDAY=1SU
END:STANDARD
END:VTIMEZONE
BEGIN:VEVENT
DTSTAMP:20260419T000000Z
UID:6d59b04b-5e10-4863-8983-131c63ac083e@ClaytonBocce
DTSTART;TZID=America/Los_Angeles:20260419T170000
DTEND;TZID=America/Los_Angeles:20260419T193000
STATUS:CONFIRMED
SUMMARY:LAST CALL vs MEAT THE KINDERS
URL:/League/Schedule/2917
DESCRIPTION:Regular Season match: LAST CALL vs MEAT THE KIND
 ERS
LOCATION:Martinez Court 4
END:VEVENT
BEGIN:VEVENT
DTSTAMP:20260419T000000Z
UID:c39582df-72ef-427f-a33e-af816f04117a@ClaytonBocce
DTSTART;TZID=America/Los_Angeles:20260426T170000
DTEND;TZID=America/Los_Angeles:20260426T193000
STATUS:CONFIRMED
SUMMARY:LAST CALL vs FBI
URL:/League/Schedule/2917
DESCRIPTION:Regular Season match: LAST CALL vs FBI
LOCATION:Martinez Court 9
END:VEVENT
BEGIN:VEVENT
DTSTAMP:20260419T000000Z
UID:4d7ca6d4-145a-4cb5-8244-503a8dd0077f@ClaytonBocce
DTSTART;TZID=America/Los_Angeles:20260503T170000
DTEND;TZID=America/Los_Angeles:20260503T193000
STATUS:CONFIRMED
SUMMARY:LAST CALL vs CHIRP CHIRP
URL:/League/Schedule/2917
DESCRIPTION:Regular Season match: LAST CALL vs CHIRP CHIRP
LOCATION:Martinez Court 14
END:VEVENT
BEGIN:VEVENT
DTSTAMP:20260419T000000Z
UID:a316fd6c-17e2-4c01-9941-9614d22938d1@ClaytonBocce
DTSTART;TZID=America/Los_Angeles:20260517T170000
DTEND;TZID=America/Los_Angeles:20260517T193000
STATUS:CONFIRMED
SUMMARY:LAST CALL vs MUSO LUNGO
URL:/League/Schedule/2917
DESCRIPTION:Regular Season match: LAST CALL vs MUSO LUNGO
LOCATION:Martinez Court 3
END:VEVENT
BEGIN:VEVENT
DTSTAMP:20260419T000000Z
UID:4dccb90f-823e-45a0-aaaf-d90590ac75ac@ClaytonBocce
DTSTART;TZID=America/Los_Angeles:20260531T170000
DTEND;TZID=America/Los_Angeles:20260531T193000
STATUS:CONFIRMED
SUMMARY:LAST CALL vs FRIENDS & FAMILY
URL:/League/Schedule/2917
DESCRIPTION:Regular Season match: LAST CALL vs FRIENDS & FAM
 ILY
LOCATION:Martinez Court 6
END:VEVENT
BEGIN:VEVENT
DTSTAMP:20260419T000000Z
UID:fb1fb2d7-eb59-43b5-acb6-986157349a1e@ClaytonBocce
DTSTART;TZID=America/Los_Angeles:20260607T170000
DTEND;TZID=America/Los_Angeles:20260607T193000
STATUS:CONFIRMED
SUMMARY:LAST CALL vs THE BIG LEBOCCE
URL:/League/Schedule/2917
DESCRIPTION:Regular Season match: LAST CALL vs THE BIG LEBOC
 CE
LOCATION:Martinez Court 7
END:VEVENT
BEGIN:VEVENT
DTSTAMP:20260419T000000Z
UID:f0c87c17-2a0b-4a60-85b7-08670b740367@ClaytonBocce
DTSTART;TZID=America/Los_Angeles:20260621T170000
DTEND;TZID=America/Los_Angeles:20260621T193000
STATUS:CONFIRMED
SUMMARY:LAST CALL vs MEAT THE KINDERS
URL:/League/Schedule/2917
DESCRIPTION:Regular Season match: LAST CALL vs MEAT THE KIND
 ERS
LOCATION:Martinez Court 5
END:VEVENT
BEGIN:VEVENT
DTSTAMP:20260419T000000Z
UID:586eed09-d7c3-451e-9ae4-cf86a836bbf2@ClaytonBocce
DTSTART;TZID=America/Los_Angeles:20260628T170000
DTEND;TZID=America/Los_Angeles:20260628T193000
STATUS:CONFIRMED
SUMMARY:LAST CALL vs FBI
URL:/League/Schedule/2917
DESCRIPTION:Regular Season match: LAST CALL vs FBI
LOCATION:Martinez Court 13
END:VEVENT
BEGIN:VEVENT
DTSTAMP:20260419T000000Z
UID:0f76a19d-f010-4c71-add2-0e765624fe8a@ClaytonBocce
DTSTART;TZID=America/Los_Angeles:20260712T170000
DTEND;TZID=America/Los_Angeles:20260712T193000
STATUS:CONFIRMED
SUMMARY:LAST CALL vs CHIRP CHIRP
URL:/League/Schedule/2917
DESCRIPTION:Regular Season match: LAST CALL vs CHIRP CHIRP
LOCATION:Martinez Court 10
END:VEVENT
BEGIN:VEVENT
DTSTAMP:20260419T000000Z
UID:806c79b3-bb65-4069-b8de-5f38b3c0008f@ClaytonBocce
DTSTART;TZID=America/Los_Angeles:20260719T170000
DTEND;TZID=America/Los_Angeles:20260719T193000
STATUS:CONFIRMED
SUMMARY:LAST CALL vs MUSO LUNGO
URL:/League/Schedule/2917
DESCRIPTION:Regular Season match: LAST CALL vs MUSO LUNGO
LOCATION:Martinez Court 11
END:VEVENT
BEGIN:VEVENT
DTSTAMP:20260419T000000Z
UID:70a208e4-d1bf-4945-8528-d0017aa26010@ClaytonBocce
DTSTART;TZID=America/Los_Angeles:20260726T170000
DTEND;TZID=America/Los_Angeles:20260726T193000
STATUS:CONFIRMED
SUMMARY:LAST CALL vs FRIENDS & FAMILY
URL:/League/Schedule/2917
DESCRIPTION:Regular Season match: LAST CALL vs FRIENDS & FAM
 ILY
LOCATION:Martinez Court 8
END:VEVENT
BEGIN:VEVENT
DTSTAMP:20260419T000000Z
UID:36ba7aa9-cf9c-4774-80ac-67f81f77c742@ClaytonBocce
DTSTART;TZID=America/Los_Angeles:20260802T170000
DTEND;TZID=America/Los_Angeles:20260802T193000
STATUS:CONFIRMED
SUMMARY:LAST CALL vs THE BIG LEBOCCE
URL:/League/Schedule/2917
DESCRIPTION:Regular Season match: LAST CALL vs THE BIG LEBOC
 CE
LOCATION:Martinez Court 10
END:VEVENT
BEGIN:VEVENT
DTSTAMP:20260419T000000Z
UID:091634ab-c7f6-45b2-8cdd-f852337cc014@ClaytonBocce
DTSTART;TZID=America/Los_Angeles:20260816T170000
DTEND;TZID=America/Los_Angeles:20260816T193000
STATUS:CONFIRMED
SUMMARY:LAST CALL vs MEAT THE KINDERS
URL:/League/Schedule/2917
DESCRIPTION:Regular Season match: LAST CALL vs MEAT THE KIND
 ERS
LOCATION:Martinez Court 12
END:VEVENT
BEGIN:VEVENT
DTSTAMP:20260419T000000Z
UID:c77b482f-4f5c-4198-b644-6a77776a2f9b@ClaytonBocce
DTSTART;TZID=America/Los_Angeles:20260823T170000
DTEND;TZID=America/Los_Angeles:20260823T193000
STATUS:CONFIRMED
SUMMARY:LAST CALL vs FBI
URL:/League/Schedule/2917
DESCRIPTION:Regular Season match: LAST CALL vs FBI
LOCATION:Martinez Court 1
END:VEVENT
BEGIN:VEVENT
DTSTAMP:20260419T000000Z
UID:c1aec194-2916-4522-adf8-9728c2e69f9c@ClaytonBocce
DTSTART;TZID=America/Los_Angeles:20260830T170000
DTEND;TZID=America/Los_Angeles:20260830T193000
STATUS:CONFIRMED
SUMMARY:LAST CALL vs CHIRP CHIRP
URL:/League/Schedule/2917
DESCRIPTION:Regular Season match: LAST CALL vs CHIRP CHIRP
LOCATION:Martinez Court 2
END:VEVENT
BEGIN:VEVENT
DTSTAMP:20260419T000000Z
UID:fefc6209-e162-4ce1-ac79-d67ecb5953f4@ClaytonBocce
DTSTART;TZID=America/Los_Angeles:20260906T170000
DTEND;TZID=America/Los_Angeles:20260906T193000
STATUS:CONFIRMED
SUMMARY:LAST CALL vs MUSO LUNGO
URL:/League/Schedule/2917
DESCRIPTION:Regular Season match: LAST CALL vs MUSO LUNGO
LOCATION:Martinez Court 15
END:VEVENT
BEGIN:VEVENT
DTSTAMP:20260419T000000Z
UID:563816a4-5949-407c-8224-caa9ca334da9@ClaytonBocce
DTSTART;TZID=America/Los_Angeles:20260913T170000
DTEND;TZID=America/Los_Angeles:20260913T193000
STATUS:CONFIRMED
SUMMARY:LAST CALL vs FRIENDS & FAMILY
URL:/League/Schedule/2917
DESCRIPTION:Regular Season match: LAST CALL vs FRIENDS & FAM
 ILY
LOCATION:Martinez Court 14
END:VEVENT
BEGIN:VEVENT
DTSTAMP:20260419T000000Z
UID:db2b23c2-2e8f-4cc8-b174-1087dec740f5@ClaytonBocce
DTSTART;TZID=America/Los_Angeles:20260920T170000
DTEND;TZID=America/Los_Angeles:20260920T193000
STATUS:CONFIRMED
SUMMARY:LAST CALL vs THE BIG LEBOCCE
URL:/League/Schedule/2917
DESCRIPTION:Regular Season match: LAST CALL vs THE BIG LEBOC
 CE
LOCATION:Martinez Court 9
END:VEVENT
END:VCALENDAR
