BEGIN:VCALENDAR
VERSION:2.0
PRODID:-//Clayton Bocce League
METHOD:PUBLISH
BEGIN:VTIMEZONE
TZID:America/Los_Angeles
X-LIC-LOCATION:America/Los_Angeles
BEGIN:DAYLIGHT
TZOFFSETFROM:-0800
TZOFFSETTO:-0700
TZNAME:PDT
DTSTART:20070311T020000
RRULE:FREQ=YEARLY;BYMONTH=3;BYDAY=2SU
END:DAYLIGHT
BEGIN:STANDARD
TZOFFSETFROM:-0700
TZOFFSETTO:-0800
TZNAME:PST
DTSTART:20071104T020000
RRULE:FREQ=YEARLY;BYMONTH=11;BYDAY=1SU
END:STANDARD
END:VTIMEZONE
BEGIN:VEVENT
DTSTAMP:20260419T000000Z
UID:539ccdb2-f8b2-426b-af68-a7351255a8d4@ClaytonBocce
DTSTART;TZID=America/Los_Angeles:20260419T170000
DTEND;TZID=America/Los_Angeles:20260419T193000
STATUS:CONFIRMED
SUMMARY:FRIENDS & FAMILY vs FBI
URL:/League/Schedule/2918
DESCRIPTION:Regular Season match: FRIENDS & FAMILY vs FBI
LOCATION:Martinez Court 5
END:VEVENT
BEGIN:VEVENT
DTSTAMP:20260419T000000Z
UID:6cf4aba7-b858-4d1b-a4fb-f0dfd1dac0f0@ClaytonBocce
DTSTART;TZID=America/Los_Angeles:20260426T170000
DTEND;TZID=America/Los_Angeles:20260426T193000
STATUS:CONFIRMED
SUMMARY:FRIENDS & FAMILY vs MUSO LUNGO
URL:/League/Schedule/2918
DESCRIPTION:Regular Season match: FRIENDS & FAMILY vs MUSO L
 UNGO
LOCATION:Martinez Court 10
END:VEVENT
BEGIN:VEVENT
DTSTAMP:20260419T000000Z
UID:c68ccec7-7fcd-4975-ab9b-41d8c3c33d7b@ClaytonBocce
DTSTART;TZID=America/Los_Angeles:20260503T170000
DTEND;TZID=America/Los_Angeles:20260503T193000
STATUS:CONFIRMED
SUMMARY:FRIENDS & FAMILY vs MEAT THE KINDERS
URL:/League/Schedule/2918
DESCRIPTION:Regular Season match: FRIENDS & FAMILY vs MEAT T
 HE KINDERS
LOCATION:Martinez Court 15
END:VEVENT
BEGIN:VEVENT
DTSTAMP:20260419T000000Z
UID:c69c3fef-56c8-4f77-bbda-0ac5f00184a4@ClaytonBocce
DTSTART;TZID=America/Los_Angeles:20260517T170000
DTEND;TZID=America/Los_Angeles:20260517T193000
STATUS:CONFIRMED
SUMMARY:FRIENDS & FAMILY vs THE BIG LEBOCCE
URL:/League/Schedule/2918
DESCRIPTION:Regular Season match: FRIENDS & FAMILY vs THE BI
 G LEBOCCE
LOCATION:Martinez Court 4
END:VEVENT
BEGIN:VEVENT
DTSTAMP:20260419T000000Z
UID:4dccb90f-823e-45a0-aaaf-d90590ac75ac@ClaytonBocce
DTSTART;TZID=America/Los_Angeles:20260531T170000
DTEND;TZID=America/Los_Angeles:20260531T193000
STATUS:CONFIRMED
SUMMARY:FRIENDS & FAMILY vs LAST CALL
URL:/League/Schedule/2918
DESCRIPTION:Regular Season match: FRIENDS & FAMILY vs LAST C
 ALL
LOCATION:Martinez Court 6
END:VEVENT
BEGIN:VEVENT
DTSTAMP:20260419T000000Z
UID:50373c37-a1d4-4c29-b38d-22f18b1bbfda@ClaytonBocce
DTSTART;TZID=America/Los_Angeles:20260614T170000
DTEND;TZID=America/Los_Angeles:20260614T193000
STATUS:CONFIRMED
SUMMARY:FRIENDS & FAMILY vs CHIRP CHIRP
URL:/League/Schedule/2918
DESCRIPTION:Regular Season match: FRIENDS & FAMILY vs CHIRP 
 CHIRP
LOCATION:Martinez Court 3
END:VEVENT
BEGIN:VEVENT
DTSTAMP:20260419T000000Z
UID:4582c2c9-3fcb-45eb-ad2d-03aa9fdf70da@ClaytonBocce
DTSTART;TZID=America/Los_Angeles:20260621T170000
DTEND;TZID=America/Los_Angeles:20260621T193000
STATUS:CONFIRMED
SUMMARY:FRIENDS & FAMILY vs FBI
URL:/League/Schedule/2918
DESCRIPTION:Regular Season match: FRIENDS & FAMILY vs FBI
LOCATION:Martinez Court 9
END:VEVENT
BEGIN:VEVENT
DTSTAMP:20260419T000000Z
UID:c522fc94-b2d1-493b-8fcc-eee0ba18c364@ClaytonBocce
DTSTART;TZID=America/Los_Angeles:20260628T170000
DTEND;TZID=America/Los_Angeles:20260628T193000
STATUS:CONFIRMED
SUMMARY:FRIENDS & FAMILY vs MUSO LUNGO
URL:/League/Schedule/2918
DESCRIPTION:Regular Season match: FRIENDS & FAMILY vs MUSO L
 UNGO
LOCATION:Martinez Court 14
END:VEVENT
BEGIN:VEVENT
DTSTAMP:20260419T000000Z
UID:399493bf-219e-43ab-909c-570295a78b50@ClaytonBocce
DTSTART;TZID=America/Los_Angeles:20260712T170000
DTEND;TZID=America/Los_Angeles:20260712T193000
STATUS:CONFIRMED
SUMMARY:FRIENDS & FAMILY vs MEAT THE KINDERS
URL:/League/Schedule/2918
DESCRIPTION:Regular Season match: FRIENDS & FAMILY vs MEAT T
 HE KINDERS
LOCATION:Martinez Court 11
END:VEVENT
BEGIN:VEVENT
DTSTAMP:20260419T000000Z
UID:67c2e695-3eaa-4338-9939-4763b3827e42@ClaytonBocce
DTSTART;TZID=America/Los_Angeles:20260719T170000
DTEND;TZID=America/Los_Angeles:20260719T193000
STATUS:CONFIRMED
SUMMARY:FRIENDS & FAMILY vs THE BIG LEBOCCE
URL:/League/Schedule/2918
DESCRIPTION:Regular Season match: FRIENDS & FAMILY vs THE BI
 G LEBOCCE
LOCATION:Martinez Court 9
END:VEVENT
BEGIN:VEVENT
DTSTAMP:20260419T000000Z
UID:70a208e4-d1bf-4945-8528-d0017aa26010@ClaytonBocce
DTSTART;TZID=America/Los_Angeles:20260726T170000
DTEND;TZID=America/Los_Angeles:20260726T193000
STATUS:CONFIRMED
SUMMARY:FRIENDS & FAMILY vs LAST CALL
URL:/League/Schedule/2918
DESCRIPTION:Regular Season match: FRIENDS & FAMILY vs LAST C
 ALL
LOCATION:Martinez Court 8
END:VEVENT
BEGIN:VEVENT
DTSTAMP:20260419T000000Z
UID:b4f56e17-fe3a-4840-8295-3ed0d778cad9@ClaytonBocce
DTSTART;TZID=America/Los_Angeles:20260809T170000
DTEND;TZID=America/Los_Angeles:20260809T193000
STATUS:CONFIRMED
SUMMARY:FRIENDS & FAMILY vs CHIRP CHIRP
URL:/League/Schedule/2918
DESCRIPTION:Regular Season match: FRIENDS & FAMILY vs CHIRP 
 CHIRP
LOCATION:Martinez Court 7
END:VEVENT
BEGIN:VEVENT
DTSTAMP:20260419T000000Z
UID:d637d5d1-b812-47f6-a4ae-8da7b4953e73@ClaytonBocce
DTSTART;TZID=America/Los_Angeles:20260816T170000
DTEND;TZID=America/Los_Angeles:20260816T193000
STATUS:CONFIRMED
SUMMARY:FRIENDS & FAMILY vs FBI
URL:/League/Schedule/2918
DESCRIPTION:Regular Season match: FRIENDS & FAMILY vs FBI
LOCATION:Martinez Court 11
END:VEVENT
BEGIN:VEVENT
DTSTAMP:20260419T000000Z
UID:c57cb261-9b0f-40e5-af2b-e832505b3936@ClaytonBocce
DTSTART;TZID=America/Los_Angeles:20260823T170000
DTEND;TZID=America/Los_Angeles:20260823T193000
STATUS:CONFIRMED
SUMMARY:FRIENDS & FAMILY vs MUSO LUNGO
URL:/League/Schedule/2918
DESCRIPTION:Regular Season match: FRIENDS & FAMILY vs MUSO L
 UNGO
LOCATION:Martinez Court 13
END:VEVENT
BEGIN:VEVENT
DTSTAMP:20260419T000000Z
UID:a9090ead-2c03-4843-b055-266f35fcc6cf@ClaytonBocce
DTSTART;TZID=America/Los_Angeles:20260830T170000
DTEND;TZID=America/Los_Angeles:20260830T193000
STATUS:CONFIRMED
SUMMARY:FRIENDS & FAMILY vs MEAT THE KINDERS
URL:/League/Schedule/2918
DESCRIPTION:Regular Season match: FRIENDS & FAMILY vs MEAT T
 HE KINDERS
LOCATION:Martinez Court 3
END:VEVENT
BEGIN:VEVENT
DTSTAMP:20260419T000000Z
UID:6f7f4492-8676-48e7-aa18-8395fb8a3803@ClaytonBocce
DTSTART;TZID=America/Los_Angeles:20260906T170000
DTEND;TZID=America/Los_Angeles:20260906T193000
STATUS:CONFIRMED
SUMMARY:FRIENDS & FAMILY vs THE BIG LEBOCCE
URL:/League/Schedule/2918
DESCRIPTION:Regular Season match: FRIENDS & FAMILY vs THE BI
 G LEBOCCE
LOCATION:Martinez Court 2
END:VEVENT
BEGIN:VEVENT
DTSTAMP:20260419T000000Z
UID:563816a4-5949-407c-8224-caa9ca334da9@ClaytonBocce
DTSTART;TZID=America/Los_Angeles:20260913T170000
DTEND;TZID=America/Los_Angeles:20260913T193000
STATUS:CONFIRMED
SUMMARY:FRIENDS & FAMILY vs LAST CALL
URL:/League/Schedule/2918
DESCRIPTION:Regular Season match: FRIENDS & FAMILY vs LAST C
 ALL
LOCATION:Martinez Court 14
END:VEVENT
END:VCALENDAR
