BEGIN:VCALENDAR
VERSION:2.0
PRODID:-//Clayton Bocce League
METHOD:PUBLISH
BEGIN:VTIMEZONE
TZID:America/Los_Angeles
X-LIC-LOCATION:America/Los_Angeles
BEGIN:DAYLIGHT
TZOFFSETFROM:-0800
TZOFFSETTO:-0700
TZNAME:PDT
DTSTART:20070311T020000
RRULE:FREQ=YEARLY;BYMONTH=3;BYDAY=2SU
END:DAYLIGHT
BEGIN:STANDARD
TZOFFSETFROM:-0700
TZOFFSETTO:-0800
TZNAME:PST
DTSTART:20071104T020000
RRULE:FREQ=YEARLY;BYMONTH=11;BYDAY=1SU
END:STANDARD
END:VTIMEZONE
BEGIN:VEVENT
DTSTAMP:20260419T000000Z
UID:539ccdb2-f8b2-426b-af68-a7351255a8d4@ClaytonBocce
DTSTART;TZID=America/Los_Angeles:20260419T170000
DTEND;TZID=America/Los_Angeles:20260419T193000
STATUS:CONFIRMED
SUMMARY:FBI vs FRIENDS & FAMILY
URL:/League/Schedule/2921
DESCRIPTION:Regular Season match: FBI vs FRIENDS & FAMILY
LOCATION:Martinez Court 5
END:VEVENT
BEGIN:VEVENT
DTSTAMP:20260419T000000Z
UID:c39582df-72ef-427f-a33e-af816f04117a@ClaytonBocce
DTSTART;TZID=America/Los_Angeles:20260426T170000
DTEND;TZID=America/Los_Angeles:20260426T193000
STATUS:CONFIRMED
SUMMARY:FBI vs LAST CALL
URL:/League/Schedule/2921
DESCRIPTION:Regular Season match: FBI vs LAST CALL
LOCATION:Martinez Court 9
END:VEVENT
BEGIN:VEVENT
DTSTAMP:20260419T000000Z
UID:40c6ef07-e98f-491d-85f9-260fc0655c07@ClaytonBocce
DTSTART;TZID=America/Los_Angeles:20260517T170000
DTEND;TZID=America/Los_Angeles:20260517T193000
STATUS:CONFIRMED
SUMMARY:FBI vs MEAT THE KINDERS
URL:/League/Schedule/2921
DESCRIPTION:Regular Season match: FBI vs MEAT THE KINDERS
LOCATION:Martinez Court 2
END:VEVENT
BEGIN:VEVENT
DTSTAMP:20260419T000000Z
UID:0cf25046-7582-4924-92b2-110e26ec0905@ClaytonBocce
DTSTART;TZID=America/Los_Angeles:20260531T170000
DTEND;TZID=America/Los_Angeles:20260531T193000
STATUS:CONFIRMED
SUMMARY:FBI vs CHIRP CHIRP
URL:/League/Schedule/2921
DESCRIPTION:Regular Season match: FBI vs CHIRP CHIRP
LOCATION:Martinez Court 7
END:VEVENT
BEGIN:VEVENT
DTSTAMP:20260419T000000Z
UID:75d6b92c-0cb1-485d-bd49-0f6b459bd1ce@ClaytonBocce
DTSTART;TZID=America/Los_Angeles:20260607T170000
DTEND;TZID=America/Los_Angeles:20260607T193000
STATUS:CONFIRMED
SUMMARY:FBI vs MUSO LUNGO
URL:/League/Schedule/2921
DESCRIPTION:Regular Season match: FBI vs MUSO LUNGO
LOCATION:Martinez Court 8
END:VEVENT
BEGIN:VEVENT
DTSTAMP:20260419T000000Z
UID:784f7e5a-76ec-47f5-899e-8d11e42f1522@ClaytonBocce
DTSTART;TZID=America/Los_Angeles:20260614T170000
DTEND;TZID=America/Los_Angeles:20260614T193000
STATUS:CONFIRMED
SUMMARY:FBI vs THE BIG LEBOCCE
URL:/League/Schedule/2921
DESCRIPTION:Regular Season match: FBI vs THE BIG LEBOCCE
LOCATION:Martinez Court 14
END:VEVENT
BEGIN:VEVENT
DTSTAMP:20260419T000000Z
UID:4582c2c9-3fcb-45eb-ad2d-03aa9fdf70da@ClaytonBocce
DTSTART;TZID=America/Los_Angeles:20260621T170000
DTEND;TZID=America/Los_Angeles:20260621T193000
STATUS:CONFIRMED
SUMMARY:FBI vs FRIENDS & FAMILY
URL:/League/Schedule/2921
DESCRIPTION:Regular Season match: FBI vs FRIENDS & FAMILY
LOCATION:Martinez Court 9
END:VEVENT
BEGIN:VEVENT
DTSTAMP:20260419T000000Z
UID:586eed09-d7c3-451e-9ae4-cf86a836bbf2@ClaytonBocce
DTSTART;TZID=America/Los_Angeles:20260628T170000
DTEND;TZID=America/Los_Angeles:20260628T193000
STATUS:CONFIRMED
SUMMARY:FBI vs LAST CALL
URL:/League/Schedule/2921
DESCRIPTION:Regular Season match: FBI vs LAST CALL
LOCATION:Martinez Court 13
END:VEVENT
BEGIN:VEVENT
DTSTAMP:20260419T000000Z
UID:74b3ab06-f342-4b4f-8d10-70d73714f83b@ClaytonBocce
DTSTART;TZID=America/Los_Angeles:20260719T170000
DTEND;TZID=America/Los_Angeles:20260719T193000
STATUS:CONFIRMED
SUMMARY:FBI vs MEAT THE KINDERS
URL:/League/Schedule/2921
DESCRIPTION:Regular Season match: FBI vs MEAT THE KINDERS
LOCATION:Martinez Court 10
END:VEVENT
BEGIN:VEVENT
DTSTAMP:20260419T000000Z
UID:f5df0d1c-de1f-45b9-88a4-7c4cb5fca726@ClaytonBocce
DTSTART;TZID=America/Los_Angeles:20260726T170000
DTEND;TZID=America/Los_Angeles:20260726T193000
STATUS:CONFIRMED
SUMMARY:FBI vs CHIRP CHIRP
URL:/League/Schedule/2921
DESCRIPTION:Regular Season match: FBI vs CHIRP CHIRP
LOCATION:Martinez Court 12
END:VEVENT
BEGIN:VEVENT
DTSTAMP:20260419T000000Z
UID:5ff4ec1c-b61e-4d11-a145-6354eb3a7ffe@ClaytonBocce
DTSTART;TZID=America/Los_Angeles:20260802T170000
DTEND;TZID=America/Los_Angeles:20260802T193000
STATUS:CONFIRMED
SUMMARY:FBI vs MUSO LUNGO
URL:/League/Schedule/2921
DESCRIPTION:Regular Season match: FBI vs MUSO LUNGO
LOCATION:Martinez Court 15
END:VEVENT
BEGIN:VEVENT
DTSTAMP:20260419T000000Z
UID:0e8feb7b-7984-4d05-b09c-bbf1d7191f19@ClaytonBocce
DTSTART;TZID=America/Los_Angeles:20260809T170000
DTEND;TZID=America/Los_Angeles:20260809T193000
STATUS:CONFIRMED
SUMMARY:FBI vs THE BIG LEBOCCE
URL:/League/Schedule/2921
DESCRIPTION:Regular Season match: FBI vs THE BIG LEBOCCE
LOCATION:Martinez Court 3
END:VEVENT
BEGIN:VEVENT
DTSTAMP:20260419T000000Z
UID:d637d5d1-b812-47f6-a4ae-8da7b4953e73@ClaytonBocce
DTSTART;TZID=America/Los_Angeles:20260816T170000
DTEND;TZID=America/Los_Angeles:20260816T193000
STATUS:CONFIRMED
SUMMARY:FBI vs FRIENDS & FAMILY
URL:/League/Schedule/2921
DESCRIPTION:Regular Season match: FBI vs FRIENDS & FAMILY
LOCATION:Martinez Court 11
END:VEVENT
BEGIN:VEVENT
DTSTAMP:20260419T000000Z
UID:c77b482f-4f5c-4198-b644-6a77776a2f9b@ClaytonBocce
DTSTART;TZID=America/Los_Angeles:20260823T170000
DTEND;TZID=America/Los_Angeles:20260823T193000
STATUS:CONFIRMED
SUMMARY:FBI vs LAST CALL
URL:/League/Schedule/2921
DESCRIPTION:Regular Season match: FBI vs LAST CALL
LOCATION:Martinez Court 1
END:VEVENT
BEGIN:VEVENT
DTSTAMP:20260419T000000Z
UID:b6a8c39a-2ae4-427c-b5ac-f44b31a40ccd@ClaytonBocce
DTSTART;TZID=America/Los_Angeles:20260906T170000
DTEND;TZID=America/Los_Angeles:20260906T193000
STATUS:CONFIRMED
SUMMARY:FBI vs MEAT THE KINDERS
URL:/League/Schedule/2921
DESCRIPTION:Regular Season match: FBI vs MEAT THE KINDERS
LOCATION:Martinez Court 6
END:VEVENT
BEGIN:VEVENT
DTSTAMP:20260419T000000Z
UID:8fe2feba-2a34-45c5-97e8-5cce727cc181@ClaytonBocce
DTSTART;TZID=America/Los_Angeles:20260913T170000
DTEND;TZID=America/Los_Angeles:20260913T193000
STATUS:CONFIRMED
SUMMARY:FBI vs CHIRP CHIRP
URL:/League/Schedule/2921
DESCRIPTION:Regular Season match: FBI vs CHIRP CHIRP
LOCATION:Martinez Court 4
END:VEVENT
BEGIN:VEVENT
DTSTAMP:20260419T000000Z
UID:4a70f550-fd3f-47a4-94a7-52108dd7991f@ClaytonBocce
DTSTART;TZID=America/Los_Angeles:20260920T170000
DTEND;TZID=America/Los_Angeles:20260920T193000
STATUS:CONFIRMED
SUMMARY:FBI vs MUSO LUNGO
URL:/League/Schedule/2921
DESCRIPTION:Regular Season match: FBI vs MUSO LUNGO
LOCATION:Martinez Court 7
END:VEVENT
END:VCALENDAR
