BEGIN:VCALENDAR
VERSION:2.0
PRODID:-//Clayton Bocce League
METHOD:PUBLISH
BEGIN:VTIMEZONE
TZID:America/Los_Angeles
X-LIC-LOCATION:America/Los_Angeles
BEGIN:DAYLIGHT
TZOFFSETFROM:-0800
TZOFFSETTO:-0700
TZNAME:PDT
DTSTART:20070311T020000
RRULE:FREQ=YEARLY;BYMONTH=3;BYDAY=2SU
END:DAYLIGHT
BEGIN:STANDARD
TZOFFSETFROM:-0700
TZOFFSETTO:-0800
TZNAME:PST
DTSTART:20071104T020000
RRULE:FREQ=YEARLY;BYMONTH=11;BYDAY=1SU
END:STANDARD
END:VTIMEZONE
BEGIN:VEVENT
DTSTAMP:20260419T000000Z
UID:b6537178-828b-4e76-a9b8-2e638b9da861@ClaytonBocce
DTSTART;TZID=America/Los_Angeles:20260426T170000
DTEND;TZID=America/Los_Angeles:20260426T193000
STATUS:CONFIRMED
SUMMARY:SEASONED PACK vs PALLINO PALS
URL:/League/Schedule/2916
DESCRIPTION:Regular Season match: SEASONED PACK vs PALLINO P
 ALS
LOCATION:Martinez Court 8
END:VEVENT
BEGIN:VEVENT
DTSTAMP:20260419T000000Z
UID:13addee3-b4df-4063-a80c-ad7409aae3f3@ClaytonBocce
DTSTART;TZID=America/Los_Angeles:20260503T170000
DTEND;TZID=America/Los_Angeles:20260503T193000
STATUS:CONFIRMED
SUMMARY:SEASONED PACK vs MONEY $HOTS
URL:/League/Schedule/2916
DESCRIPTION:Regular Season match: SEASONED PACK vs MONEY $HO
 TS
LOCATION:Martinez Court 13
END:VEVENT
BEGIN:VEVENT
DTSTAMP:20260419T000000Z
UID:77087c53-176e-49f5-8006-f2605bf2ea5f@ClaytonBocce
DTSTART;TZID=America/Los_Angeles:20260517T170000
DTEND;TZID=America/Los_Angeles:20260517T193000
STATUS:CONFIRMED
SUMMARY:SEASONED PACK vs BARBER BALLERS
URL:/League/Schedule/2916
DESCRIPTION:Regular Season match: SEASONED PACK vs BARBER BA
 LLERS
LOCATION:Martinez Court 1
END:VEVENT
BEGIN:VEVENT
DTSTAMP:20260419T000000Z
UID:d178401b-24db-4efc-b59f-9985e18b8e6c@ClaytonBocce
DTSTART;TZID=America/Los_Angeles:20260531T170000
DTEND;TZID=America/Los_Angeles:20260531T193000
STATUS:CONFIRMED
SUMMARY:SEASONED PACK vs C. I. A.
URL:/League/Schedule/2916
DESCRIPTION:Regular Season match: SEASONED PACK vs C. I. A.
LOCATION:Martinez Court 5
END:VEVENT
BEGIN:VEVENT
DTSTAMP:20260419T000000Z
UID:ad41b336-84d2-49e8-b310-a74472f73d16@ClaytonBocce
DTSTART;TZID=America/Los_Angeles:20260607T170000
DTEND;TZID=America/Los_Angeles:20260607T193000
STATUS:CONFIRMED
SUMMARY:SEASONED PACK vs SAUCY BALLS
URL:/League/Schedule/2916
DESCRIPTION:Regular Season match: SEASONED PACK vs SAUCY BAL
 LS
LOCATION:Martinez Court 4
END:VEVENT
BEGIN:VEVENT
DTSTAMP:20260419T000000Z
UID:f302995e-113e-415f-93d2-847e31d7ea12@ClaytonBocce
DTSTART;TZID=America/Los_Angeles:20260614T170000
DTEND;TZID=America/Los_Angeles:20260614T193000
STATUS:CONFIRMED
SUMMARY:SEASONED PACK vs TAKE IT TO MUDVILLE
URL:/League/Schedule/2916
DESCRIPTION:Regular Season match: SEASONED PACK vs TAKE IT T
 O MUDVILLE
LOCATION:Martinez Court 11
END:VEVENT
BEGIN:VEVENT
DTSTAMP:20260419T000000Z
UID:43f38ba9-0a69-40b4-ae53-3117d992ffc5@ClaytonBocce
DTSTART;TZID=America/Los_Angeles:20260628T170000
DTEND;TZID=America/Los_Angeles:20260628T193000
STATUS:CONFIRMED
SUMMARY:SEASONED PACK vs PALLINO PALS
URL:/League/Schedule/2916
DESCRIPTION:Regular Season match: SEASONED PACK vs PALLINO P
 ALS
LOCATION:Martinez Court 12
END:VEVENT
BEGIN:VEVENT
DTSTAMP:20260419T000000Z
UID:3645d432-0c3a-4443-b484-69ac3dd86c1b@ClaytonBocce
DTSTART;TZID=America/Los_Angeles:20260712T170000
DTEND;TZID=America/Los_Angeles:20260712T193000
STATUS:CONFIRMED
SUMMARY:SEASONED PACK vs MONEY $HOTS
URL:/League/Schedule/2916
DESCRIPTION:Regular Season match: SEASONED PACK vs MONEY $HO
 TS
LOCATION:Martinez Court 14
END:VEVENT
BEGIN:VEVENT
DTSTAMP:20260419T000000Z
UID:12a400c9-5ef2-4196-958a-9bb7d1ce3749@ClaytonBocce
DTSTART;TZID=America/Los_Angeles:20260719T170000
DTEND;TZID=America/Los_Angeles:20260719T193000
STATUS:CONFIRMED
SUMMARY:SEASONED PACK vs BARBER BALLERS
URL:/League/Schedule/2916
DESCRIPTION:Regular Season match: SEASONED PACK vs BARBER BA
 LLERS
LOCATION:Martinez Court 12
END:VEVENT
BEGIN:VEVENT
DTSTAMP:20260419T000000Z
UID:c33f4925-e434-4059-9cca-f2e032e0fbd5@ClaytonBocce
DTSTART;TZID=America/Los_Angeles:20260726T170000
DTEND;TZID=America/Los_Angeles:20260726T193000
STATUS:CONFIRMED
SUMMARY:SEASONED PACK vs C. I. A.
URL:/League/Schedule/2916
DESCRIPTION:Regular Season match: SEASONED PACK vs C. I. A.
LOCATION:Martinez Court 10
END:VEVENT
BEGIN:VEVENT
DTSTAMP:20260419T000000Z
UID:e2a5c8d4-217b-404f-b826-ce65101e6097@ClaytonBocce
DTSTART;TZID=America/Los_Angeles:20260802T170000
DTEND;TZID=America/Los_Angeles:20260802T193000
STATUS:CONFIRMED
SUMMARY:SEASONED PACK vs SAUCY BALLS
URL:/League/Schedule/2916
DESCRIPTION:Regular Season match: SEASONED PACK vs SAUCY BAL
 LS
LOCATION:Martinez Court 7
END:VEVENT
BEGIN:VEVENT
DTSTAMP:20260419T000000Z
UID:cfa6c362-acf4-48cb-a3d6-3adf10d40165@ClaytonBocce
DTSTART;TZID=America/Los_Angeles:20260809T170000
DTEND;TZID=America/Los_Angeles:20260809T193000
STATUS:CONFIRMED
SUMMARY:SEASONED PACK vs TAKE IT TO MUDVILLE
URL:/League/Schedule/2916
DESCRIPTION:Regular Season match: SEASONED PACK vs TAKE IT T
 O MUDVILLE
LOCATION:Martinez Court 15
END:VEVENT
BEGIN:VEVENT
DTSTAMP:20260419T000000Z
UID:9493d625-271b-466e-bfdc-de067257beda@ClaytonBocce
DTSTART;TZID=America/Los_Angeles:20260823T170000
DTEND;TZID=America/Los_Angeles:20260823T193000
STATUS:CONFIRMED
SUMMARY:SEASONED PACK vs PALLINO PALS
URL:/League/Schedule/2916
DESCRIPTION:Regular Season match: SEASONED PACK vs PALLINO P
 ALS
LOCATION:Martinez Court 6
END:VEVENT
BEGIN:VEVENT
DTSTAMP:20260419T000000Z
UID:7830d025-6f72-44a0-b9e9-0fb14ca43db1@ClaytonBocce
DTSTART;TZID=America/Los_Angeles:20260830T170000
DTEND;TZID=America/Los_Angeles:20260830T193000
STATUS:CONFIRMED
SUMMARY:SEASONED PACK vs MONEY $HOTS
URL:/League/Schedule/2916
DESCRIPTION:Regular Season match: SEASONED PACK vs MONEY $HO
 TS
LOCATION:Martinez Court 5
END:VEVENT
BEGIN:VEVENT
DTSTAMP:20260419T000000Z
UID:5988ce5d-b6df-4c0e-ac12-1ed90d6baff9@ClaytonBocce
DTSTART;TZID=America/Los_Angeles:20260906T170000
DTEND;TZID=America/Los_Angeles:20260906T193000
STATUS:CONFIRMED
SUMMARY:SEASONED PACK vs BARBER BALLERS
URL:/League/Schedule/2916
DESCRIPTION:Regular Season match: SEASONED PACK vs BARBER BA
 LLERS
LOCATION:Martinez Court 14
END:VEVENT
BEGIN:VEVENT
DTSTAMP:20260419T000000Z
UID:af4c1667-76a8-4505-bb34-fe83a682c611@ClaytonBocce
DTSTART;TZID=America/Los_Angeles:20260913T170000
DTEND;TZID=America/Los_Angeles:20260913T193000
STATUS:CONFIRMED
SUMMARY:SEASONED PACK vs C. I. A.
URL:/League/Schedule/2916
DESCRIPTION:Regular Season match: SEASONED PACK vs C. I. A.
LOCATION:Martinez Court 10
END:VEVENT
BEGIN:VEVENT
DTSTAMP:20260419T000000Z
UID:366a14fd-be27-4593-86c0-4a3c8a9f1bbb@ClaytonBocce
DTSTART;TZID=America/Los_Angeles:20260920T170000
DTEND;TZID=America/Los_Angeles:20260920T193000
STATUS:CONFIRMED
SUMMARY:SEASONED PACK vs SAUCY BALLS
URL:/League/Schedule/2916
DESCRIPTION:Regular Season match: SEASONED PACK vs SAUCY BAL
 LS
LOCATION:Martinez Court 2
END:VEVENT
END:VCALENDAR
