BEGIN:VCALENDAR
VERSION:2.0
PRODID:-//Clayton Bocce League
METHOD:PUBLISH
BEGIN:VTIMEZONE
TZID:America/Los_Angeles
X-LIC-LOCATION:America/Los_Angeles
BEGIN:DAYLIGHT
TZOFFSETFROM:-0800
TZOFFSETTO:-0700
TZNAME:PDT
DTSTART:20070311T020000
RRULE:FREQ=YEARLY;BYMONTH=3;BYDAY=2SU
END:DAYLIGHT
BEGIN:STANDARD
TZOFFSETFROM:-0700
TZOFFSETTO:-0800
TZNAME:PST
DTSTART:20071104T020000
RRULE:FREQ=YEARLY;BYMONTH=11;BYDAY=1SU
END:STANDARD
END:VTIMEZONE
BEGIN:VEVENT
DTSTAMP:20260419T000000Z
UID:06f0ca17-0096-4a51-885f-475b46b0f6f0@ClaytonBocce
DTSTART;TZID=America/Los_Angeles:20260419T170000
DTEND;TZID=America/Los_Angeles:20260419T193000
STATUS:CONFIRMED
SUMMARY:BARBER BALLERS vs TAKE IT TO MUDVILLE
URL:/League/Schedule/2911
DESCRIPTION:Regular Season match: BARBER BALLERS vs TAKE IT 
 TO MUDVILLE
LOCATION:Martinez Court 2
END:VEVENT
BEGIN:VEVENT
DTSTAMP:20260419T000000Z
UID:ba5a4fdb-153c-487e-ac32-d2720b95eb54@ClaytonBocce
DTSTART;TZID=America/Los_Angeles:20260426T170000
DTEND;TZID=America/Los_Angeles:20260426T193000
STATUS:CONFIRMED
SUMMARY:BARBER BALLERS vs MONEY $HOTS
URL:/League/Schedule/2911
DESCRIPTION:Regular Season match: BARBER BALLERS vs MONEY $H
 OTS
LOCATION:Martinez Court 7
END:VEVENT
BEGIN:VEVENT
DTSTAMP:20260419T000000Z
UID:ee97b9a5-0340-4be1-9fc7-b39d714426e9@ClaytonBocce
DTSTART;TZID=America/Los_Angeles:20260503T170000
DTEND;TZID=America/Los_Angeles:20260503T193000
STATUS:CONFIRMED
SUMMARY:BARBER BALLERS vs C. I. A.
URL:/League/Schedule/2911
DESCRIPTION:Regular Season match: BARBER BALLERS vs C. I. A.
LOCATION:Martinez Court 12
END:VEVENT
BEGIN:VEVENT
DTSTAMP:20260419T000000Z
UID:77087c53-176e-49f5-8006-f2605bf2ea5f@ClaytonBocce
DTSTART;TZID=America/Los_Angeles:20260517T170000
DTEND;TZID=America/Los_Angeles:20260517T193000
STATUS:CONFIRMED
SUMMARY:BARBER BALLERS vs SEASONED PACK
URL:/League/Schedule/2911
DESCRIPTION:Regular Season match: BARBER BALLERS vs SEASONED
  PACK
LOCATION:Martinez Court 1
END:VEVENT
BEGIN:VEVENT
DTSTAMP:20260419T000000Z
UID:3538acfb-9213-43cc-ade4-14a82035f630@ClaytonBocce
DTSTART;TZID=America/Los_Angeles:20260531T170000
DTEND;TZID=America/Los_Angeles:20260531T193000
STATUS:CONFIRMED
SUMMARY:BARBER BALLERS vs SAUCY BALLS
URL:/League/Schedule/2911
DESCRIPTION:Regular Season match: BARBER BALLERS vs SAUCY BA
 LLS
LOCATION:Martinez Court 3
END:VEVENT
BEGIN:VEVENT
DTSTAMP:20260419T000000Z
UID:b43678b2-0a46-4e94-b044-fd3f315d472e@ClaytonBocce
DTSTART;TZID=America/Los_Angeles:20260614T170000
DTEND;TZID=America/Los_Angeles:20260614T193000
STATUS:CONFIRMED
SUMMARY:BARBER BALLERS vs PALLINO PALS
URL:/League/Schedule/2911
DESCRIPTION:Regular Season match: BARBER BALLERS vs PALLINO 
 PALS
LOCATION:Martinez Court 10
END:VEVENT
BEGIN:VEVENT
DTSTAMP:20260419T000000Z
UID:31f33b55-705a-4eeb-827c-7008a0261d18@ClaytonBocce
DTSTART;TZID=America/Los_Angeles:20260621T170000
DTEND;TZID=America/Los_Angeles:20260621T193000
STATUS:CONFIRMED
SUMMARY:BARBER BALLERS vs TAKE IT TO MUDVILLE
URL:/League/Schedule/2911
DESCRIPTION:Regular Season match: BARBER BALLERS vs TAKE IT 
 TO MUDVILLE
LOCATION:Martinez Court 8
END:VEVENT
BEGIN:VEVENT
DTSTAMP:20260419T000000Z
UID:0a3cd68b-8c1c-4677-a046-f507f1eaba8d@ClaytonBocce
DTSTART;TZID=America/Los_Angeles:20260628T170000
DTEND;TZID=America/Los_Angeles:20260628T193000
STATUS:CONFIRMED
SUMMARY:BARBER BALLERS vs MONEY $HOTS
URL:/League/Schedule/2911
DESCRIPTION:Regular Season match: BARBER BALLERS vs MONEY $H
 OTS
LOCATION:Martinez Court 4
END:VEVENT
BEGIN:VEVENT
DTSTAMP:20260419T000000Z
UID:9cde2ff4-e4f7-4b72-a011-4b2748b0f14b@ClaytonBocce
DTSTART;TZID=America/Los_Angeles:20260712T170000
DTEND;TZID=America/Los_Angeles:20260712T193000
STATUS:CONFIRMED
SUMMARY:BARBER BALLERS vs C. I. A.
URL:/League/Schedule/2911
DESCRIPTION:Regular Season match: BARBER BALLERS vs C. I. A.
LOCATION:Martinez Court 15
END:VEVENT
BEGIN:VEVENT
DTSTAMP:20260419T000000Z
UID:12a400c9-5ef2-4196-958a-9bb7d1ce3749@ClaytonBocce
DTSTART;TZID=America/Los_Angeles:20260719T170000
DTEND;TZID=America/Los_Angeles:20260719T193000
STATUS:CONFIRMED
SUMMARY:BARBER BALLERS vs SEASONED PACK
URL:/League/Schedule/2911
DESCRIPTION:Regular Season match: BARBER BALLERS vs SEASONED
  PACK
LOCATION:Martinez Court 12
END:VEVENT
BEGIN:VEVENT
DTSTAMP:20260419T000000Z
UID:44f61eba-161e-4087-a3bf-17f67b51cf72@ClaytonBocce
DTSTART;TZID=America/Los_Angeles:20260726T170000
DTEND;TZID=America/Los_Angeles:20260726T193000
STATUS:CONFIRMED
SUMMARY:BARBER BALLERS vs SAUCY BALLS
URL:/League/Schedule/2911
DESCRIPTION:Regular Season match: BARBER BALLERS vs SAUCY BA
 LLS
LOCATION:Martinez Court 5
END:VEVENT
BEGIN:VEVENT
DTSTAMP:20260419T000000Z
UID:67bc45c7-943b-49f5-850d-6dd29fa13cc3@ClaytonBocce
DTSTART;TZID=America/Los_Angeles:20260809T170000
DTEND;TZID=America/Los_Angeles:20260809T193000
STATUS:CONFIRMED
SUMMARY:BARBER BALLERS vs PALLINO PALS
URL:/League/Schedule/2911
DESCRIPTION:Regular Season match: BARBER BALLERS vs PALLINO 
 PALS
LOCATION:Martinez Court 13
END:VEVENT
BEGIN:VEVENT
DTSTAMP:20260419T000000Z
UID:6beb6d6f-d83e-45e7-b76f-5e571d00dcc2@ClaytonBocce
DTSTART;TZID=America/Los_Angeles:20260816T170000
DTEND;TZID=America/Los_Angeles:20260816T193000
STATUS:CONFIRMED
SUMMARY:BARBER BALLERS vs TAKE IT TO MUDVILLE
URL:/League/Schedule/2911
DESCRIPTION:Regular Season match: BARBER BALLERS vs TAKE IT 
 TO MUDVILLE
LOCATION:Martinez Court 10
END:VEVENT
BEGIN:VEVENT
DTSTAMP:20260419T000000Z
UID:73aa0356-351b-4f44-81b6-5d8246054e78@ClaytonBocce
DTSTART;TZID=America/Los_Angeles:20260823T170000
DTEND;TZID=America/Los_Angeles:20260823T193000
STATUS:CONFIRMED
SUMMARY:BARBER BALLERS vs MONEY $HOTS
URL:/League/Schedule/2911
DESCRIPTION:Regular Season match: BARBER BALLERS vs MONEY $H
 OTS
LOCATION:Martinez Court 2
END:VEVENT
BEGIN:VEVENT
DTSTAMP:20260419T000000Z
UID:f514064c-8630-4c79-ae65-c7d7181f0a7d@ClaytonBocce
DTSTART;TZID=America/Los_Angeles:20260830T170000
DTEND;TZID=America/Los_Angeles:20260830T193000
STATUS:CONFIRMED
SUMMARY:BARBER BALLERS vs C. I. A.
URL:/League/Schedule/2911
DESCRIPTION:Regular Season match: BARBER BALLERS vs C. I. A.
LOCATION:Martinez Court 6
END:VEVENT
BEGIN:VEVENT
DTSTAMP:20260419T000000Z
UID:5988ce5d-b6df-4c0e-ac12-1ed90d6baff9@ClaytonBocce
DTSTART;TZID=America/Los_Angeles:20260906T170000
DTEND;TZID=America/Los_Angeles:20260906T193000
STATUS:CONFIRMED
SUMMARY:BARBER BALLERS vs SEASONED PACK
URL:/League/Schedule/2911
DESCRIPTION:Regular Season match: BARBER BALLERS vs SEASONED
  PACK
LOCATION:Martinez Court 14
END:VEVENT
BEGIN:VEVENT
DTSTAMP:20260419T000000Z
UID:f69954b0-5194-4295-8941-182e7114428d@ClaytonBocce
DTSTART;TZID=America/Los_Angeles:20260913T170000
DTEND;TZID=America/Los_Angeles:20260913T193000
STATUS:CONFIRMED
SUMMARY:BARBER BALLERS vs SAUCY BALLS
URL:/League/Schedule/2911
DESCRIPTION:Regular Season match: BARBER BALLERS vs SAUCY BA
 LLS
LOCATION:Martinez Court 11
END:VEVENT
END:VCALENDAR
