BEGIN:VCALENDAR
VERSION:2.0
PRODID:-//Clayton Bocce League
METHOD:PUBLISH
BEGIN:VTIMEZONE
TZID:America/Los_Angeles
X-LIC-LOCATION:America/Los_Angeles
BEGIN:DAYLIGHT
TZOFFSETFROM:-0800
TZOFFSETTO:-0700
TZNAME:PDT
DTSTART:20070311T020000
RRULE:FREQ=YEARLY;BYMONTH=3;BYDAY=2SU
END:DAYLIGHT
BEGIN:STANDARD
TZOFFSETFROM:-0700
TZOFFSETTO:-0800
TZNAME:PST
DTSTART:20071104T020000
RRULE:FREQ=YEARLY;BYMONTH=11;BYDAY=1SU
END:STANDARD
END:VTIMEZONE
BEGIN:VEVENT
DTSTAMP:20260419T000000Z
UID:06f0ca17-0096-4a51-885f-475b46b0f6f0@ClaytonBocce
DTSTART;TZID=America/Los_Angeles:20260419T170000
DTEND;TZID=America/Los_Angeles:20260419T193000
STATUS:CONFIRMED
SUMMARY:TAKE IT TO MUDVILLE vs BARBER BALLERS
URL:/League/Schedule/2914
DESCRIPTION:Regular Season match: TAKE IT TO MUDVILLE vs BAR
 BER BALLERS
LOCATION:Martinez Court 2
END:VEVENT
BEGIN:VEVENT
DTSTAMP:20260419T000000Z
UID:0b9d20a9-3ec7-46bf-a24a-69268708e92d@ClaytonBocce
DTSTART;TZID=America/Los_Angeles:20260426T170000
DTEND;TZID=America/Los_Angeles:20260426T193000
STATUS:CONFIRMED
SUMMARY:TAKE IT TO MUDVILLE vs SAUCY BALLS
URL:/League/Schedule/2914
DESCRIPTION:Regular Season match: TAKE IT TO MUDVILLE vs SAU
 CY BALLS
LOCATION:Martinez Court 6
END:VEVENT
BEGIN:VEVENT
DTSTAMP:20260419T000000Z
UID:c731f8b8-515d-4c1b-86e1-2771fa2facb3@ClaytonBocce
DTSTART;TZID=America/Los_Angeles:20260517T170000
DTEND;TZID=America/Los_Angeles:20260517T193000
STATUS:CONFIRMED
SUMMARY:TAKE IT TO MUDVILLE vs C. I. A.
URL:/League/Schedule/2914
DESCRIPTION:Regular Season match: TAKE IT TO MUDVILLE vs C. 
 I. A.
LOCATION:Martinez Court 14
END:VEVENT
BEGIN:VEVENT
DTSTAMP:20260419T000000Z
UID:d35cf2c3-7eeb-45a6-ac12-5f7535e38429@ClaytonBocce
DTSTART;TZID=America/Los_Angeles:20260531T170000
DTEND;TZID=America/Los_Angeles:20260531T193000
STATUS:CONFIRMED
SUMMARY:TAKE IT TO MUDVILLE vs PALLINO PALS
URL:/League/Schedule/2914
DESCRIPTION:Regular Season match: TAKE IT TO MUDVILLE vs PAL
 LINO PALS
LOCATION:Martinez Court 4
END:VEVENT
BEGIN:VEVENT
DTSTAMP:20260419T000000Z
UID:1129467f-af59-4142-a4c8-bbe365eb6014@ClaytonBocce
DTSTART;TZID=America/Los_Angeles:20260607T170000
DTEND;TZID=America/Los_Angeles:20260607T193000
STATUS:CONFIRMED
SUMMARY:TAKE IT TO MUDVILLE vs MONEY $HOTS
URL:/League/Schedule/2914
DESCRIPTION:Regular Season match: TAKE IT TO MUDVILLE vs MON
 EY $HOTS
LOCATION:Martinez Court 5
END:VEVENT
BEGIN:VEVENT
DTSTAMP:20260419T000000Z
UID:f302995e-113e-415f-93d2-847e31d7ea12@ClaytonBocce
DTSTART;TZID=America/Los_Angeles:20260614T170000
DTEND;TZID=America/Los_Angeles:20260614T193000
STATUS:CONFIRMED
SUMMARY:TAKE IT TO MUDVILLE vs SEASONED PACK
URL:/League/Schedule/2914
DESCRIPTION:Regular Season match: TAKE IT TO MUDVILLE vs SEA
 SONED PACK
LOCATION:Martinez Court 11
END:VEVENT
BEGIN:VEVENT
DTSTAMP:20260419T000000Z
UID:31f33b55-705a-4eeb-827c-7008a0261d18@ClaytonBocce
DTSTART;TZID=America/Los_Angeles:20260621T170000
DTEND;TZID=America/Los_Angeles:20260621T193000
STATUS:CONFIRMED
SUMMARY:TAKE IT TO MUDVILLE vs BARBER BALLERS
URL:/League/Schedule/2914
DESCRIPTION:Regular Season match: TAKE IT TO MUDVILLE vs BAR
 BER BALLERS
LOCATION:Martinez Court 8
END:VEVENT
BEGIN:VEVENT
DTSTAMP:20260419T000000Z
UID:10ecc4b0-82ba-4a6b-9e9e-188bf6011277@ClaytonBocce
DTSTART;TZID=America/Los_Angeles:20260628T170000
DTEND;TZID=America/Los_Angeles:20260628T193000
STATUS:CONFIRMED
SUMMARY:TAKE IT TO MUDVILLE vs SAUCY BALLS
URL:/League/Schedule/2914
DESCRIPTION:Regular Season match: TAKE IT TO MUDVILLE vs SAU
 CY BALLS
LOCATION:Martinez Court 10
END:VEVENT
BEGIN:VEVENT
DTSTAMP:20260419T000000Z
UID:3710703c-dfe0-480d-82d7-ebdde4399c02@ClaytonBocce
DTSTART;TZID=America/Los_Angeles:20260719T170000
DTEND;TZID=America/Los_Angeles:20260719T193000
STATUS:CONFIRMED
SUMMARY:TAKE IT TO MUDVILLE vs C. I. A.
URL:/League/Schedule/2914
DESCRIPTION:Regular Season match: TAKE IT TO MUDVILLE vs C. 
 I. A.
LOCATION:Martinez Court 7
END:VEVENT
BEGIN:VEVENT
DTSTAMP:20260419T000000Z
UID:0ae55fcb-a1dc-40b2-8e23-f5bd0ff9633b@ClaytonBocce
DTSTART;TZID=America/Los_Angeles:20260726T170000
DTEND;TZID=America/Los_Angeles:20260726T193000
STATUS:CONFIRMED
SUMMARY:TAKE IT TO MUDVILLE vs PALLINO PALS
URL:/League/Schedule/2914
DESCRIPTION:Regular Season match: TAKE IT TO MUDVILLE vs PAL
 LINO PALS
LOCATION:Martinez Court 7
END:VEVENT
BEGIN:VEVENT
DTSTAMP:20260419T000000Z
UID:2afc3546-122f-49d7-9b0d-fd2491af1a4c@ClaytonBocce
DTSTART;TZID=America/Los_Angeles:20260802T170000
DTEND;TZID=America/Los_Angeles:20260802T193000
STATUS:CONFIRMED
SUMMARY:TAKE IT TO MUDVILLE vs MONEY $HOTS
URL:/League/Schedule/2914
DESCRIPTION:Regular Season match: TAKE IT TO MUDVILLE vs MON
 EY $HOTS
LOCATION:Martinez Court 12
END:VEVENT
BEGIN:VEVENT
DTSTAMP:20260419T000000Z
UID:cfa6c362-acf4-48cb-a3d6-3adf10d40165@ClaytonBocce
DTSTART;TZID=America/Los_Angeles:20260809T170000
DTEND;TZID=America/Los_Angeles:20260809T193000
STATUS:CONFIRMED
SUMMARY:TAKE IT TO MUDVILLE vs SEASONED PACK
URL:/League/Schedule/2914
DESCRIPTION:Regular Season match: TAKE IT TO MUDVILLE vs SEA
 SONED PACK
LOCATION:Martinez Court 15
END:VEVENT
BEGIN:VEVENT
DTSTAMP:20260419T000000Z
UID:6beb6d6f-d83e-45e7-b76f-5e571d00dcc2@ClaytonBocce
DTSTART;TZID=America/Los_Angeles:20260816T170000
DTEND;TZID=America/Los_Angeles:20260816T193000
STATUS:CONFIRMED
SUMMARY:TAKE IT TO MUDVILLE vs BARBER BALLERS
URL:/League/Schedule/2914
DESCRIPTION:Regular Season match: TAKE IT TO MUDVILLE vs BAR
 BER BALLERS
LOCATION:Martinez Court 10
END:VEVENT
BEGIN:VEVENT
DTSTAMP:20260419T000000Z
UID:2958d835-8168-4471-9b99-89ca03f7a199@ClaytonBocce
DTSTART;TZID=America/Los_Angeles:20260823T170000
DTEND;TZID=America/Los_Angeles:20260823T193000
STATUS:CONFIRMED
SUMMARY:TAKE IT TO MUDVILLE vs SAUCY BALLS
URL:/League/Schedule/2914
DESCRIPTION:Regular Season match: TAKE IT TO MUDVILLE vs SAU
 CY BALLS
LOCATION:Martinez Court 3
END:VEVENT
BEGIN:VEVENT
DTSTAMP:20260419T000000Z
UID:0228a48b-5a2b-474a-8f0e-f37f512db1c8@ClaytonBocce
DTSTART;TZID=America/Los_Angeles:20260906T170000
DTEND;TZID=America/Los_Angeles:20260906T193000
STATUS:CONFIRMED
SUMMARY:TAKE IT TO MUDVILLE vs C. I. A.
URL:/League/Schedule/2914
DESCRIPTION:Regular Season match: TAKE IT TO MUDVILLE vs C. 
 I. A.
LOCATION:Martinez Court 13
END:VEVENT
BEGIN:VEVENT
DTSTAMP:20260419T000000Z
UID:595f88ab-a4d2-4af9-a3d1-533d530548c8@ClaytonBocce
DTSTART;TZID=America/Los_Angeles:20260913T170000
DTEND;TZID=America/Los_Angeles:20260913T193000
STATUS:CONFIRMED
SUMMARY:TAKE IT TO MUDVILLE vs PALLINO PALS
URL:/League/Schedule/2914
DESCRIPTION:Regular Season match: TAKE IT TO MUDVILLE vs PAL
 LINO PALS
LOCATION:Martinez Court 2
END:VEVENT
BEGIN:VEVENT
DTSTAMP:20260419T000000Z
UID:a21ea87c-a03d-4f21-b766-941b4d153379@ClaytonBocce
DTSTART;TZID=America/Los_Angeles:20260920T170000
DTEND;TZID=America/Los_Angeles:20260920T193000
STATUS:CONFIRMED
SUMMARY:TAKE IT TO MUDVILLE vs MONEY $HOTS
URL:/League/Schedule/2914
DESCRIPTION:Regular Season match: TAKE IT TO MUDVILLE vs MON
 EY $HOTS
LOCATION:Martinez Court 6
END:VEVENT
END:VCALENDAR
