BEGIN:VCALENDAR
VERSION:2.0
PRODID:-//Clayton Bocce League
METHOD:PUBLISH
BEGIN:VTIMEZONE
TZID:America/Los_Angeles
X-LIC-LOCATION:America/Los_Angeles
BEGIN:DAYLIGHT
TZOFFSETFROM:-0800
TZOFFSETTO:-0700
TZNAME:PDT
DTSTART:20070311T020000
RRULE:FREQ=YEARLY;BYMONTH=3;BYDAY=2SU
END:DAYLIGHT
BEGIN:STANDARD
TZOFFSETFROM:-0700
TZOFFSETTO:-0800
TZNAME:PST
DTSTART:20071104T020000
RRULE:FREQ=YEARLY;BYMONTH=11;BYDAY=1SU
END:STANDARD
END:VTIMEZONE
BEGIN:VEVENT
DTSTAMP:20260419T000000Z
UID:e608a00e-3152-43b1-9a24-f31487d8b7dc@ClaytonBocce
DTSTART;TZID=America/Los_Angeles:20260419T170000
DTEND;TZID=America/Los_Angeles:20260419T193000
STATUS:CONFIRMED
SUMMARY:MONEY $HOTS vs PALLINO PALS
URL:/League/Schedule/2912
DESCRIPTION:Regular Season match: MONEY $HOTS vs PALLINO PAL
 S
LOCATION:Martinez Court 3
END:VEVENT
BEGIN:VEVENT
DTSTAMP:20260419T000000Z
UID:ba5a4fdb-153c-487e-ac32-d2720b95eb54@ClaytonBocce
DTSTART;TZID=America/Los_Angeles:20260426T170000
DTEND;TZID=America/Los_Angeles:20260426T193000
STATUS:CONFIRMED
SUMMARY:MONEY $HOTS vs BARBER BALLERS
URL:/League/Schedule/2912
DESCRIPTION:Regular Season match: MONEY $HOTS vs BARBER BALL
 ERS
LOCATION:Martinez Court 7
END:VEVENT
BEGIN:VEVENT
DTSTAMP:20260419T000000Z
UID:13addee3-b4df-4063-a80c-ad7409aae3f3@ClaytonBocce
DTSTART;TZID=America/Los_Angeles:20260503T170000
DTEND;TZID=America/Los_Angeles:20260503T193000
STATUS:CONFIRMED
SUMMARY:MONEY $HOTS vs SEASONED PACK
URL:/League/Schedule/2912
DESCRIPTION:Regular Season match: MONEY $HOTS vs SEASONED PA
 CK
LOCATION:Martinez Court 13
END:VEVENT
BEGIN:VEVENT
DTSTAMP:20260419T000000Z
UID:bca6ee95-ca87-481f-b54f-bc5fae04defe@ClaytonBocce
DTSTART;TZID=America/Los_Angeles:20260517T170000
DTEND;TZID=America/Los_Angeles:20260517T193000
STATUS:CONFIRMED
SUMMARY:MONEY $HOTS vs SAUCY BALLS
URL:/League/Schedule/2912
DESCRIPTION:Regular Season match: MONEY $HOTS vs SAUCY BALLS
LOCATION:Martinez Court 15
END:VEVENT
BEGIN:VEVENT
DTSTAMP:20260419T000000Z
UID:1129467f-af59-4142-a4c8-bbe365eb6014@ClaytonBocce
DTSTART;TZID=America/Los_Angeles:20260607T170000
DTEND;TZID=America/Los_Angeles:20260607T193000
STATUS:CONFIRMED
SUMMARY:MONEY $HOTS vs TAKE IT TO MUDVILLE
URL:/League/Schedule/2912
DESCRIPTION:Regular Season match: MONEY $HOTS vs TAKE IT TO 
 MUDVILLE
LOCATION:Martinez Court 5
END:VEVENT
BEGIN:VEVENT
DTSTAMP:20260419T000000Z
UID:7f6a497c-f261-4af5-a383-44fb9a33560d@ClaytonBocce
DTSTART;TZID=America/Los_Angeles:20260614T170000
DTEND;TZID=America/Los_Angeles:20260614T193000
STATUS:CONFIRMED
SUMMARY:MONEY $HOTS vs C. I. A.
URL:/League/Schedule/2912
DESCRIPTION:Regular Season match: MONEY $HOTS vs C. I. A.
LOCATION:Martinez Court 2
END:VEVENT
BEGIN:VEVENT
DTSTAMP:20260419T000000Z
UID:7f5c5ec3-8fff-47ef-97b2-d15bb6acb4cc@ClaytonBocce
DTSTART;TZID=America/Los_Angeles:20260621T170000
DTEND;TZID=America/Los_Angeles:20260621T193000
STATUS:CONFIRMED
SUMMARY:MONEY $HOTS vs PALLINO PALS
URL:/League/Schedule/2912
DESCRIPTION:Regular Season match: MONEY $HOTS vs PALLINO PAL
 S
LOCATION:Martinez Court 1
END:VEVENT
BEGIN:VEVENT
DTSTAMP:20260419T000000Z
UID:0a3cd68b-8c1c-4677-a046-f507f1eaba8d@ClaytonBocce
DTSTART;TZID=America/Los_Angeles:20260628T170000
DTEND;TZID=America/Los_Angeles:20260628T193000
STATUS:CONFIRMED
SUMMARY:MONEY $HOTS vs BARBER BALLERS
URL:/League/Schedule/2912
DESCRIPTION:Regular Season match: MONEY $HOTS vs BARBER BALL
 ERS
LOCATION:Martinez Court 4
END:VEVENT
BEGIN:VEVENT
DTSTAMP:20260419T000000Z
UID:3645d432-0c3a-4443-b484-69ac3dd86c1b@ClaytonBocce
DTSTART;TZID=America/Los_Angeles:20260712T170000
DTEND;TZID=America/Los_Angeles:20260712T193000
STATUS:CONFIRMED
SUMMARY:MONEY $HOTS vs SEASONED PACK
URL:/League/Schedule/2912
DESCRIPTION:Regular Season match: MONEY $HOTS vs SEASONED PA
 CK
LOCATION:Martinez Court 14
END:VEVENT
BEGIN:VEVENT
DTSTAMP:20260419T000000Z
UID:1cd995cd-87e5-41b0-8a05-c38f7f7aa794@ClaytonBocce
DTSTART;TZID=America/Los_Angeles:20260719T170000
DTEND;TZID=America/Los_Angeles:20260719T193000
STATUS:CONFIRMED
SUMMARY:MONEY $HOTS vs SAUCY BALLS
URL:/League/Schedule/2912
DESCRIPTION:Regular Season match: MONEY $HOTS vs SAUCY BALLS
LOCATION:Martinez Court 8
END:VEVENT
BEGIN:VEVENT
DTSTAMP:20260419T000000Z
UID:2afc3546-122f-49d7-9b0d-fd2491af1a4c@ClaytonBocce
DTSTART;TZID=America/Los_Angeles:20260802T170000
DTEND;TZID=America/Los_Angeles:20260802T193000
STATUS:CONFIRMED
SUMMARY:MONEY $HOTS vs TAKE IT TO MUDVILLE
URL:/League/Schedule/2912
DESCRIPTION:Regular Season match: MONEY $HOTS vs TAKE IT TO 
 MUDVILLE
LOCATION:Martinez Court 12
END:VEVENT
BEGIN:VEVENT
DTSTAMP:20260419T000000Z
UID:6f5f5366-6320-48bc-af27-95a73df063e5@ClaytonBocce
DTSTART;TZID=America/Los_Angeles:20260809T170000
DTEND;TZID=America/Los_Angeles:20260809T193000
STATUS:CONFIRMED
SUMMARY:MONEY $HOTS vs C. I. A.
URL:/League/Schedule/2912
DESCRIPTION:Regular Season match: MONEY $HOTS vs C. I. A.
LOCATION:Martinez Court 4
END:VEVENT
BEGIN:VEVENT
DTSTAMP:20260419T000000Z
UID:3daf20ab-520f-4e69-8382-7213333533bb@ClaytonBocce
DTSTART;TZID=America/Los_Angeles:20260816T170000
DTEND;TZID=America/Los_Angeles:20260816T193000
STATUS:CONFIRMED
SUMMARY:MONEY $HOTS vs PALLINO PALS
URL:/League/Schedule/2912
DESCRIPTION:Regular Season match: MONEY $HOTS vs PALLINO PAL
 S
LOCATION:Martinez Court 7
END:VEVENT
BEGIN:VEVENT
DTSTAMP:20260419T000000Z
UID:73aa0356-351b-4f44-81b6-5d8246054e78@ClaytonBocce
DTSTART;TZID=America/Los_Angeles:20260823T170000
DTEND;TZID=America/Los_Angeles:20260823T193000
STATUS:CONFIRMED
SUMMARY:MONEY $HOTS vs BARBER BALLERS
URL:/League/Schedule/2912
DESCRIPTION:Regular Season match: MONEY $HOTS vs BARBER BALL
 ERS
LOCATION:Martinez Court 2
END:VEVENT
BEGIN:VEVENT
DTSTAMP:20260419T000000Z
UID:7830d025-6f72-44a0-b9e9-0fb14ca43db1@ClaytonBocce
DTSTART;TZID=America/Los_Angeles:20260830T170000
DTEND;TZID=America/Los_Angeles:20260830T193000
STATUS:CONFIRMED
SUMMARY:MONEY $HOTS vs SEASONED PACK
URL:/League/Schedule/2912
DESCRIPTION:Regular Season match: MONEY $HOTS vs SEASONED PA
 CK
LOCATION:Martinez Court 5
END:VEVENT
BEGIN:VEVENT
DTSTAMP:20260419T000000Z
UID:9781a19f-b163-4dd0-8ed7-19fc4795a9ba@ClaytonBocce
DTSTART;TZID=America/Los_Angeles:20260906T170000
DTEND;TZID=America/Los_Angeles:20260906T193000
STATUS:CONFIRMED
SUMMARY:MONEY $HOTS vs SAUCY BALLS
URL:/League/Schedule/2912
DESCRIPTION:Regular Season match: MONEY $HOTS vs SAUCY BALLS
LOCATION:Martinez Court 12
END:VEVENT
BEGIN:VEVENT
DTSTAMP:20260419T000000Z
UID:a21ea87c-a03d-4f21-b766-941b4d153379@ClaytonBocce
DTSTART;TZID=America/Los_Angeles:20260920T170000
DTEND;TZID=America/Los_Angeles:20260920T193000
STATUS:CONFIRMED
SUMMARY:MONEY $HOTS vs TAKE IT TO MUDVILLE
URL:/League/Schedule/2912
DESCRIPTION:Regular Season match: MONEY $HOTS vs TAKE IT TO 
 MUDVILLE
LOCATION:Martinez Court 6
END:VEVENT
END:VCALENDAR
