BEGIN:VCALENDAR
VERSION:2.0
PRODID:-//Clayton Bocce League
METHOD:PUBLISH
BEGIN:VTIMEZONE
TZID:America/Los_Angeles
X-LIC-LOCATION:America/Los_Angeles
BEGIN:DAYLIGHT
TZOFFSETFROM:-0800
TZOFFSETTO:-0700
TZNAME:PDT
DTSTART:20070311T020000
RRULE:FREQ=YEARLY;BYMONTH=3;BYDAY=2SU
END:DAYLIGHT
BEGIN:STANDARD
TZOFFSETFROM:-0700
TZOFFSETTO:-0800
TZNAME:PST
DTSTART:20071104T020000
RRULE:FREQ=YEARLY;BYMONTH=11;BYDAY=1SU
END:STANDARD
END:VTIMEZONE
BEGIN:VEVENT
DTSTAMP:20260419T000000Z
UID:e608a00e-3152-43b1-9a24-f31487d8b7dc@ClaytonBocce
DTSTART;TZID=America/Los_Angeles:20260419T170000
DTEND;TZID=America/Los_Angeles:20260419T193000
STATUS:CONFIRMED
SUMMARY:PALLINO PALS vs MONEY $HOTS
URL:/League/Schedule/2913
DESCRIPTION:Regular Season match: PALLINO PALS vs MONEY $HOT
 S
LOCATION:Martinez Court 3
END:VEVENT
BEGIN:VEVENT
DTSTAMP:20260419T000000Z
UID:b6537178-828b-4e76-a9b8-2e638b9da861@ClaytonBocce
DTSTART;TZID=America/Los_Angeles:20260426T170000
DTEND;TZID=America/Los_Angeles:20260426T193000
STATUS:CONFIRMED
SUMMARY:PALLINO PALS vs SEASONED PACK
URL:/League/Schedule/2913
DESCRIPTION:Regular Season match: PALLINO PALS vs SEASONED P
 ACK
LOCATION:Martinez Court 8
END:VEVENT
BEGIN:VEVENT
DTSTAMP:20260419T000000Z
UID:6cce380a-5f37-48a4-a560-90bbb699b9f1@ClaytonBocce
DTSTART;TZID=America/Los_Angeles:20260503T170000
DTEND;TZID=America/Los_Angeles:20260503T193000
STATUS:CONFIRMED
SUMMARY:PALLINO PALS vs SAUCY BALLS
URL:/League/Schedule/2913
DESCRIPTION:Regular Season match: PALLINO PALS vs SAUCY BALL
 S
LOCATION:Martinez Court 11
END:VEVENT
BEGIN:VEVENT
DTSTAMP:20260419T000000Z
UID:d35cf2c3-7eeb-45a6-ac12-5f7535e38429@ClaytonBocce
DTSTART;TZID=America/Los_Angeles:20260531T170000
DTEND;TZID=America/Los_Angeles:20260531T193000
STATUS:CONFIRMED
SUMMARY:PALLINO PALS vs TAKE IT TO MUDVILLE
URL:/League/Schedule/2913
DESCRIPTION:Regular Season match: PALLINO PALS vs TAKE IT TO
  MUDVILLE
LOCATION:Martinez Court 4
END:VEVENT
BEGIN:VEVENT
DTSTAMP:20260419T000000Z
UID:a215ac02-8f0d-4e3b-a6ef-cacbf5f4c7a1@ClaytonBocce
DTSTART;TZID=America/Los_Angeles:20260607T170000
DTEND;TZID=America/Los_Angeles:20260607T193000
STATUS:CONFIRMED
SUMMARY:PALLINO PALS vs C. I. A.
URL:/League/Schedule/2913
DESCRIPTION:Regular Season match: PALLINO PALS vs C. I. A.
LOCATION:Martinez Court 6
END:VEVENT
BEGIN:VEVENT
DTSTAMP:20260419T000000Z
UID:b43678b2-0a46-4e94-b044-fd3f315d472e@ClaytonBocce
DTSTART;TZID=America/Los_Angeles:20260614T170000
DTEND;TZID=America/Los_Angeles:20260614T193000
STATUS:CONFIRMED
SUMMARY:PALLINO PALS vs BARBER BALLERS
URL:/League/Schedule/2913
DESCRIPTION:Regular Season match: PALLINO PALS vs BARBER BAL
 LERS
LOCATION:Martinez Court 10
END:VEVENT
BEGIN:VEVENT
DTSTAMP:20260419T000000Z
UID:7f5c5ec3-8fff-47ef-97b2-d15bb6acb4cc@ClaytonBocce
DTSTART;TZID=America/Los_Angeles:20260621T170000
DTEND;TZID=America/Los_Angeles:20260621T193000
STATUS:CONFIRMED
SUMMARY:PALLINO PALS vs MONEY $HOTS
URL:/League/Schedule/2913
DESCRIPTION:Regular Season match: PALLINO PALS vs MONEY $HOT
 S
LOCATION:Martinez Court 1
END:VEVENT
BEGIN:VEVENT
DTSTAMP:20260419T000000Z
UID:43f38ba9-0a69-40b4-ae53-3117d992ffc5@ClaytonBocce
DTSTART;TZID=America/Los_Angeles:20260628T170000
DTEND;TZID=America/Los_Angeles:20260628T193000
STATUS:CONFIRMED
SUMMARY:PALLINO PALS vs SEASONED PACK
URL:/League/Schedule/2913
DESCRIPTION:Regular Season match: PALLINO PALS vs SEASONED P
 ACK
LOCATION:Martinez Court 12
END:VEVENT
BEGIN:VEVENT
DTSTAMP:20260419T000000Z
UID:17e8c5bf-0334-4498-9e6a-27889d7375ff@ClaytonBocce
DTSTART;TZID=America/Los_Angeles:20260712T170000
DTEND;TZID=America/Los_Angeles:20260712T193000
STATUS:CONFIRMED
SUMMARY:PALLINO PALS vs SAUCY BALLS
URL:/League/Schedule/2913
DESCRIPTION:Regular Season match: PALLINO PALS vs SAUCY BALL
 S
LOCATION:Martinez Court 13
END:VEVENT
BEGIN:VEVENT
DTSTAMP:20260419T000000Z
UID:0ae55fcb-a1dc-40b2-8e23-f5bd0ff9633b@ClaytonBocce
DTSTART;TZID=America/Los_Angeles:20260726T170000
DTEND;TZID=America/Los_Angeles:20260726T193000
STATUS:CONFIRMED
SUMMARY:PALLINO PALS vs TAKE IT TO MUDVILLE
URL:/League/Schedule/2913
DESCRIPTION:Regular Season match: PALLINO PALS vs TAKE IT TO
  MUDVILLE
LOCATION:Martinez Court 7
END:VEVENT
BEGIN:VEVENT
DTSTAMP:20260419T000000Z
UID:81357cf6-a91a-4363-a282-4147bdf4b783@ClaytonBocce
DTSTART;TZID=America/Los_Angeles:20260802T170000
DTEND;TZID=America/Los_Angeles:20260802T193000
STATUS:CONFIRMED
SUMMARY:PALLINO PALS vs C. I. A.
URL:/League/Schedule/2913
DESCRIPTION:Regular Season match: PALLINO PALS vs C. I. A.
LOCATION:Martinez Court 3
END:VEVENT
BEGIN:VEVENT
DTSTAMP:20260419T000000Z
UID:67bc45c7-943b-49f5-850d-6dd29fa13cc3@ClaytonBocce
DTSTART;TZID=America/Los_Angeles:20260809T170000
DTEND;TZID=America/Los_Angeles:20260809T193000
STATUS:CONFIRMED
SUMMARY:PALLINO PALS vs BARBER BALLERS
URL:/League/Schedule/2913
DESCRIPTION:Regular Season match: PALLINO PALS vs BARBER BAL
 LERS
LOCATION:Martinez Court 13
END:VEVENT
BEGIN:VEVENT
DTSTAMP:20260419T000000Z
UID:3daf20ab-520f-4e69-8382-7213333533bb@ClaytonBocce
DTSTART;TZID=America/Los_Angeles:20260816T170000
DTEND;TZID=America/Los_Angeles:20260816T193000
STATUS:CONFIRMED
SUMMARY:PALLINO PALS vs MONEY $HOTS
URL:/League/Schedule/2913
DESCRIPTION:Regular Season match: PALLINO PALS vs MONEY $HOT
 S
LOCATION:Martinez Court 7
END:VEVENT
BEGIN:VEVENT
DTSTAMP:20260419T000000Z
UID:9493d625-271b-466e-bfdc-de067257beda@ClaytonBocce
DTSTART;TZID=America/Los_Angeles:20260823T170000
DTEND;TZID=America/Los_Angeles:20260823T193000
STATUS:CONFIRMED
SUMMARY:PALLINO PALS vs SEASONED PACK
URL:/League/Schedule/2913
DESCRIPTION:Regular Season match: PALLINO PALS vs SEASONED P
 ACK
LOCATION:Martinez Court 6
END:VEVENT
BEGIN:VEVENT
DTSTAMP:20260419T000000Z
UID:c248a852-8f1b-449a-aca3-6566bed32be6@ClaytonBocce
DTSTART;TZID=America/Los_Angeles:20260830T170000
DTEND;TZID=America/Los_Angeles:20260830T193000
STATUS:CONFIRMED
SUMMARY:PALLINO PALS vs SAUCY BALLS
URL:/League/Schedule/2913
DESCRIPTION:Regular Season match: PALLINO PALS vs SAUCY BALL
 S
LOCATION:Martinez Court 14
END:VEVENT
BEGIN:VEVENT
DTSTAMP:20260419T000000Z
UID:595f88ab-a4d2-4af9-a3d1-533d530548c8@ClaytonBocce
DTSTART;TZID=America/Los_Angeles:20260913T170000
DTEND;TZID=America/Los_Angeles:20260913T193000
STATUS:CONFIRMED
SUMMARY:PALLINO PALS vs TAKE IT TO MUDVILLE
URL:/League/Schedule/2913
DESCRIPTION:Regular Season match: PALLINO PALS vs TAKE IT TO
  MUDVILLE
LOCATION:Martinez Court 2
END:VEVENT
BEGIN:VEVENT
DTSTAMP:20260419T000000Z
UID:263548f0-ed6d-47ad-ad11-8cfc5511b883@ClaytonBocce
DTSTART;TZID=America/Los_Angeles:20260920T170000
DTEND;TZID=America/Los_Angeles:20260920T193000
STATUS:CONFIRMED
SUMMARY:PALLINO PALS vs C. I. A.
URL:/League/Schedule/2913
DESCRIPTION:Regular Season match: PALLINO PALS vs C. I. A.
LOCATION:Martinez Court 5
END:VEVENT
END:VCALENDAR
