BEGIN:VCALENDAR
VERSION:2.0
PRODID:-//Clayton Bocce League
METHOD:PUBLISH
BEGIN:VTIMEZONE
TZID:America/Los_Angeles
X-LIC-LOCATION:America/Los_Angeles
BEGIN:DAYLIGHT
TZOFFSETFROM:-0800
TZOFFSETTO:-0700
TZNAME:PDT
DTSTART:20070311T020000
RRULE:FREQ=YEARLY;BYMONTH=3;BYDAY=2SU
END:DAYLIGHT
BEGIN:STANDARD
TZOFFSETFROM:-0700
TZOFFSETTO:-0800
TZNAME:PST
DTSTART:20071104T020000
RRULE:FREQ=YEARLY;BYMONTH=11;BYDAY=1SU
END:STANDARD
END:VTIMEZONE
BEGIN:VEVENT
DTSTAMP:20260419T000000Z
UID:8fa36ec0-9bf1-414a-9e32-9286ddf44e2e@ClaytonBocce
DTSTART;TZID=America/Los_Angeles:20260419T170000
DTEND;TZID=America/Los_Angeles:20260419T193000
STATUS:CONFIRMED
SUMMARY:BOCCE SNATCHERS vs CLOSE ENOUGH
URL:/League/Schedule/2943
DESCRIPTION:Regular Season match: BOCCE SNATCHERS vs CLOSE E
 NOUGH
LOCATION:Martinez Court 13
END:VEVENT
BEGIN:VEVENT
DTSTAMP:20260419T000000Z
UID:f7101706-42b8-403d-b1f2-c5d771cf27c0@ClaytonBocce
DTSTART;TZID=America/Los_Angeles:20260503T170000
DTEND;TZID=America/Los_Angeles:20260503T193000
STATUS:CONFIRMED
SUMMARY:BOCCE SNATCHERS vs BOCCE OF THRONES
URL:/League/Schedule/2943
DESCRIPTION:Regular Season match: BOCCE SNATCHERS vs BOCCE O
 F THRONES
LOCATION:Martinez Court 9
END:VEVENT
BEGIN:VEVENT
DTSTAMP:20260419T000000Z
UID:aeeeb6cd-6f8e-42d6-84ef-10116a667dff@ClaytonBocce
DTSTART;TZID=America/Los_Angeles:20260517T170000
DTEND;TZID=America/Los_Angeles:20260517T193000
STATUS:CONFIRMED
SUMMARY:BOCCE SNATCHERS vs ACE ROLLERS
URL:/League/Schedule/2943
DESCRIPTION:Regular Season match: BOCCE SNATCHERS vs ACE ROL
 LERS
LOCATION:Martinez Court 11
END:VEVENT
BEGIN:VEVENT
DTSTAMP:20260419T000000Z
UID:fb22de0a-1088-40f8-a86a-3bb2eb5ec224@ClaytonBocce
DTSTART;TZID=America/Los_Angeles:20260531T170000
DTEND;TZID=America/Los_Angeles:20260531T193000
STATUS:CONFIRMED
SUMMARY:BOCCE SNATCHERS vs FUHGETABOCCE
URL:/League/Schedule/2943
DESCRIPTION:Regular Season match: BOCCE SNATCHERS vs FUHGETA
 BOCCE
LOCATION:Martinez Court 2
END:VEVENT
BEGIN:VEVENT
DTSTAMP:20260419T000000Z
UID:9d6213b1-b3c4-4122-9f55-f3bf685677d1@ClaytonBocce
DTSTART;TZID=America/Los_Angeles:20260607T170000
DTEND;TZID=America/Los_Angeles:20260607T193000
STATUS:CONFIRMED
SUMMARY:BOCCE SNATCHERS vs CANCEL MY APPOINTMENTS AND HOLD A
 LL MY BALLS
URL:/League/Schedule/2943
DESCRIPTION:Regular Season match: BOCCE SNATCHERS vs CANCEL 
 MY APPOINTMENTS AND HOLD ALL MY BALLS
LOCATION:Martinez Court 3
END:VEVENT
BEGIN:VEVENT
DTSTAMP:20260419T000000Z
UID:b14e2f3e-4cf3-4df8-8613-1cf055522d8a@ClaytonBocce
DTSTART;TZID=America/Los_Angeles:20260614T170000
DTEND;TZID=America/Los_Angeles:20260614T193000
STATUS:CONFIRMED
SUMMARY:BOCCE SNATCHERS vs V.A. NOBLES
URL:/League/Schedule/2943
DESCRIPTION:Regular Season match: BOCCE SNATCHERS vs V.A. NO
 BLES
LOCATION:Martinez Court 6
END:VEVENT
BEGIN:VEVENT
DTSTAMP:20260419T000000Z
UID:ade5e42e-a0c8-4440-92d6-5a4695d27a98@ClaytonBocce
DTSTART;TZID=America/Los_Angeles:20260621T170000
DTEND;TZID=America/Los_Angeles:20260621T193000
STATUS:CONFIRMED
SUMMARY:BOCCE SNATCHERS vs CLOSE ENOUGH
URL:/League/Schedule/2943
DESCRIPTION:Regular Season match: BOCCE SNATCHERS vs CLOSE E
 NOUGH
LOCATION:Martinez Court 14
END:VEVENT
BEGIN:VEVENT
DTSTAMP:20260419T000000Z
UID:6eddc784-0b32-4738-9daa-3743947eb87b@ClaytonBocce
DTSTART;TZID=America/Los_Angeles:20260712T170000
DTEND;TZID=America/Los_Angeles:20260712T193000
STATUS:CONFIRMED
SUMMARY:BOCCE SNATCHERS vs BOCCE OF THRONES
URL:/League/Schedule/2943
DESCRIPTION:Regular Season match: BOCCE SNATCHERS vs BOCCE O
 F THRONES
LOCATION:Martinez Court 1
END:VEVENT
BEGIN:VEVENT
DTSTAMP:20260419T000000Z
UID:79868891-21a8-43e2-9559-0e90be3949bd@ClaytonBocce
DTSTART;TZID=America/Los_Angeles:20260719T170000
DTEND;TZID=America/Los_Angeles:20260719T193000
STATUS:CONFIRMED
SUMMARY:BOCCE SNATCHERS vs ACE ROLLERS
URL:/League/Schedule/2943
DESCRIPTION:Regular Season match: BOCCE SNATCHERS vs ACE ROL
 LERS
LOCATION:Martinez Court 4
END:VEVENT
BEGIN:VEVENT
DTSTAMP:20260419T000000Z
UID:82206b03-e93a-471d-b585-ab0f7afc981a@ClaytonBocce
DTSTART;TZID=America/Los_Angeles:20260726T170000
DTEND;TZID=America/Los_Angeles:20260726T193000
STATUS:CONFIRMED
SUMMARY:BOCCE SNATCHERS vs FUHGETABOCCE
URL:/League/Schedule/2943
DESCRIPTION:Regular Season match: BOCCE SNATCHERS vs FUHGETA
 BOCCE
LOCATION:Martinez Court 9
END:VEVENT
BEGIN:VEVENT
DTSTAMP:20260419T000000Z
UID:219bb017-25b8-45fe-98c8-3205e517e4a1@ClaytonBocce
DTSTART;TZID=America/Los_Angeles:20260802T170000
DTEND;TZID=America/Los_Angeles:20260802T193000
STATUS:CONFIRMED
SUMMARY:BOCCE SNATCHERS vs CANCEL MY APPOINTMENTS AND HOLD A
 LL MY BALLS
URL:/League/Schedule/2943
DESCRIPTION:Regular Season match: BOCCE SNATCHERS vs CANCEL 
 MY APPOINTMENTS AND HOLD ALL MY BALLS
LOCATION:Martinez Court 5
END:VEVENT
BEGIN:VEVENT
DTSTAMP:20260419T000000Z
UID:315e3b17-1bf3-4c0f-b066-1090bd633a5d@ClaytonBocce
DTSTART;TZID=America/Los_Angeles:20260809T170000
DTEND;TZID=America/Los_Angeles:20260809T193000
STATUS:CONFIRMED
SUMMARY:BOCCE SNATCHERS vs V.A. NOBLES
URL:/League/Schedule/2943
DESCRIPTION:Regular Season match: BOCCE SNATCHERS vs V.A. NO
 BLES
LOCATION:Martinez Court 12
END:VEVENT
BEGIN:VEVENT
DTSTAMP:20260419T000000Z
UID:b8a7c20f-f322-474f-9aa4-ef6889387f72@ClaytonBocce
DTSTART;TZID=America/Los_Angeles:20260816T170000
DTEND;TZID=America/Los_Angeles:20260816T193000
STATUS:CONFIRMED
SUMMARY:BOCCE SNATCHERS vs CLOSE ENOUGH
URL:/League/Schedule/2943
DESCRIPTION:Regular Season match: BOCCE SNATCHERS vs CLOSE E
 NOUGH
LOCATION:Martinez Court 6
END:VEVENT
BEGIN:VEVENT
DTSTAMP:20260419T000000Z
UID:042928a2-05eb-4b13-9ee4-3a9168d5b604@ClaytonBocce
DTSTART;TZID=America/Los_Angeles:20260830T170000
DTEND;TZID=America/Los_Angeles:20260830T193000
STATUS:CONFIRMED
SUMMARY:BOCCE SNATCHERS vs BOCCE OF THRONES
URL:/League/Schedule/2943
DESCRIPTION:Regular Season match: BOCCE SNATCHERS vs BOCCE O
 F THRONES
LOCATION:Martinez Court 1
END:VEVENT
BEGIN:VEVENT
DTSTAMP:20260419T000000Z
UID:38acdf19-971c-4ef7-8dc1-ccfdaee51dbb@ClaytonBocce
DTSTART;TZID=America/Los_Angeles:20260906T170000
DTEND;TZID=America/Los_Angeles:20260906T193000
STATUS:CONFIRMED
SUMMARY:BOCCE SNATCHERS vs ACE ROLLERS
URL:/League/Schedule/2943
DESCRIPTION:Regular Season match: BOCCE SNATCHERS vs ACE ROL
 LERS
LOCATION:Martinez Court 10
END:VEVENT
BEGIN:VEVENT
DTSTAMP:20260419T000000Z
UID:11a8bb02-0b9c-4b7a-b6cf-b3bc51e99e3c@ClaytonBocce
DTSTART;TZID=America/Los_Angeles:20260913T170000
DTEND;TZID=America/Los_Angeles:20260913T193000
STATUS:CONFIRMED
SUMMARY:BOCCE SNATCHERS vs FUHGETABOCCE
URL:/League/Schedule/2943
DESCRIPTION:Regular Season match: BOCCE SNATCHERS vs FUHGETA
 BOCCE
LOCATION:Martinez Court 15
END:VEVENT
BEGIN:VEVENT
DTSTAMP:20260419T000000Z
UID:804679da-e80c-4ef1-9085-1444ad8a414c@ClaytonBocce
DTSTART;TZID=America/Los_Angeles:20260920T170000
DTEND;TZID=America/Los_Angeles:20260920T193000
STATUS:CONFIRMED
SUMMARY:BOCCE SNATCHERS vs CANCEL MY APPOINTMENTS AND HOLD A
 LL MY BALLS
URL:/League/Schedule/2943
DESCRIPTION:Regular Season match: BOCCE SNATCHERS vs CANCEL 
 MY APPOINTMENTS AND HOLD ALL MY BALLS
LOCATION:Martinez Court 3
END:VEVENT
END:VCALENDAR
