BEGIN:VCALENDAR
VERSION:2.0
PRODID:-//Clayton Bocce League
METHOD:PUBLISH
BEGIN:VTIMEZONE
TZID:America/Los_Angeles
X-LIC-LOCATION:America/Los_Angeles
BEGIN:DAYLIGHT
TZOFFSETFROM:-0800
TZOFFSETTO:-0700
TZNAME:PDT
DTSTART:20070311T020000
RRULE:FREQ=YEARLY;BYMONTH=3;BYDAY=2SU
END:DAYLIGHT
BEGIN:STANDARD
TZOFFSETFROM:-0700
TZOFFSETTO:-0800
TZNAME:PST
DTSTART:20071104T020000
RRULE:FREQ=YEARLY;BYMONTH=11;BYDAY=1SU
END:STANDARD
END:VTIMEZONE
BEGIN:VEVENT
DTSTAMP:20260419T000000Z
UID:8fa36ec0-9bf1-414a-9e32-9286ddf44e2e@ClaytonBocce
DTSTART;TZID=America/Los_Angeles:20260419T170000
DTEND;TZID=America/Los_Angeles:20260419T193000
STATUS:CONFIRMED
SUMMARY:CLOSE ENOUGH vs BOCCE SNATCHERS
URL:/League/Schedule/2938
DESCRIPTION:Regular Season match: CLOSE ENOUGH vs BOCCE SNAT
 CHERS
LOCATION:Martinez Court 13
END:VEVENT
BEGIN:VEVENT
DTSTAMP:20260419T000000Z
UID:f267cfa6-46a3-4b9d-922b-f3990d507604@ClaytonBocce
DTSTART;TZID=America/Los_Angeles:20260426T170000
DTEND;TZID=America/Los_Angeles:20260426T193000
STATUS:CONFIRMED
SUMMARY:CLOSE ENOUGH vs ACE ROLLERS
URL:/League/Schedule/2938
DESCRIPTION:Regular Season match: CLOSE ENOUGH vs ACE ROLLER
 S
LOCATION:Martinez Court 3
END:VEVENT
BEGIN:VEVENT
DTSTAMP:20260419T000000Z
UID:078c7e50-206b-4cd5-81eb-cafb1e822440@ClaytonBocce
DTSTART;TZID=America/Los_Angeles:20260503T170000
DTEND;TZID=America/Los_Angeles:20260503T193000
STATUS:CONFIRMED
SUMMARY:CLOSE ENOUGH vs CANCEL MY APPOINTMENTS AND HOLD ALL 
 MY BALLS
URL:/League/Schedule/2938
DESCRIPTION:Regular Season match: CLOSE ENOUGH vs CANCEL MY 
 APPOINTMENTS AND HOLD ALL MY BALLS
LOCATION:Martinez Court 8
END:VEVENT
BEGIN:VEVENT
DTSTAMP:20260419T000000Z
UID:1cbe5b7c-952e-4cd2-907c-3f58776f7011@ClaytonBocce
DTSTART;TZID=America/Los_Angeles:20260517T170000
DTEND;TZID=America/Los_Angeles:20260517T193000
STATUS:CONFIRMED
SUMMARY:CLOSE ENOUGH vs V.A. NOBLES
URL:/League/Schedule/2938
DESCRIPTION:Regular Season match: CLOSE ENOUGH vs V.A. NOBLE
 S
LOCATION:Martinez Court 7
END:VEVENT
BEGIN:VEVENT
DTSTAMP:20260419T000000Z
UID:8b5e7ef4-9596-49fd-bd52-7e7ab52df6e0@ClaytonBocce
DTSTART;TZID=America/Los_Angeles:20260531T170000
DTEND;TZID=America/Los_Angeles:20260531T193000
STATUS:CONFIRMED
SUMMARY:CLOSE ENOUGH vs BOCCE OF THRONES
URL:/League/Schedule/2938
DESCRIPTION:Regular Season match: CLOSE ENOUGH vs BOCCE OF T
 HRONES
LOCATION:Martinez Court 15
END:VEVENT
BEGIN:VEVENT
DTSTAMP:20260419T000000Z
UID:4e3afd4d-d336-4121-b57b-29a2a40eedca@ClaytonBocce
DTSTART;TZID=America/Los_Angeles:20260607T170000
DTEND;TZID=America/Los_Angeles:20260607T193000
STATUS:CONFIRMED
SUMMARY:CLOSE ENOUGH vs FUHGETABOCCE
URL:/League/Schedule/2938
DESCRIPTION:Regular Season match: CLOSE ENOUGH vs FUHGETABOC
 CE
LOCATION:Martinez Court 1
END:VEVENT
BEGIN:VEVENT
DTSTAMP:20260419T000000Z
UID:ade5e42e-a0c8-4440-92d6-5a4695d27a98@ClaytonBocce
DTSTART;TZID=America/Los_Angeles:20260621T170000
DTEND;TZID=America/Los_Angeles:20260621T193000
STATUS:CONFIRMED
SUMMARY:CLOSE ENOUGH vs BOCCE SNATCHERS
URL:/League/Schedule/2938
DESCRIPTION:Regular Season match: CLOSE ENOUGH vs BOCCE SNAT
 CHERS
LOCATION:Martinez Court 14
END:VEVENT
BEGIN:VEVENT
DTSTAMP:20260419T000000Z
UID:4a4c4cdb-43c0-49b7-a913-191ae671fefd@ClaytonBocce
DTSTART;TZID=America/Los_Angeles:20260628T170000
DTEND;TZID=America/Los_Angeles:20260628T193000
STATUS:CONFIRMED
SUMMARY:CLOSE ENOUGH vs ACE ROLLERS
URL:/League/Schedule/2938
DESCRIPTION:Regular Season match: CLOSE ENOUGH vs ACE ROLLER
 S
LOCATION:Martinez Court 7
END:VEVENT
BEGIN:VEVENT
DTSTAMP:20260419T000000Z
UID:a12f5591-2d1a-486b-bf99-788073753bc3@ClaytonBocce
DTSTART;TZID=America/Los_Angeles:20260712T170000
DTEND;TZID=America/Los_Angeles:20260712T193000
STATUS:CONFIRMED
SUMMARY:CLOSE ENOUGH vs CANCEL MY APPOINTMENTS AND HOLD ALL 
 MY BALLS
URL:/League/Schedule/2938
DESCRIPTION:Regular Season match: CLOSE ENOUGH vs CANCEL MY 
 APPOINTMENTS AND HOLD ALL MY BALLS
LOCATION:Martinez Court 12
END:VEVENT
BEGIN:VEVENT
DTSTAMP:20260419T000000Z
UID:edf9fada-b07a-46fb-b881-4838e97c1247@ClaytonBocce
DTSTART;TZID=America/Los_Angeles:20260719T170000
DTEND;TZID=America/Los_Angeles:20260719T193000
STATUS:CONFIRMED
SUMMARY:CLOSE ENOUGH vs V.A. NOBLES
URL:/League/Schedule/2938
DESCRIPTION:Regular Season match: CLOSE ENOUGH vs V.A. NOBLE
 S
LOCATION:Martinez Court 5
END:VEVENT
BEGIN:VEVENT
DTSTAMP:20260419T000000Z
UID:27d43ac4-4dc6-40c2-b851-7e9b600e9ff3@ClaytonBocce
DTSTART;TZID=America/Los_Angeles:20260726T170000
DTEND;TZID=America/Los_Angeles:20260726T193000
STATUS:CONFIRMED
SUMMARY:CLOSE ENOUGH vs BOCCE OF THRONES
URL:/League/Schedule/2938
DESCRIPTION:Regular Season match: CLOSE ENOUGH vs BOCCE OF T
 HRONES
LOCATION:Martinez Court 2
END:VEVENT
BEGIN:VEVENT
DTSTAMP:20260419T000000Z
UID:0af38e52-2c9e-43bc-bc3f-1a3db515217f@ClaytonBocce
DTSTART;TZID=America/Los_Angeles:20260802T170000
DTEND;TZID=America/Los_Angeles:20260802T193000
STATUS:CONFIRMED
SUMMARY:CLOSE ENOUGH vs FUHGETABOCCE
URL:/League/Schedule/2938
DESCRIPTION:Regular Season match: CLOSE ENOUGH vs FUHGETABOC
 CE
LOCATION:Martinez Court 4
END:VEVENT
BEGIN:VEVENT
DTSTAMP:20260419T000000Z
UID:b8a7c20f-f322-474f-9aa4-ef6889387f72@ClaytonBocce
DTSTART;TZID=America/Los_Angeles:20260816T170000
DTEND;TZID=America/Los_Angeles:20260816T193000
STATUS:CONFIRMED
SUMMARY:CLOSE ENOUGH vs BOCCE SNATCHERS
URL:/League/Schedule/2938
DESCRIPTION:Regular Season match: CLOSE ENOUGH vs BOCCE SNAT
 CHERS
LOCATION:Martinez Court 6
END:VEVENT
BEGIN:VEVENT
DTSTAMP:20260419T000000Z
UID:193c4899-dc22-4bf5-867a-799e47fcd392@ClaytonBocce
DTSTART;TZID=America/Los_Angeles:20260823T170000
DTEND;TZID=America/Los_Angeles:20260823T193000
STATUS:CONFIRMED
SUMMARY:CLOSE ENOUGH vs ACE ROLLERS
URL:/League/Schedule/2938
DESCRIPTION:Regular Season match: CLOSE ENOUGH vs ACE ROLLER
 S
LOCATION:Martinez Court 8
END:VEVENT
BEGIN:VEVENT
DTSTAMP:20260419T000000Z
UID:abd173cd-a47c-40da-9349-94ed83a7b478@ClaytonBocce
DTSTART;TZID=America/Los_Angeles:20260830T170000
DTEND;TZID=America/Los_Angeles:20260830T193000
STATUS:CONFIRMED
SUMMARY:CLOSE ENOUGH vs CANCEL MY APPOINTMENTS AND HOLD ALL 
 MY BALLS
URL:/League/Schedule/2938
DESCRIPTION:Regular Season match: CLOSE ENOUGH vs CANCEL MY 
 APPOINTMENTS AND HOLD ALL MY BALLS
LOCATION:Martinez Court 11
END:VEVENT
BEGIN:VEVENT
DTSTAMP:20260419T000000Z
UID:040d969d-08e1-4968-a84f-82e482470151@ClaytonBocce
DTSTART;TZID=America/Los_Angeles:20260906T170000
DTEND;TZID=America/Los_Angeles:20260906T193000
STATUS:CONFIRMED
SUMMARY:CLOSE ENOUGH vs V.A. NOBLES
URL:/League/Schedule/2938
DESCRIPTION:Regular Season match: CLOSE ENOUGH vs V.A. NOBLE
 S
LOCATION:Martinez Court 1
END:VEVENT
BEGIN:VEVENT
DTSTAMP:20260419T000000Z
UID:7163941d-3030-4e51-8a56-10d74953f8ae@ClaytonBocce
DTSTART;TZID=America/Los_Angeles:20260913T170000
DTEND;TZID=America/Los_Angeles:20260913T193000
STATUS:CONFIRMED
SUMMARY:CLOSE ENOUGH vs BOCCE OF THRONES
URL:/League/Schedule/2938
DESCRIPTION:Regular Season match: CLOSE ENOUGH vs BOCCE OF T
 HRONES
LOCATION:Martinez Court 9
END:VEVENT
BEGIN:VEVENT
DTSTAMP:20260419T000000Z
UID:3e77d706-4fb5-4784-b8e9-5cc33345bbb0@ClaytonBocce
DTSTART;TZID=America/Los_Angeles:20260920T170000
DTEND;TZID=America/Los_Angeles:20260920T193000
STATUS:CONFIRMED
SUMMARY:CLOSE ENOUGH vs FUHGETABOCCE
URL:/League/Schedule/2938
DESCRIPTION:Regular Season match: CLOSE ENOUGH vs FUHGETABOC
 CE
LOCATION:Martinez Court 12
END:VEVENT
END:VCALENDAR
