BEGIN:VCALENDAR
VERSION:2.0
PRODID:-//Clayton Bocce League
METHOD:PUBLISH
BEGIN:VTIMEZONE
TZID:America/Los_Angeles
X-LIC-LOCATION:America/Los_Angeles
BEGIN:DAYLIGHT
TZOFFSETFROM:-0800
TZOFFSETTO:-0700
TZNAME:PDT
DTSTART:20070311T020000
RRULE:FREQ=YEARLY;BYMONTH=3;BYDAY=2SU
END:DAYLIGHT
BEGIN:STANDARD
TZOFFSETFROM:-0700
TZOFFSETTO:-0800
TZNAME:PST
DTSTART:20071104T020000
RRULE:FREQ=YEARLY;BYMONTH=11;BYDAY=1SU
END:STANDARD
END:VTIMEZONE
BEGIN:VEVENT
DTSTAMP:20260419T000000Z
UID:9ad70a7c-f7a0-4b1f-bb05-8b326e7319d0@ClaytonBocce
DTSTART;TZID=America/Los_Angeles:20260419T170000
DTEND;TZID=America/Los_Angeles:20260419T193000
STATUS:CONFIRMED
SUMMARY:C. I. A. vs SAUCY BALLS
URL:/League/Schedule/2915
DESCRIPTION:Regular Season match: C. I. A. vs SAUCY BALLS
LOCATION:Martinez Court 1
END:VEVENT
BEGIN:VEVENT
DTSTAMP:20260419T000000Z
UID:ee97b9a5-0340-4be1-9fc7-b39d714426e9@ClaytonBocce
DTSTART;TZID=America/Los_Angeles:20260503T170000
DTEND;TZID=America/Los_Angeles:20260503T193000
STATUS:CONFIRMED
SUMMARY:C. I. A. vs BARBER BALLERS
URL:/League/Schedule/2915
DESCRIPTION:Regular Season match: C. I. A. vs BARBER BALLERS
LOCATION:Martinez Court 12
END:VEVENT
BEGIN:VEVENT
DTSTAMP:20260419T000000Z
UID:c731f8b8-515d-4c1b-86e1-2771fa2facb3@ClaytonBocce
DTSTART;TZID=America/Los_Angeles:20260517T170000
DTEND;TZID=America/Los_Angeles:20260517T193000
STATUS:CONFIRMED
SUMMARY:C. I. A. vs TAKE IT TO MUDVILLE
URL:/League/Schedule/2915
DESCRIPTION:Regular Season match: C. I. A. vs TAKE IT TO MUD
 VILLE
LOCATION:Martinez Court 14
END:VEVENT
BEGIN:VEVENT
DTSTAMP:20260419T000000Z
UID:d178401b-24db-4efc-b59f-9985e18b8e6c@ClaytonBocce
DTSTART;TZID=America/Los_Angeles:20260531T170000
DTEND;TZID=America/Los_Angeles:20260531T193000
STATUS:CONFIRMED
SUMMARY:C. I. A. vs SEASONED PACK
URL:/League/Schedule/2915
DESCRIPTION:Regular Season match: C. I. A. vs SEASONED PACK
LOCATION:Martinez Court 5
END:VEVENT
BEGIN:VEVENT
DTSTAMP:20260419T000000Z
UID:a215ac02-8f0d-4e3b-a6ef-cacbf5f4c7a1@ClaytonBocce
DTSTART;TZID=America/Los_Angeles:20260607T170000
DTEND;TZID=America/Los_Angeles:20260607T193000
STATUS:CONFIRMED
SUMMARY:C. I. A. vs PALLINO PALS
URL:/League/Schedule/2915
DESCRIPTION:Regular Season match: C. I. A. vs PALLINO PALS
LOCATION:Martinez Court 6
END:VEVENT
BEGIN:VEVENT
DTSTAMP:20260419T000000Z
UID:7f6a497c-f261-4af5-a383-44fb9a33560d@ClaytonBocce
DTSTART;TZID=America/Los_Angeles:20260614T170000
DTEND;TZID=America/Los_Angeles:20260614T193000
STATUS:CONFIRMED
SUMMARY:C. I. A. vs MONEY $HOTS
URL:/League/Schedule/2915
DESCRIPTION:Regular Season match: C. I. A. vs MONEY $HOTS
LOCATION:Martinez Court 2
END:VEVENT
BEGIN:VEVENT
DTSTAMP:20260419T000000Z
UID:8e862b57-071e-47ce-a815-590a99626414@ClaytonBocce
DTSTART;TZID=America/Los_Angeles:20260621T170000
DTEND;TZID=America/Los_Angeles:20260621T193000
STATUS:CONFIRMED
SUMMARY:C. I. A. vs SAUCY BALLS
URL:/League/Schedule/2915
DESCRIPTION:Regular Season match: C. I. A. vs SAUCY BALLS
LOCATION:Martinez Court 12
END:VEVENT
BEGIN:VEVENT
DTSTAMP:20260419T000000Z
UID:9cde2ff4-e4f7-4b72-a011-4b2748b0f14b@ClaytonBocce
DTSTART;TZID=America/Los_Angeles:20260712T170000
DTEND;TZID=America/Los_Angeles:20260712T193000
STATUS:CONFIRMED
SUMMARY:C. I. A. vs BARBER BALLERS
URL:/League/Schedule/2915
DESCRIPTION:Regular Season match: C. I. A. vs BARBER BALLERS
LOCATION:Martinez Court 15
END:VEVENT
BEGIN:VEVENT
DTSTAMP:20260419T000000Z
UID:3710703c-dfe0-480d-82d7-ebdde4399c02@ClaytonBocce
DTSTART;TZID=America/Los_Angeles:20260719T170000
DTEND;TZID=America/Los_Angeles:20260719T193000
STATUS:CONFIRMED
SUMMARY:C. I. A. vs TAKE IT TO MUDVILLE
URL:/League/Schedule/2915
DESCRIPTION:Regular Season match: C. I. A. vs TAKE IT TO MUD
 VILLE
LOCATION:Martinez Court 7
END:VEVENT
BEGIN:VEVENT
DTSTAMP:20260419T000000Z
UID:c33f4925-e434-4059-9cca-f2e032e0fbd5@ClaytonBocce
DTSTART;TZID=America/Los_Angeles:20260726T170000
DTEND;TZID=America/Los_Angeles:20260726T193000
STATUS:CONFIRMED
SUMMARY:C. I. A. vs SEASONED PACK
URL:/League/Schedule/2915
DESCRIPTION:Regular Season match: C. I. A. vs SEASONED PACK
LOCATION:Martinez Court 10
END:VEVENT
BEGIN:VEVENT
DTSTAMP:20260419T000000Z
UID:81357cf6-a91a-4363-a282-4147bdf4b783@ClaytonBocce
DTSTART;TZID=America/Los_Angeles:20260802T170000
DTEND;TZID=America/Los_Angeles:20260802T193000
STATUS:CONFIRMED
SUMMARY:C. I. A. vs PALLINO PALS
URL:/League/Schedule/2915
DESCRIPTION:Regular Season match: C. I. A. vs PALLINO PALS
LOCATION:Martinez Court 3
END:VEVENT
BEGIN:VEVENT
DTSTAMP:20260419T000000Z
UID:6f5f5366-6320-48bc-af27-95a73df063e5@ClaytonBocce
DTSTART;TZID=America/Los_Angeles:20260809T170000
DTEND;TZID=America/Los_Angeles:20260809T193000
STATUS:CONFIRMED
SUMMARY:C. I. A. vs MONEY $HOTS
URL:/League/Schedule/2915
DESCRIPTION:Regular Season match: C. I. A. vs MONEY $HOTS
LOCATION:Martinez Court 4
END:VEVENT
BEGIN:VEVENT
DTSTAMP:20260419T000000Z
UID:4f088718-0e1a-4af8-a85c-e53291531a69@ClaytonBocce
DTSTART;TZID=America/Los_Angeles:20260816T170000
DTEND;TZID=America/Los_Angeles:20260816T193000
STATUS:CONFIRMED
SUMMARY:C. I. A. vs SAUCY BALLS
URL:/League/Schedule/2915
DESCRIPTION:Regular Season match: C. I. A. vs SAUCY BALLS
LOCATION:Martinez Court 8
END:VEVENT
BEGIN:VEVENT
DTSTAMP:20260419T000000Z
UID:f514064c-8630-4c79-ae65-c7d7181f0a7d@ClaytonBocce
DTSTART;TZID=America/Los_Angeles:20260830T170000
DTEND;TZID=America/Los_Angeles:20260830T193000
STATUS:CONFIRMED
SUMMARY:C. I. A. vs BARBER BALLERS
URL:/League/Schedule/2915
DESCRIPTION:Regular Season match: C. I. A. vs BARBER BALLERS
LOCATION:Martinez Court 6
END:VEVENT
BEGIN:VEVENT
DTSTAMP:20260419T000000Z
UID:0228a48b-5a2b-474a-8f0e-f37f512db1c8@ClaytonBocce
DTSTART;TZID=America/Los_Angeles:20260906T170000
DTEND;TZID=America/Los_Angeles:20260906T193000
STATUS:CONFIRMED
SUMMARY:C. I. A. vs TAKE IT TO MUDVILLE
URL:/League/Schedule/2915
DESCRIPTION:Regular Season match: C. I. A. vs TAKE IT TO MUD
 VILLE
LOCATION:Martinez Court 13
END:VEVENT
BEGIN:VEVENT
DTSTAMP:20260419T000000Z
UID:af4c1667-76a8-4505-bb34-fe83a682c611@ClaytonBocce
DTSTART;TZID=America/Los_Angeles:20260913T170000
DTEND;TZID=America/Los_Angeles:20260913T193000
STATUS:CONFIRMED
SUMMARY:C. I. A. vs SEASONED PACK
URL:/League/Schedule/2915
DESCRIPTION:Regular Season match: C. I. A. vs SEASONED PACK
LOCATION:Martinez Court 10
END:VEVENT
BEGIN:VEVENT
DTSTAMP:20260419T000000Z
UID:263548f0-ed6d-47ad-ad11-8cfc5511b883@ClaytonBocce
DTSTART;TZID=America/Los_Angeles:20260920T170000
DTEND;TZID=America/Los_Angeles:20260920T193000
STATUS:CONFIRMED
SUMMARY:C. I. A. vs PALLINO PALS
URL:/League/Schedule/2915
DESCRIPTION:Regular Season match: C. I. A. vs PALLINO PALS
LOCATION:Martinez Court 5
END:VEVENT
END:VCALENDAR
