BEGIN:VCALENDAR
VERSION:2.0
PRODID:-//Clayton Bocce League
METHOD:PUBLISH
BEGIN:VTIMEZONE
TZID:America/Los_Angeles
X-LIC-LOCATION:America/Los_Angeles
BEGIN:DAYLIGHT
TZOFFSETFROM:-0800
TZOFFSETTO:-0700
TZNAME:PDT
DTSTART:20070311T020000
RRULE:FREQ=YEARLY;BYMONTH=3;BYDAY=2SU
END:DAYLIGHT
BEGIN:STANDARD
TZOFFSETFROM:-0700
TZOFFSETTO:-0800
TZNAME:PST
DTSTART:20071104T020000
RRULE:FREQ=YEARLY;BYMONTH=11;BYDAY=1SU
END:STANDARD
END:VTIMEZONE
BEGIN:VEVENT
DTSTAMP:20260419T000000Z
UID:9ad70a7c-f7a0-4b1f-bb05-8b326e7319d0@ClaytonBocce
DTSTART;TZID=America/Los_Angeles:20260419T170000
DTEND;TZID=America/Los_Angeles:20260419T193000
STATUS:CONFIRMED
SUMMARY:SAUCY BALLS vs C. I. A.
URL:/League/Schedule/2910
DESCRIPTION:Regular Season match: SAUCY BALLS vs C. I. A.
LOCATION:Martinez Court 1
END:VEVENT
BEGIN:VEVENT
DTSTAMP:20260419T000000Z
UID:0b9d20a9-3ec7-46bf-a24a-69268708e92d@ClaytonBocce
DTSTART;TZID=America/Los_Angeles:20260426T170000
DTEND;TZID=America/Los_Angeles:20260426T193000
STATUS:CONFIRMED
SUMMARY:SAUCY BALLS vs TAKE IT TO MUDVILLE
URL:/League/Schedule/2910
DESCRIPTION:Regular Season match: SAUCY BALLS vs TAKE IT TO 
 MUDVILLE
LOCATION:Martinez Court 6
END:VEVENT
BEGIN:VEVENT
DTSTAMP:20260419T000000Z
UID:6cce380a-5f37-48a4-a560-90bbb699b9f1@ClaytonBocce
DTSTART;TZID=America/Los_Angeles:20260503T170000
DTEND;TZID=America/Los_Angeles:20260503T193000
STATUS:CONFIRMED
SUMMARY:SAUCY BALLS vs PALLINO PALS
URL:/League/Schedule/2910
DESCRIPTION:Regular Season match: SAUCY BALLS vs PALLINO PAL
 S
LOCATION:Martinez Court 11
END:VEVENT
BEGIN:VEVENT
DTSTAMP:20260419T000000Z
UID:bca6ee95-ca87-481f-b54f-bc5fae04defe@ClaytonBocce
DTSTART;TZID=America/Los_Angeles:20260517T170000
DTEND;TZID=America/Los_Angeles:20260517T193000
STATUS:CONFIRMED
SUMMARY:SAUCY BALLS vs MONEY $HOTS
URL:/League/Schedule/2910
DESCRIPTION:Regular Season match: SAUCY BALLS vs MONEY $HOTS
LOCATION:Martinez Court 15
END:VEVENT
BEGIN:VEVENT
DTSTAMP:20260419T000000Z
UID:3538acfb-9213-43cc-ade4-14a82035f630@ClaytonBocce
DTSTART;TZID=America/Los_Angeles:20260531T170000
DTEND;TZID=America/Los_Angeles:20260531T193000
STATUS:CONFIRMED
SUMMARY:SAUCY BALLS vs BARBER BALLERS
URL:/League/Schedule/2910
DESCRIPTION:Regular Season match: SAUCY BALLS vs BARBER BALL
 ERS
LOCATION:Martinez Court 3
END:VEVENT
BEGIN:VEVENT
DTSTAMP:20260419T000000Z
UID:ad41b336-84d2-49e8-b310-a74472f73d16@ClaytonBocce
DTSTART;TZID=America/Los_Angeles:20260607T170000
DTEND;TZID=America/Los_Angeles:20260607T193000
STATUS:CONFIRMED
SUMMARY:SAUCY BALLS vs SEASONED PACK
URL:/League/Schedule/2910
DESCRIPTION:Regular Season match: SAUCY BALLS vs SEASONED PA
 CK
LOCATION:Martinez Court 4
END:VEVENT
BEGIN:VEVENT
DTSTAMP:20260419T000000Z
UID:8e862b57-071e-47ce-a815-590a99626414@ClaytonBocce
DTSTART;TZID=America/Los_Angeles:20260621T170000
DTEND;TZID=America/Los_Angeles:20260621T193000
STATUS:CONFIRMED
SUMMARY:SAUCY BALLS vs C. I. A.
URL:/League/Schedule/2910
DESCRIPTION:Regular Season match: SAUCY BALLS vs C. I. A.
LOCATION:Martinez Court 12
END:VEVENT
BEGIN:VEVENT
DTSTAMP:20260419T000000Z
UID:10ecc4b0-82ba-4a6b-9e9e-188bf6011277@ClaytonBocce
DTSTART;TZID=America/Los_Angeles:20260628T170000
DTEND;TZID=America/Los_Angeles:20260628T193000
STATUS:CONFIRMED
SUMMARY:SAUCY BALLS vs TAKE IT TO MUDVILLE
URL:/League/Schedule/2910
DESCRIPTION:Regular Season match: SAUCY BALLS vs TAKE IT TO 
 MUDVILLE
LOCATION:Martinez Court 10
END:VEVENT
BEGIN:VEVENT
DTSTAMP:20260419T000000Z
UID:17e8c5bf-0334-4498-9e6a-27889d7375ff@ClaytonBocce
DTSTART;TZID=America/Los_Angeles:20260712T170000
DTEND;TZID=America/Los_Angeles:20260712T193000
STATUS:CONFIRMED
SUMMARY:SAUCY BALLS vs PALLINO PALS
URL:/League/Schedule/2910
DESCRIPTION:Regular Season match: SAUCY BALLS vs PALLINO PAL
 S
LOCATION:Martinez Court 13
END:VEVENT
BEGIN:VEVENT
DTSTAMP:20260419T000000Z
UID:1cd995cd-87e5-41b0-8a05-c38f7f7aa794@ClaytonBocce
DTSTART;TZID=America/Los_Angeles:20260719T170000
DTEND;TZID=America/Los_Angeles:20260719T193000
STATUS:CONFIRMED
SUMMARY:SAUCY BALLS vs MONEY $HOTS
URL:/League/Schedule/2910
DESCRIPTION:Regular Season match: SAUCY BALLS vs MONEY $HOTS
LOCATION:Martinez Court 8
END:VEVENT
BEGIN:VEVENT
DTSTAMP:20260419T000000Z
UID:44f61eba-161e-4087-a3bf-17f67b51cf72@ClaytonBocce
DTSTART;TZID=America/Los_Angeles:20260726T170000
DTEND;TZID=America/Los_Angeles:20260726T193000
STATUS:CONFIRMED
SUMMARY:SAUCY BALLS vs BARBER BALLERS
URL:/League/Schedule/2910
DESCRIPTION:Regular Season match: SAUCY BALLS vs BARBER BALL
 ERS
LOCATION:Martinez Court 5
END:VEVENT
BEGIN:VEVENT
DTSTAMP:20260419T000000Z
UID:e2a5c8d4-217b-404f-b826-ce65101e6097@ClaytonBocce
DTSTART;TZID=America/Los_Angeles:20260802T170000
DTEND;TZID=America/Los_Angeles:20260802T193000
STATUS:CONFIRMED
SUMMARY:SAUCY BALLS vs SEASONED PACK
URL:/League/Schedule/2910
DESCRIPTION:Regular Season match: SAUCY BALLS vs SEASONED PA
 CK
LOCATION:Martinez Court 7
END:VEVENT
BEGIN:VEVENT
DTSTAMP:20260419T000000Z
UID:4f088718-0e1a-4af8-a85c-e53291531a69@ClaytonBocce
DTSTART;TZID=America/Los_Angeles:20260816T170000
DTEND;TZID=America/Los_Angeles:20260816T193000
STATUS:CONFIRMED
SUMMARY:SAUCY BALLS vs C. I. A.
URL:/League/Schedule/2910
DESCRIPTION:Regular Season match: SAUCY BALLS vs C. I. A.
LOCATION:Martinez Court 8
END:VEVENT
BEGIN:VEVENT
DTSTAMP:20260419T000000Z
UID:2958d835-8168-4471-9b99-89ca03f7a199@ClaytonBocce
DTSTART;TZID=America/Los_Angeles:20260823T170000
DTEND;TZID=America/Los_Angeles:20260823T193000
STATUS:CONFIRMED
SUMMARY:SAUCY BALLS vs TAKE IT TO MUDVILLE
URL:/League/Schedule/2910
DESCRIPTION:Regular Season match: SAUCY BALLS vs TAKE IT TO 
 MUDVILLE
LOCATION:Martinez Court 3
END:VEVENT
BEGIN:VEVENT
DTSTAMP:20260419T000000Z
UID:c248a852-8f1b-449a-aca3-6566bed32be6@ClaytonBocce
DTSTART;TZID=America/Los_Angeles:20260830T170000
DTEND;TZID=America/Los_Angeles:20260830T193000
STATUS:CONFIRMED
SUMMARY:SAUCY BALLS vs PALLINO PALS
URL:/League/Schedule/2910
DESCRIPTION:Regular Season match: SAUCY BALLS vs PALLINO PAL
 S
LOCATION:Martinez Court 14
END:VEVENT
BEGIN:VEVENT
DTSTAMP:20260419T000000Z
UID:9781a19f-b163-4dd0-8ed7-19fc4795a9ba@ClaytonBocce
DTSTART;TZID=America/Los_Angeles:20260906T170000
DTEND;TZID=America/Los_Angeles:20260906T193000
STATUS:CONFIRMED
SUMMARY:SAUCY BALLS vs MONEY $HOTS
URL:/League/Schedule/2910
DESCRIPTION:Regular Season match: SAUCY BALLS vs MONEY $HOTS
LOCATION:Martinez Court 12
END:VEVENT
BEGIN:VEVENT
DTSTAMP:20260419T000000Z
UID:f69954b0-5194-4295-8941-182e7114428d@ClaytonBocce
DTSTART;TZID=America/Los_Angeles:20260913T170000
DTEND;TZID=America/Los_Angeles:20260913T193000
STATUS:CONFIRMED
SUMMARY:SAUCY BALLS vs BARBER BALLERS
URL:/League/Schedule/2910
DESCRIPTION:Regular Season match: SAUCY BALLS vs BARBER BALL
 ERS
LOCATION:Martinez Court 11
END:VEVENT
BEGIN:VEVENT
DTSTAMP:20260419T000000Z
UID:366a14fd-be27-4593-86c0-4a3c8a9f1bbb@ClaytonBocce
DTSTART;TZID=America/Los_Angeles:20260920T170000
DTEND;TZID=America/Los_Angeles:20260920T193000
STATUS:CONFIRMED
SUMMARY:SAUCY BALLS vs SEASONED PACK
URL:/League/Schedule/2910
DESCRIPTION:Regular Season match: SAUCY BALLS vs SEASONED PA
 CK
LOCATION:Martinez Court 2
END:VEVENT
END:VCALENDAR
