BEGIN:VCALENDAR
VERSION:2.0
PRODID:-//Clayton Bocce League
METHOD:PUBLISH
BEGIN:VTIMEZONE
TZID:America/Los_Angeles
X-LIC-LOCATION:America/Los_Angeles
BEGIN:DAYLIGHT
TZOFFSETFROM:-0800
TZOFFSETTO:-0700
TZNAME:PDT
DTSTART:20070311T020000
RRULE:FREQ=YEARLY;BYMONTH=3;BYDAY=2SU
END:DAYLIGHT
BEGIN:STANDARD
TZOFFSETFROM:-0700
TZOFFSETTO:-0800
TZNAME:PST
DTSTART:20071104T020000
RRULE:FREQ=YEARLY;BYMONTH=11;BYDAY=1SU
END:STANDARD
END:VTIMEZONE
BEGIN:VEVENT
DTSTAMP:20260101T000000Z
UID:91184500-d88a-4212-8e97-88cd6b0b1dc7@ClaytonBocce
DTSTART;TZID=America/Los_Angeles:20261105T140000
DTEND;TZID=America/Los_Angeles:20261105T200000
STATUS:CONFIRMED
SUMMARY:40th Annual All-Star Classic
URL:https://EastBayBocce.org/Event/Page/89
DESCRIPTION:40th Annual All-Star Classic
LOCATION:Peppermill Reno Hotel Resort
END:VEVENT
BEGIN:VEVENT
DTSTAMP:20260101T000000Z
UID:73ab0b85-9fec-498c-9d09-2b7d1df7bae3@ClaytonBocce
DTSTART;TZID=America/Los_Angeles:20261106T073000
DTEND;TZID=America/Los_Angeles:20261106T180000
STATUS:CONFIRMED
SUMMARY:40th Annual All-Star Classic
URL:https://EastBayBocce.org/Event/Page/89
DESCRIPTION:40th Annual All-Star Classic
LOCATION:Peppermill Reno Hotel Resort
END:VEVENT
BEGIN:VEVENT
DTSTAMP:20260101T000000Z
UID:b28b2cbf-bbc8-419c-902d-56f0c8ba52e6@ClaytonBocce
DTSTART;TZID=America/Los_Angeles:20261107T073000
DTEND;TZID=America/Los_Angeles:20261107T210000
STATUS:CONFIRMED
SUMMARY:40th Annual All-Star Classic
URL:https://EastBayBocce.org/Event/Page/89
DESCRIPTION:40th Annual All-Star Classic
LOCATION:Peppermill Reno Hotel Resort
END:VEVENT
END:VCALENDAR
