BEGIN:VCALENDAR
VERSION:2.0
PRODID:-//Clayton Bocce League
METHOD:PUBLISH
BEGIN:VTIMEZONE
TZID:America/Los_Angeles
X-LIC-LOCATION:America/Los_Angeles
BEGIN:DAYLIGHT
TZOFFSETFROM:-0800
TZOFFSETTO:-0700
TZNAME:PDT
DTSTART:20070311T020000
RRULE:FREQ=YEARLY;BYMONTH=3;BYDAY=2SU
END:DAYLIGHT
BEGIN:STANDARD
TZOFFSETFROM:-0700
TZOFFSETTO:-0800
TZNAME:PST
DTSTART:20071104T020000
RRULE:FREQ=YEARLY;BYMONTH=11;BYDAY=1SU
END:STANDARD
END:VTIMEZONE
BEGIN:VEVENT
DTSTAMP:20250421T000000Z
UID:0921c82c-6fbd-4220-838d-bccd54110b26@ClaytonBocce
DTSTART;TZID=America/Los_Angeles:20250908T183000
DTEND;TZID=America/Los_Angeles:20250908T210000
STATUS:CONFIRMED
SUMMARY:Pollpeti Fumare vs Life's a Bocce
URL:/League/Schedule/2785
DESCRIPTION:Playoff match: Pollpeti Fumare vs Life's a Bocce
LOCATION:Rithel Court A
END:VEVENT
BEGIN:VEVENT
DTSTAMP:20250421T000000Z
UID:8cc01cab-a2b9-432e-adf4-40b8490c81bf@ClaytonBocce
DTSTART;TZID=America/Los_Angeles:20250911T183000
DTEND;TZID=America/Los_Angeles:20250911T210000
STATUS:CONFIRMED
SUMMARY:Pollpeti Fumare vs Be-Occe Ballers
URL:/League/Schedule/2785
DESCRIPTION:Playoff match: Pollpeti Fumare vs Be-Occe Baller
 s
LOCATION:Rithel TBD
END:VEVENT
END:VCALENDAR
