BEGIN:VCALENDAR
VERSION:2.0
PRODID:-//Clayton Bocce League
METHOD:PUBLISH
BEGIN:VTIMEZONE
TZID:America/Los_Angeles
X-LIC-LOCATION:America/Los_Angeles
BEGIN:DAYLIGHT
TZOFFSETFROM:-0800
TZOFFSETTO:-0700
TZNAME:PDT
DTSTART:20070311T020000
RRULE:FREQ=YEARLY;BYMONTH=3;BYDAY=2SU
END:DAYLIGHT
BEGIN:STANDARD
TZOFFSETFROM:-0700
TZOFFSETTO:-0800
TZNAME:PST
DTSTART:20071104T020000
RRULE:FREQ=YEARLY;BYMONTH=11;BYDAY=1SU
END:STANDARD
END:VTIMEZONE
BEGIN:VEVENT
DTSTAMP:20250421T000000Z
UID:74f9a1de-a32f-4b21-b40f-6b216cdda45e@ClaytonBocce
DTSTART;TZID=America/Los_Angeles:20250904T183000
DTEND;TZID=America/Los_Angeles:20250904T210000
STATUS:CONFIRMED
SUMMARY:The Pollastrini vs Baci il Palino
URL:/League/Schedule/2784
DESCRIPTION:Playoff match: The Pollastrini vs Baci il Palino
LOCATION:Rithel Court B
END:VEVENT
BEGIN:VEVENT
DTSTAMP:20250421T000000Z
UID:4b793bae-93f5-476f-8741-4784b99bf706@ClaytonBocce
DTSTART;TZID=America/Los_Angeles:20250910T183000
DTEND;TZID=America/Los_Angeles:20250910T210000
STATUS:CONFIRMED
SUMMARY:The Pollastrini vs Galina
URL:/League/Schedule/2784
DESCRIPTION:Playoff match: The Pollastrini vs Galina
LOCATION:Rithel TBD
END:VEVENT
BEGIN:VEVENT
DTSTAMP:20250421T000000Z
UID:212888d1-3d15-4442-b5b2-12955ab188c0@ClaytonBocce
DTSTART;TZID=America/Los_Angeles:20250915T183000
DTEND;TZID=America/Los_Angeles:20250915T210000
STATUS:CONFIRMED
SUMMARY:The Pollastrini vs Bocce Questo!
URL:/League/Schedule/2784
DESCRIPTION:Playoff match: The Pollastrini vs Bocce Questo!
LOCATION:Rithel TBD
END:VEVENT
BEGIN:VEVENT
DTSTAMP:20250421T000000Z
UID:86364bba-85c3-401b-8b0b-fd1ff9db1d72@ClaytonBocce
DTSTART;TZID=America/Los_Angeles:20250917T183000
DTEND;TZID=America/Los_Angeles:20250917T210000
STATUS:CONFIRMED
SUMMARY:The Pollastrini vs Be-Occe Ballers
URL:/League/Schedule/2784
DESCRIPTION:Playoff match: The Pollastrini vs Be-Occe Baller
 s
LOCATION:Rithel Court B
END:VEVENT
END:VCALENDAR
