BEGIN:VCALENDAR
VERSION:2.0
PRODID:-//Clayton Bocce League
METHOD:PUBLISH
BEGIN:VTIMEZONE
TZID:America/Los_Angeles
X-LIC-LOCATION:America/Los_Angeles
BEGIN:DAYLIGHT
TZOFFSETFROM:-0800
TZOFFSETTO:-0700
TZNAME:PDT
DTSTART:20070311T020000
RRULE:FREQ=YEARLY;BYMONTH=3;BYDAY=2SU
END:DAYLIGHT
BEGIN:STANDARD
TZOFFSETFROM:-0700
TZOFFSETTO:-0800
TZNAME:PST
DTSTART:20071104T020000
RRULE:FREQ=YEARLY;BYMONTH=11;BYDAY=1SU
END:STANDARD
END:VTIMEZONE
BEGIN:VEVENT
DTSTAMP:20250421T000000Z
UID:5fb1b61d-804d-4333-b139-b6448e4301fc@ClaytonBocce
DTSTART;TZID=America/Los_Angeles:20250903T183000
DTEND;TZID=America/Los_Angeles:20250903T210000
STATUS:CONFIRMED
SUMMARY:Bocce Questo! vs Bust Our Balls
URL:/League/Schedule/2781
DESCRIPTION:Playoff match: Bocce Questo! vs Bust Our Balls
LOCATION:Rithel Court B
END:VEVENT
BEGIN:VEVENT
DTSTAMP:20250421T000000Z
UID:da0923b5-5b6e-4940-9233-661c21e56428@ClaytonBocce
DTSTART;TZID=America/Los_Angeles:20250910T183000
DTEND;TZID=America/Los_Angeles:20250910T210000
STATUS:CONFIRMED
SUMMARY:Bocce Questo! vs Bocce-lism's
URL:/League/Schedule/2781
DESCRIPTION:Playoff match: Bocce Questo! vs Bocce-lism's
LOCATION:Rithel TBD
END:VEVENT
BEGIN:VEVENT
DTSTAMP:20250421T000000Z
UID:212888d1-3d15-4442-b5b2-12955ab188c0@ClaytonBocce
DTSTART;TZID=America/Los_Angeles:20250915T183000
DTEND;TZID=America/Los_Angeles:20250915T210000
STATUS:CONFIRMED
SUMMARY:Bocce Questo! vs The Pollastrini
URL:/League/Schedule/2781
DESCRIPTION:Playoff match: Bocce Questo! vs The Pollastrini
LOCATION:Rithel TBD
END:VEVENT
BEGIN:VEVENT
DTSTAMP:20250421T000000Z
UID:0163b418-87bb-4d4b-bc8b-e89c2f152417@ClaytonBocce
DTSTART;TZID=America/Los_Angeles:20250917T183000
DTEND;TZID=America/Los_Angeles:20250917T210000
STATUS:CONFIRMED
SUMMARY:Bocce Questo! vs Virtus Club Skimmers
URL:/League/Schedule/2781
DESCRIPTION:Playoff match: Bocce Questo! vs Virtus Club Skim
 mers
LOCATION:Rithel Court A
END:VEVENT
END:VCALENDAR
