BEGIN:VCALENDAR
VERSION:2.0
PRODID:-//Clayton Bocce League
METHOD:PUBLISH
BEGIN:VTIMEZONE
TZID:America/Los_Angeles
X-LIC-LOCATION:America/Los_Angeles
BEGIN:DAYLIGHT
TZOFFSETFROM:-0800
TZOFFSETTO:-0700
TZNAME:PDT
DTSTART:20070311T020000
RRULE:FREQ=YEARLY;BYMONTH=3;BYDAY=2SU
END:DAYLIGHT
BEGIN:STANDARD
TZOFFSETFROM:-0700
TZOFFSETTO:-0800
TZNAME:PST
DTSTART:20071104T020000
RRULE:FREQ=YEARLY;BYMONTH=11;BYDAY=1SU
END:STANDARD
END:VTIMEZONE
BEGIN:VEVENT
DTSTAMP:20250421T000000Z
UID:0abb9490-2260-41e8-8f49-1878842ff728@ClaytonBocce
DTSTART;TZID=America/Los_Angeles:20250710T183000
DTEND;TZID=America/Los_Angeles:20250710T210000
STATUS:CONFIRMED
SUMMARY:The Incrediballs vs Bocce Babes
URL:/League/Schedule/2777
DESCRIPTION:Regular Season match: The Incrediballs vs Bocce 
 Babes
LOCATION:Alexander Court 1
END:VEVENT
END:VCALENDAR
