BEGIN:VCALENDAR
VERSION:2.0
PRODID:-//Clayton Bocce League
METHOD:PUBLISH
BEGIN:VTIMEZONE
TZID:America/Los_Angeles
X-LIC-LOCATION:America/Los_Angeles
BEGIN:DAYLIGHT
TZOFFSETFROM:-0800
TZOFFSETTO:-0700
TZNAME:PDT
DTSTART:20070311T020000
RRULE:FREQ=YEARLY;BYMONTH=3;BYDAY=2SU
END:DAYLIGHT
BEGIN:STANDARD
TZOFFSETFROM:-0700
TZOFFSETTO:-0800
TZNAME:PST
DTSTART:20071104T020000
RRULE:FREQ=YEARLY;BYMONTH=11;BYDAY=1SU
END:STANDARD
END:VTIMEZONE
BEGIN:VEVENT
DTSTAMP:20250421T000000Z
UID:d7b03d7d-4507-41cf-8b85-d4a09a9105ef@ClaytonBocce
DTSTART;TZID=America/Los_Angeles:20250501T183000
DTEND;TZID=America/Los_Angeles:20250501T210000
STATUS:CONFIRMED
SUMMARY:Goof Balls vs Bocce Betties
URL:/League/Schedule/2779
DESCRIPTION:Regular Season match: Goof Balls vs Bocce Bettie
 s
LOCATION:Alexander Court 1
END:VEVENT
BEGIN:VEVENT
DTSTAMP:20250421T000000Z
UID:9b9dad95-ade1-44f5-b6ca-293f6533ccc1@ClaytonBocce
DTSTART;TZID=America/Los_Angeles:20250507T183000
DTEND;TZID=America/Los_Angeles:20250507T210000
STATUS:CONFIRMED
SUMMARY:Goof Balls vs Sumofa Bocce
URL:/League/Schedule/2779
DESCRIPTION:Regular Season match: Goof Balls vs Sumofa Bocce
LOCATION:Alexander Court 2
END:VEVENT
BEGIN:VEVENT
DTSTAMP:20250421T000000Z
UID:b26beb3f-99f5-477a-8650-d45cbd8b0ccd@ClaytonBocce
DTSTART;TZID=America/Los_Angeles:20250514T183000
DTEND;TZID=America/Los_Angeles:20250514T210000
STATUS:CONFIRMED
SUMMARY:Goof Balls vs Blue Cura-Cows
URL:/League/Schedule/2779
DESCRIPTION:Regular Season match: Goof Balls vs Blue Cura-Co
 ws
LOCATION:Alexander Court 1
END:VEVENT
BEGIN:VEVENT
DTSTAMP:20250421T000000Z
UID:02eb3a3c-1538-42ed-8ed2-e2c32ff6a99a@ClaytonBocce
DTSTART;TZID=America/Los_Angeles:20250521T183000
DTEND;TZID=America/Los_Angeles:20250521T210000
STATUS:CONFIRMED
SUMMARY:Goof Balls vs The Pollastrini
URL:/League/Schedule/2779
DESCRIPTION:Regular Season match: Goof Balls vs The Pollastr
 ini
LOCATION:Alexander Court 2
END:VEVENT
BEGIN:VEVENT
DTSTAMP:20250421T000000Z
UID:7cea2283-0e99-4107-9a72-b44916008002@ClaytonBocce
DTSTART;TZID=America/Los_Angeles:20250604T183000
DTEND;TZID=America/Los_Angeles:20250604T210000
STATUS:CONFIRMED
SUMMARY:Goof Balls vs Galina
URL:/League/Schedule/2779
DESCRIPTION:Regular Season match: Goof Balls vs Galina
LOCATION:Rithel Court A
END:VEVENT
BEGIN:VEVENT
DTSTAMP:20250421T000000Z
UID:b8272922-bbd6-4d1a-b5e5-a4324e2510b2@ClaytonBocce
DTSTART;TZID=America/Los_Angeles:20250611T183000
DTEND;TZID=America/Los_Angeles:20250611T210000
STATUS:CONFIRMED
SUMMARY:Goof Balls vs Bocce-lism's
URL:/League/Schedule/2779
DESCRIPTION:Regular Season match: Goof Balls vs Bocce-lism's
LOCATION:Rithel Court B
END:VEVENT
BEGIN:VEVENT
DTSTAMP:20250421T000000Z
UID:af7cef06-8c75-450c-8d0a-71679b5b63c6@ClaytonBocce
DTSTART;TZID=America/Los_Angeles:20250618T183000
DTEND;TZID=America/Los_Angeles:20250618T210000
STATUS:CONFIRMED
SUMMARY:Goof Balls vs C.I.A.o
URL:/League/Schedule/2779
DESCRIPTION:Regular Season match: Goof Balls vs C.I.A.o
LOCATION:Rithel Court A
END:VEVENT
BEGIN:VEVENT
DTSTAMP:20250421T000000Z
UID:cad7fa8d-00a1-443e-bff4-7eb484426971@ClaytonBocce
DTSTART;TZID=America/Los_Angeles:20250626T183000
DTEND;TZID=America/Los_Angeles:20250626T210000
STATUS:CONFIRMED
SUMMARY:Goof Balls vs The Incrediballs
URL:/League/Schedule/2779
DESCRIPTION:Regular Season match: Goof Balls vs The Incredib
 alls
LOCATION:Alexander Court 2
END:VEVENT
BEGIN:VEVENT
DTSTAMP:20250421T000000Z
UID:133ae87a-6a06-4bef-9c95-bcd9e487ff31@ClaytonBocce
DTSTART;TZID=America/Los_Angeles:20250710T183000
DTEND;TZID=America/Los_Angeles:20250710T210000
STATUS:CONFIRMED
SUMMARY:Goof Balls vs High Rollers
URL:/League/Schedule/2779
DESCRIPTION:Regular Season match: Goof Balls vs High Rollers
LOCATION:Rithel Court A
END:VEVENT
BEGIN:VEVENT
DTSTAMP:20250421T000000Z
UID:9398b1be-1122-415e-8f7f-660625e2ac1c@ClaytonBocce
DTSTART;TZID=America/Los_Angeles:20250724T183000
DTEND;TZID=America/Los_Angeles:20250724T210000
STATUS:CONFIRMED
SUMMARY:Goof Balls vs Ball Busters
URL:/League/Schedule/2779
DESCRIPTION:Regular Season match: Goof Balls vs Ball Busters
LOCATION:Rithel Court B
END:VEVENT
BEGIN:VEVENT
DTSTAMP:20250421T000000Z
UID:5e0662ec-4b03-4e2c-9ba6-c77f9f528d9f@ClaytonBocce
DTSTART;TZID=America/Los_Angeles:20250730T183000
DTEND;TZID=America/Los_Angeles:20250730T210000
STATUS:CONFIRMED
SUMMARY:Goof Balls vs Free Bailin'
URL:/League/Schedule/2779
DESCRIPTION:Regular Season match: Goof Balls vs Free Bailin'
LOCATION:Rithel Court A
END:VEVENT
BEGIN:VEVENT
DTSTAMP:20250421T000000Z
UID:14205b6f-6835-4496-8deb-48ed7092c5c8@ClaytonBocce
DTSTART;TZID=America/Los_Angeles:20250807T183000
DTEND;TZID=America/Los_Angeles:20250807T210000
STATUS:CONFIRMED
SUMMARY:Goof Balls vs Pollpeti Fumare
URL:/League/Schedule/2779
DESCRIPTION:Regular Season match: Goof Balls vs Pollpeti Fum
 are
LOCATION:Rithel Court A
END:VEVENT
BEGIN:VEVENT
DTSTAMP:20250421T000000Z
UID:888b241e-c977-440a-94ac-86a82b1edaff@ClaytonBocce
DTSTART;TZID=America/Los_Angeles:20250814T183000
DTEND;TZID=America/Los_Angeles:20250814T210000
STATUS:CONFIRMED
SUMMARY:Goof Balls vs Bocce Nova
URL:/League/Schedule/2779
DESCRIPTION:Regular Season match: Goof Balls vs Bocce Nova
LOCATION:Alexander Court 2
END:VEVENT
BEGIN:VEVENT
DTSTAMP:20250421T000000Z
UID:881a37bd-708c-4504-8b9a-0e4e84376cae@ClaytonBocce
DTSTART;TZID=America/Los_Angeles:20250821T183000
DTEND;TZID=America/Los_Angeles:20250821T210000
STATUS:CONFIRMED
SUMMARY:Goof Balls vs Bocce Questo!
URL:/League/Schedule/2779
DESCRIPTION:Regular Season match: Goof Balls vs Bocce Questo
 !
LOCATION:Alexander Court 1
END:VEVENT
BEGIN:VEVENT
DTSTAMP:20250421T000000Z
UID:a2ca3436-8030-4632-9044-880f6dfaf66b@ClaytonBocce
DTSTART;TZID=America/Los_Angeles:20250828T183000
DTEND;TZID=America/Los_Angeles:20250828T210000
STATUS:CONFIRMED
SUMMARY:Goof Balls vs Bocce Babes
URL:/League/Schedule/2779
DESCRIPTION:Regular Season match: Goof Balls vs Bocce Babes
LOCATION:Rithel Court B
END:VEVENT
END:VCALENDAR
