BEGIN:VCALENDAR
VERSION:2.0
PRODID:-//Clayton Bocce League
METHOD:PUBLISH
BEGIN:VTIMEZONE
TZID:America/Los_Angeles
X-LIC-LOCATION:America/Los_Angeles
BEGIN:DAYLIGHT
TZOFFSETFROM:-0800
TZOFFSETTO:-0700
TZNAME:PDT
DTSTART:20070311T020000
RRULE:FREQ=YEARLY;BYMONTH=3;BYDAY=2SU
END:DAYLIGHT
BEGIN:STANDARD
TZOFFSETFROM:-0700
TZOFFSETTO:-0800
TZNAME:PST
DTSTART:20071104T020000
RRULE:FREQ=YEARLY;BYMONTH=11;BYDAY=1SU
END:STANDARD
END:VTIMEZONE
BEGIN:VEVENT
DTSTAMP:20250421T000000Z
UID:00763bc6-29d8-434a-a777-1a52df7ba465@ClaytonBocce
DTSTART;TZID=America/Los_Angeles:20250423T183000
DTEND;TZID=America/Los_Angeles:20250423T210000
STATUS:CONFIRMED
SUMMARY:C.I.A.o vs Blue Cura-Cows
URL:/League/Schedule/2782
DESCRIPTION:Regular Season match: C.I.A.o vs Blue Cura-Cows
LOCATION:Alexander Court 2
END:VEVENT
BEGIN:VEVENT
DTSTAMP:20250421T000000Z
UID:3bfafd73-6935-4bd1-93e6-d4b839ff96f4@ClaytonBocce
DTSTART;TZID=America/Los_Angeles:20250501T183000
DTEND;TZID=America/Los_Angeles:20250501T210000
STATUS:CONFIRMED
SUMMARY:C.I.A.o vs Bocce Questo!
URL:/League/Schedule/2782
DESCRIPTION:Regular Season match: C.I.A.o vs Bocce Questo!
LOCATION:Alexander Court 2
END:VEVENT
BEGIN:VEVENT
DTSTAMP:20250421T000000Z
UID:c15cc38e-4fe7-4ffb-a600-c0e4ee1ce544@ClaytonBocce
DTSTART;TZID=America/Los_Angeles:20250508T183000
DTEND;TZID=America/Los_Angeles:20250508T210000
STATUS:CONFIRMED
SUMMARY:C.I.A.o vs Bocce Betties
URL:/League/Schedule/2782
DESCRIPTION:Regular Season match: C.I.A.o vs Bocce Betties
LOCATION:Alexander Court 1
END:VEVENT
BEGIN:VEVENT
DTSTAMP:20250421T000000Z
UID:9e2321af-bb05-4416-a4ae-8dcfc310ea7d@ClaytonBocce
DTSTART;TZID=America/Los_Angeles:20250515T183000
DTEND;TZID=America/Los_Angeles:20250515T210000
STATUS:CONFIRMED
SUMMARY:C.I.A.o vs The Pollastrini
URL:/League/Schedule/2782
DESCRIPTION:Regular Season match: C.I.A.o vs The Pollastrini
LOCATION:Alexander Court 1
END:VEVENT
BEGIN:VEVENT
DTSTAMP:20250421T000000Z
UID:93161bd0-e9ee-468e-8383-cb8ba553ee4f@ClaytonBocce
DTSTART;TZID=America/Los_Angeles:20250604T183000
DTEND;TZID=America/Los_Angeles:20250604T210000
STATUS:CONFIRMED
SUMMARY:C.I.A.o vs Bocce-lism's
URL:/League/Schedule/2782
DESCRIPTION:Regular Season match: C.I.A.o vs Bocce-lism's
LOCATION:Alexander Court 1
END:VEVENT
BEGIN:VEVENT
DTSTAMP:20250421T000000Z
UID:21855d06-f4f1-46ac-b213-9001e5f4c3dd@ClaytonBocce
DTSTART;TZID=America/Los_Angeles:20250611T183000
DTEND;TZID=America/Los_Angeles:20250611T210000
STATUS:CONFIRMED
SUMMARY:C.I.A.o vs Ball Busters
URL:/League/Schedule/2782
DESCRIPTION:Regular Season match: C.I.A.o vs Ball Busters
LOCATION:Alexander Court 2
END:VEVENT
BEGIN:VEVENT
DTSTAMP:20250421T000000Z
UID:af7cef06-8c75-450c-8d0a-71679b5b63c6@ClaytonBocce
DTSTART;TZID=America/Los_Angeles:20250618T183000
DTEND;TZID=America/Los_Angeles:20250618T210000
STATUS:CONFIRMED
SUMMARY:C.I.A.o vs Goof Balls
URL:/League/Schedule/2782
DESCRIPTION:Regular Season match: C.I.A.o vs Goof Balls
LOCATION:Rithel Court A
END:VEVENT
BEGIN:VEVENT
DTSTAMP:20250421T000000Z
UID:112ca1bb-b317-40bc-9580-1a0ee65aa678@ClaytonBocce
DTSTART;TZID=America/Los_Angeles:20250625T183000
DTEND;TZID=America/Los_Angeles:20250625T210000
STATUS:CONFIRMED
SUMMARY:C.I.A.o vs Sumofa Bocce
URL:/League/Schedule/2782
DESCRIPTION:Regular Season match: C.I.A.o vs Sumofa Bocce
LOCATION:Rithel Court B
END:VEVENT
BEGIN:VEVENT
DTSTAMP:20250421T000000Z
UID:2c5396b9-511e-462a-84f3-f67a0986c484@ClaytonBocce
DTSTART;TZID=America/Los_Angeles:20250702T183000
DTEND;TZID=America/Los_Angeles:20250702T210000
STATUS:CONFIRMED
SUMMARY:C.I.A.o vs Bocce Babes
URL:/League/Schedule/2782
DESCRIPTION:Regular Season match: C.I.A.o vs Bocce Babes
LOCATION:Rithel Court A
END:VEVENT
BEGIN:VEVENT
DTSTAMP:20250421T000000Z
UID:e589eeca-b00e-4cfe-8ec5-2ea20d4d924b@ClaytonBocce
DTSTART;TZID=America/Los_Angeles:20250709T183000
DTEND;TZID=America/Los_Angeles:20250709T210000
STATUS:CONFIRMED
SUMMARY:C.I.A.o vs Pollpeti Fumare
URL:/League/Schedule/2782
DESCRIPTION:Regular Season match: C.I.A.o vs Pollpeti Fumare
LOCATION:Rithel Court A
END:VEVENT
BEGIN:VEVENT
DTSTAMP:20250421T000000Z
UID:b4e42e3d-af05-4186-b3bc-35acc90de53c@ClaytonBocce
DTSTART;TZID=America/Los_Angeles:20250717T183000
DTEND;TZID=America/Los_Angeles:20250717T210000
STATUS:CONFIRMED
SUMMARY:C.I.A.o vs High Rollers
URL:/League/Schedule/2782
DESCRIPTION:Regular Season match: C.I.A.o vs High Rollers
LOCATION:Alexander Court 2
END:VEVENT
BEGIN:VEVENT
DTSTAMP:20250421T000000Z
UID:f4f4be4e-805e-4d55-ac4b-5ecbb84dbcda@ClaytonBocce
DTSTART;TZID=America/Los_Angeles:20250723T183000
DTEND;TZID=America/Los_Angeles:20250723T210000
STATUS:CONFIRMED
SUMMARY:C.I.A.o vs Bocce Nova
URL:/League/Schedule/2782
DESCRIPTION:Regular Season match: C.I.A.o vs Bocce Nova
LOCATION:Rithel Court A
END:VEVENT
BEGIN:VEVENT
DTSTAMP:20250421T000000Z
UID:0b719885-c495-4c13-ae67-692b7d7a6c74@ClaytonBocce
DTSTART;TZID=America/Los_Angeles:20250724T183000
DTEND;TZID=America/Los_Angeles:20250724T210000
STATUS:CONFIRMED
SUMMARY:C.I.A.o vs Galina
URL:/League/Schedule/2782
DESCRIPTION:Regular Season match: C.I.A.o vs Galina
LOCATION:Rithel Court A
END:VEVENT
BEGIN:VEVENT
DTSTAMP:20250421T000000Z
UID:af8df667-1761-452a-9617-e2ffcdf2d3e3@ClaytonBocce
DTSTART;TZID=America/Los_Angeles:20250730T183000
DTEND;TZID=America/Los_Angeles:20250730T210000
STATUS:CONFIRMED
SUMMARY:C.I.A.o vs The Incrediballs
URL:/League/Schedule/2782
DESCRIPTION:Regular Season match: C.I.A.o vs The Incrediball
 s
LOCATION:Alexander Court 1
END:VEVENT
BEGIN:VEVENT
DTSTAMP:20250421T000000Z
UID:9aa33484-2ccb-4863-ac9d-1a58a9c7ecc3@ClaytonBocce
DTSTART;TZID=America/Los_Angeles:20250806T183000
DTEND;TZID=America/Los_Angeles:20250806T210000
STATUS:CONFIRMED
SUMMARY:C.I.A.o vs Free Bailin'
URL:/League/Schedule/2782
DESCRIPTION:Regular Season match: C.I.A.o vs Free Bailin'
LOCATION:Rithel Court B
END:VEVENT
BEGIN:VEVENT
DTSTAMP:20250421T000000Z
UID:ee408c49-1d60-4767-aef1-e3bd0d01f09a@ClaytonBocce
DTSTART;TZID=America/Los_Angeles:20250813T183000
DTEND;TZID=America/Los_Angeles:20250813T210000
STATUS:CONFIRMED
SUMMARY:C.I.A.o vs Bocce Babes
URL:/League/Schedule/2782
DESCRIPTION:Regular Season match: C.I.A.o vs Bocce Babes
LOCATION:Rithel Court A
END:VEVENT
BEGIN:VEVENT
DTSTAMP:20250421T000000Z
UID:06b8c261-0761-4124-b62a-966f9f15594e@ClaytonBocce
DTSTART;TZID=America/Los_Angeles:20250821T183000
DTEND;TZID=America/Los_Angeles:20250821T210000
STATUS:CONFIRMED
SUMMARY:C.I.A.o vs Bocce Nova
URL:/League/Schedule/2782
DESCRIPTION:Regular Season match: C.I.A.o vs Bocce Nova
LOCATION:Rithel Court A
END:VEVENT
END:VCALENDAR
