BEGIN:VCALENDAR
VERSION:2.0
PRODID:-//Clayton Bocce League
METHOD:PUBLISH
BEGIN:VTIMEZONE
TZID:America/Los_Angeles
X-LIC-LOCATION:America/Los_Angeles
BEGIN:DAYLIGHT
TZOFFSETFROM:-0800
TZOFFSETTO:-0700
TZNAME:PDT
DTSTART:20070311T020000
RRULE:FREQ=YEARLY;BYMONTH=3;BYDAY=2SU
END:DAYLIGHT
BEGIN:STANDARD
TZOFFSETFROM:-0700
TZOFFSETTO:-0800
TZNAME:PST
DTSTART:20071104T020000
RRULE:FREQ=YEARLY;BYMONTH=11;BYDAY=1SU
END:STANDARD
END:VTIMEZONE
BEGIN:VEVENT
DTSTAMP:20250421T000000Z
UID:00763bc6-29d8-434a-a777-1a52df7ba465@ClaytonBocce
DTSTART;TZID=America/Los_Angeles:20250423T183000
DTEND;TZID=America/Los_Angeles:20250423T210000
STATUS:CONFIRMED
SUMMARY:Blue Cura-Cows vs C.I.A.o
URL:/League/Schedule/2774
DESCRIPTION:Regular Season match: Blue Cura-Cows vs C.I.A.o
LOCATION:Alexander Court 2
END:VEVENT
BEGIN:VEVENT
DTSTAMP:20250421T000000Z
UID:bebf0a38-9a61-4cd7-a895-103bddbb37a6@ClaytonBocce
DTSTART;TZID=America/Los_Angeles:20250430T183000
DTEND;TZID=America/Los_Angeles:20250430T210000
STATUS:CONFIRMED
SUMMARY:Blue Cura-Cows vs High Rollers
URL:/League/Schedule/2774
DESCRIPTION:Regular Season match: Blue Cura-Cows vs High Rol
 lers
LOCATION:Alexander Court 2
END:VEVENT
BEGIN:VEVENT
DTSTAMP:20250421T000000Z
UID:376f261c-aa9f-42fc-bc29-b2258be94ae6@ClaytonBocce
DTSTART;TZID=America/Los_Angeles:20250507T183000
DTEND;TZID=America/Los_Angeles:20250507T210000
STATUS:CONFIRMED
SUMMARY:Blue Cura-Cows vs Galina
URL:/League/Schedule/2774
DESCRIPTION:Regular Season match: Blue Cura-Cows vs Galina
LOCATION:Alexander Court 1
END:VEVENT
BEGIN:VEVENT
DTSTAMP:20250421T000000Z
UID:b26beb3f-99f5-477a-8650-d45cbd8b0ccd@ClaytonBocce
DTSTART;TZID=America/Los_Angeles:20250514T183000
DTEND;TZID=America/Los_Angeles:20250514T210000
STATUS:CONFIRMED
SUMMARY:Blue Cura-Cows vs Goof Balls
URL:/League/Schedule/2774
DESCRIPTION:Regular Season match: Blue Cura-Cows vs Goof Bal
 ls
LOCATION:Alexander Court 1
END:VEVENT
BEGIN:VEVENT
DTSTAMP:20250421T000000Z
UID:da5df6b6-707c-43e9-8110-333b13d3a884@ClaytonBocce
DTSTART;TZID=America/Los_Angeles:20250521T183000
DTEND;TZID=America/Los_Angeles:20250521T210000
STATUS:CONFIRMED
SUMMARY:Blue Cura-Cows vs Sumofa Bocce
URL:/League/Schedule/2774
DESCRIPTION:Regular Season match: Blue Cura-Cows vs Sumofa B
 occe
LOCATION:Rithel Court A
END:VEVENT
BEGIN:VEVENT
DTSTAMP:20250421T000000Z
UID:69afb751-b934-4de8-b47a-fe47376c33c9@ClaytonBocce
DTSTART;TZID=America/Los_Angeles:20250604T183000
DTEND;TZID=America/Los_Angeles:20250604T210000
STATUS:CONFIRMED
SUMMARY:Blue Cura-Cows vs The Incrediballs
URL:/League/Schedule/2774
DESCRIPTION:Regular Season match: Blue Cura-Cows vs The Incr
 ediballs
LOCATION:Rithel Court B
END:VEVENT
BEGIN:VEVENT
DTSTAMP:20250421T000000Z
UID:386c9a9f-f131-48cb-95c8-c50edaca3629@ClaytonBocce
DTSTART;TZID=America/Los_Angeles:20250611T183000
DTEND;TZID=America/Los_Angeles:20250611T210000
STATUS:CONFIRMED
SUMMARY:Blue Cura-Cows vs Bocce Betties
URL:/League/Schedule/2774
DESCRIPTION:Regular Season match: Blue Cura-Cows vs Bocce Be
 tties
LOCATION:Rithel Court A
END:VEVENT
BEGIN:VEVENT
DTSTAMP:20250421T000000Z
UID:59ebf7ce-ff5b-4cde-b233-b1e4ddbd5af1@ClaytonBocce
DTSTART;TZID=America/Los_Angeles:20250619T183000
DTEND;TZID=America/Los_Angeles:20250619T210000
STATUS:CONFIRMED
SUMMARY:Blue Cura-Cows vs Bocce Babes
URL:/League/Schedule/2774
DESCRIPTION:Regular Season match: Blue Cura-Cows vs Bocce Ba
 bes
LOCATION:Alexander Court 2
END:VEVENT
BEGIN:VEVENT
DTSTAMP:20250421T000000Z
UID:76df3374-ca6d-4c97-98c4-433d5d3db66e@ClaytonBocce
DTSTART;TZID=America/Los_Angeles:20250626T183000
DTEND;TZID=America/Los_Angeles:20250626T210000
STATUS:CONFIRMED
SUMMARY:Blue Cura-Cows vs Bocce-lism's
URL:/League/Schedule/2774
DESCRIPTION:Regular Season match: Blue Cura-Cows vs Bocce-li
 sm's
LOCATION:Rithel Court A
END:VEVENT
BEGIN:VEVENT
DTSTAMP:20250421T000000Z
UID:3281aaf2-874e-49b8-9f28-d8fb3482538f@ClaytonBocce
DTSTART;TZID=America/Los_Angeles:20250709T183000
DTEND;TZID=America/Los_Angeles:20250709T210000
STATUS:CONFIRMED
SUMMARY:Blue Cura-Cows vs Free Bailin'
URL:/League/Schedule/2774
DESCRIPTION:Regular Season match: Blue Cura-Cows vs Free Bai
 lin'
LOCATION:Alexander Court 1
END:VEVENT
BEGIN:VEVENT
DTSTAMP:20250421T000000Z
UID:e57ebbfa-08b0-4244-9ba9-b71f4412ec42@ClaytonBocce
DTSTART;TZID=America/Los_Angeles:20250716T183000
DTEND;TZID=America/Los_Angeles:20250716T210000
STATUS:CONFIRMED
SUMMARY:Blue Cura-Cows vs Pollpeti Fumare
URL:/League/Schedule/2774
DESCRIPTION:Regular Season match: Blue Cura-Cows vs Pollpeti
  Fumare
LOCATION:Rithel Court B
END:VEVENT
BEGIN:VEVENT
DTSTAMP:20250421T000000Z
UID:c34c5637-0cd5-4af2-8e0c-183e7662ff91@ClaytonBocce
DTSTART;TZID=America/Los_Angeles:20250723T183000
DTEND;TZID=America/Los_Angeles:20250723T210000
STATUS:CONFIRMED
SUMMARY:Blue Cura-Cows vs Bocce Questo!
URL:/League/Schedule/2774
DESCRIPTION:Regular Season match: Blue Cura-Cows vs Bocce Qu
 esto!
LOCATION:Rithel Court B
END:VEVENT
BEGIN:VEVENT
DTSTAMP:20250421T000000Z
UID:f0628b2c-d66b-4d25-87fa-7111c2b4baca@ClaytonBocce
DTSTART;TZID=America/Los_Angeles:20250731T183000
DTEND;TZID=America/Los_Angeles:20250731T210000
STATUS:CONFIRMED
SUMMARY:Blue Cura-Cows vs The Pollastrini
URL:/League/Schedule/2774
DESCRIPTION:Regular Season match: Blue Cura-Cows vs The Poll
 astrini
LOCATION:Rithel Court A
END:VEVENT
BEGIN:VEVENT
DTSTAMP:20250421T000000Z
UID:e8998f61-cea1-4c32-8749-be173a48cc44@ClaytonBocce
DTSTART;TZID=America/Los_Angeles:20250807T183000
DTEND;TZID=America/Los_Angeles:20250807T210000
STATUS:CONFIRMED
SUMMARY:Blue Cura-Cows vs Ball Busters
URL:/League/Schedule/2774
DESCRIPTION:Regular Season match: Blue Cura-Cows vs Ball Bus
 ters
LOCATION:Alexander Court 2
END:VEVENT
BEGIN:VEVENT
DTSTAMP:20250421T000000Z
UID:19b25627-3723-4637-8c26-1258cad23b4d@ClaytonBocce
DTSTART;TZID=America/Los_Angeles:20250828T183000
DTEND;TZID=America/Los_Angeles:20250828T210000
STATUS:CONFIRMED
SUMMARY:Blue Cura-Cows vs Bocce Nova
URL:/League/Schedule/2774
DESCRIPTION:Regular Season match: Blue Cura-Cows vs Bocce No
 va
LOCATION:Alexander Court 1
END:VEVENT
END:VCALENDAR
