BEGIN:VCALENDAR
VERSION:2.0
PRODID:-//Clayton Bocce League
METHOD:PUBLISH
BEGIN:VTIMEZONE
TZID:America/Los_Angeles
X-LIC-LOCATION:America/Los_Angeles
BEGIN:DAYLIGHT
TZOFFSETFROM:-0800
TZOFFSETTO:-0700
TZNAME:PDT
DTSTART:20070311T020000
RRULE:FREQ=YEARLY;BYMONTH=3;BYDAY=2SU
END:DAYLIGHT
BEGIN:STANDARD
TZOFFSETFROM:-0700
TZOFFSETTO:-0800
TZNAME:PST
DTSTART:20071104T020000
RRULE:FREQ=YEARLY;BYMONTH=11;BYDAY=1SU
END:STANDARD
END:VTIMEZONE
BEGIN:VEVENT
DTSTAMP:20250421T000000Z
UID:d7063965-5027-40a4-bd7c-b825b7e6a780@ClaytonBocce
DTSTART;TZID=America/Los_Angeles:20250424T183000
DTEND;TZID=America/Los_Angeles:20250424T210000
STATUS:CONFIRMED
SUMMARY:Bocce-lism's vs Ball Busters
URL:/League/Schedule/2775
DESCRIPTION:Regular Season match: Bocce-lism's vs Ball Buste
 rs
LOCATION:Alexander Court 2
END:VEVENT
BEGIN:VEVENT
DTSTAMP:20250421T000000Z
UID:fb49c27d-3126-457d-867f-be72ca72ec18@ClaytonBocce
DTSTART;TZID=America/Los_Angeles:20250430T183000
DTEND;TZID=America/Los_Angeles:20250430T210000
STATUS:CONFIRMED
SUMMARY:Bocce-lism's vs Bocce Babes
URL:/League/Schedule/2775
DESCRIPTION:Regular Season match: Bocce-lism's vs Bocce Babe
 s
LOCATION:Rithel Court A
END:VEVENT
BEGIN:VEVENT
DTSTAMP:20250421T000000Z
UID:cb20587d-ddd1-4b2a-85cc-26de9495ccca@ClaytonBocce
DTSTART;TZID=America/Los_Angeles:20250507T183000
DTEND;TZID=America/Los_Angeles:20250507T210000
STATUS:CONFIRMED
SUMMARY:Bocce-lism's vs Bocce Nova
URL:/League/Schedule/2775
DESCRIPTION:Regular Season match: Bocce-lism's vs Bocce Nova
LOCATION:Rithel Court B
END:VEVENT
BEGIN:VEVENT
DTSTAMP:20250421T000000Z
UID:a73aa1fb-3f12-4802-bb58-74b59596d909@ClaytonBocce
DTSTART;TZID=America/Los_Angeles:20250514T183000
DTEND;TZID=America/Los_Angeles:20250514T210000
STATUS:CONFIRMED
SUMMARY:Bocce-lism's vs Sumofa Bocce
URL:/League/Schedule/2775
DESCRIPTION:Regular Season match: Bocce-lism's vs Sumofa Boc
 ce
LOCATION:Rithel Court A
END:VEVENT
BEGIN:VEVENT
DTSTAMP:20250421T000000Z
UID:81c70024-b7e2-46ae-93ac-b2e3497bc437@ClaytonBocce
DTSTART;TZID=America/Los_Angeles:20250522T183000
DTEND;TZID=America/Los_Angeles:20250522T210000
STATUS:CONFIRMED
SUMMARY:Bocce-lism's vs Free Bailin'
URL:/League/Schedule/2775
DESCRIPTION:Regular Season match: Bocce-lism's vs Free Baili
 n'
LOCATION:Rithel Court A
END:VEVENT
BEGIN:VEVENT
DTSTAMP:20250421T000000Z
UID:93161bd0-e9ee-468e-8383-cb8ba553ee4f@ClaytonBocce
DTSTART;TZID=America/Los_Angeles:20250604T183000
DTEND;TZID=America/Los_Angeles:20250604T210000
STATUS:CONFIRMED
SUMMARY:Bocce-lism's vs C.I.A.o
URL:/League/Schedule/2775
DESCRIPTION:Regular Season match: Bocce-lism's vs C.I.A.o
LOCATION:Alexander Court 1
END:VEVENT
BEGIN:VEVENT
DTSTAMP:20250421T000000Z
UID:b8272922-bbd6-4d1a-b5e5-a4324e2510b2@ClaytonBocce
DTSTART;TZID=America/Los_Angeles:20250611T183000
DTEND;TZID=America/Los_Angeles:20250611T210000
STATUS:CONFIRMED
SUMMARY:Bocce-lism's vs Goof Balls
URL:/League/Schedule/2775
DESCRIPTION:Regular Season match: Bocce-lism's vs Goof Balls
LOCATION:Rithel Court B
END:VEVENT
BEGIN:VEVENT
DTSTAMP:20250421T000000Z
UID:a800792d-465d-45fd-b24e-65bc760e7dda@ClaytonBocce
DTSTART;TZID=America/Los_Angeles:20250618T183000
DTEND;TZID=America/Los_Angeles:20250618T210000
STATUS:CONFIRMED
SUMMARY:Bocce-lism's vs Pollpeti Fumare
URL:/League/Schedule/2775
DESCRIPTION:Regular Season match: Bocce-lism's vs Pollpeti F
 umare
LOCATION:Alexander Court 1
END:VEVENT
BEGIN:VEVENT
DTSTAMP:20250421T000000Z
UID:76df3374-ca6d-4c97-98c4-433d5d3db66e@ClaytonBocce
DTSTART;TZID=America/Los_Angeles:20250626T183000
DTEND;TZID=America/Los_Angeles:20250626T210000
STATUS:CONFIRMED
SUMMARY:Bocce-lism's vs Blue Cura-Cows
URL:/League/Schedule/2775
DESCRIPTION:Regular Season match: Bocce-lism's vs Blue Cura-
 Cows
LOCATION:Rithel Court A
END:VEVENT
BEGIN:VEVENT
DTSTAMP:20250421T000000Z
UID:daf7d92a-1c5a-4a5a-9887-15f3d5f08338@ClaytonBocce
DTSTART;TZID=America/Los_Angeles:20250709T183000
DTEND;TZID=America/Los_Angeles:20250709T210000
STATUS:CONFIRMED
SUMMARY:Bocce-lism's vs Bocce Betties
URL:/League/Schedule/2775
DESCRIPTION:Regular Season match: Bocce-lism's vs Bocce Bett
 ies
LOCATION:Alexander Court 2
END:VEVENT
BEGIN:VEVENT
DTSTAMP:20250421T000000Z
UID:56fc899d-b9d0-4aed-a780-bb13812e2bc7@ClaytonBocce
DTSTART;TZID=America/Los_Angeles:20250717T183000
DTEND;TZID=America/Los_Angeles:20250717T210000
STATUS:CONFIRMED
SUMMARY:Bocce-lism's vs The Incrediballs
URL:/League/Schedule/2775
DESCRIPTION:Regular Season match: Bocce-lism's vs The Incred
 iballs
LOCATION:Alexander Court 1
END:VEVENT
BEGIN:VEVENT
DTSTAMP:20250421T000000Z
UID:2a81c6c1-eb43-47c9-9d89-0e471be5137c@ClaytonBocce
DTSTART;TZID=America/Los_Angeles:20250724T183000
DTEND;TZID=America/Los_Angeles:20250724T210000
STATUS:CONFIRMED
SUMMARY:Bocce-lism's vs High Rollers
URL:/League/Schedule/2775
DESCRIPTION:Regular Season match: Bocce-lism's vs High Rolle
 rs
LOCATION:Alexander Court 1
END:VEVENT
BEGIN:VEVENT
DTSTAMP:20250421T000000Z
UID:c4589171-fbe7-43b1-b609-382398179d19@ClaytonBocce
DTSTART;TZID=America/Los_Angeles:20250730T183000
DTEND;TZID=America/Los_Angeles:20250730T210000
STATUS:CONFIRMED
SUMMARY:Bocce-lism's vs Bocce Questo!
URL:/League/Schedule/2775
DESCRIPTION:Regular Season match: Bocce-lism's vs Bocce Ques
 to!
LOCATION:Alexander Court 2
END:VEVENT
BEGIN:VEVENT
DTSTAMP:20250421T000000Z
UID:31b13a32-9f9b-4972-a29c-0d7ce70a8ef0@ClaytonBocce
DTSTART;TZID=America/Los_Angeles:20250806T183000
DTEND;TZID=America/Los_Angeles:20250806T210000
STATUS:CONFIRMED
SUMMARY:Bocce-lism's vs The Pollastrini
URL:/League/Schedule/2775
DESCRIPTION:Regular Season match: Bocce-lism's vs The Pollas
 trini
LOCATION:Alexander Court 1
END:VEVENT
BEGIN:VEVENT
DTSTAMP:20250421T000000Z
UID:1eb27552-b476-446c-9f25-2db0b5c39b32@ClaytonBocce
DTSTART;TZID=America/Los_Angeles:20250820T183000
DTEND;TZID=America/Los_Angeles:20250820T210000
STATUS:CONFIRMED
SUMMARY:Bocce-lism's vs Galina
URL:/League/Schedule/2775
DESCRIPTION:Regular Season match: Bocce-lism's vs Galina
LOCATION:Alexander Court 2
END:VEVENT
END:VCALENDAR
