BEGIN:VCALENDAR
VERSION:2.0
PRODID:-//Clayton Bocce League
METHOD:PUBLISH
BEGIN:VTIMEZONE
TZID:America/Los_Angeles
X-LIC-LOCATION:America/Los_Angeles
BEGIN:DAYLIGHT
TZOFFSETFROM:-0800
TZOFFSETTO:-0700
TZNAME:PDT
DTSTART:20070311T020000
RRULE:FREQ=YEARLY;BYMONTH=3;BYDAY=2SU
END:DAYLIGHT
BEGIN:STANDARD
TZOFFSETFROM:-0700
TZOFFSETTO:-0800
TZNAME:PST
DTSTART:20071104T020000
RRULE:FREQ=YEARLY;BYMONTH=11;BYDAY=1SU
END:STANDARD
END:VTIMEZONE
BEGIN:VEVENT
DTSTAMP:20250421T000000Z
UID:d7063965-5027-40a4-bd7c-b825b7e6a780@ClaytonBocce
DTSTART;TZID=America/Los_Angeles:20250424T183000
DTEND;TZID=America/Los_Angeles:20250424T210000
STATUS:CONFIRMED
SUMMARY:Ball Busters vs Bocce-lism's
URL:/League/Schedule/2778
DESCRIPTION:Regular Season match: Ball Busters vs Bocce-lism
 's
LOCATION:Alexander Court 2
END:VEVENT
BEGIN:VEVENT
DTSTAMP:20250421T000000Z
UID:a2564a7b-507e-4061-b0b1-5e8442e8997a@ClaytonBocce
DTSTART;TZID=America/Los_Angeles:20250430T183000
DTEND;TZID=America/Los_Angeles:20250430T210000
STATUS:CONFIRMED
SUMMARY:Ball Busters vs The Incrediballs
URL:/League/Schedule/2778
DESCRIPTION:Regular Season match: Ball Busters vs The Incred
 iballs
LOCATION:Rithel Court B
END:VEVENT
BEGIN:VEVENT
DTSTAMP:20250421T000000Z
UID:2a92bb22-bf48-49bf-93fb-a453a81618ce@ClaytonBocce
DTSTART;TZID=America/Los_Angeles:20250508T183000
DTEND;TZID=America/Los_Angeles:20250508T210000
STATUS:CONFIRMED
SUMMARY:Ball Busters vs Free Bailin'
URL:/League/Schedule/2778
DESCRIPTION:Regular Season match: Ball Busters vs Free Baili
 n'
LOCATION:Rithel Court B
END:VEVENT
BEGIN:VEVENT
DTSTAMP:20250421T000000Z
UID:3075dc17-f4be-4958-a1dd-d73e34259263@ClaytonBocce
DTSTART;TZID=America/Los_Angeles:20250515T183000
DTEND;TZID=America/Los_Angeles:20250515T210000
STATUS:CONFIRMED
SUMMARY:Ball Busters vs Bocce Babes
URL:/League/Schedule/2778
DESCRIPTION:Regular Season match: Ball Busters vs Bocce Babe
 s
LOCATION:Rithel Court A
END:VEVENT
BEGIN:VEVENT
DTSTAMP:20250421T000000Z
UID:a7039e86-608a-4e17-a929-ea1a08b37207@ClaytonBocce
DTSTART;TZID=America/Los_Angeles:20250522T183000
DTEND;TZID=America/Los_Angeles:20250522T210000
STATUS:CONFIRMED
SUMMARY:Ball Busters vs Pollpeti Fumare
URL:/League/Schedule/2778
DESCRIPTION:Regular Season match: Ball Busters vs Pollpeti F
 umare
LOCATION:Alexander Court 1
END:VEVENT
BEGIN:VEVENT
DTSTAMP:20250421T000000Z
UID:d95b9733-9149-4731-8b97-92d563a4495d@ClaytonBocce
DTSTART;TZID=America/Los_Angeles:20250605T183000
DTEND;TZID=America/Los_Angeles:20250605T210000
STATUS:CONFIRMED
SUMMARY:Ball Busters vs Bocce Nova
URL:/League/Schedule/2778
DESCRIPTION:Regular Season match: Ball Busters vs Bocce Nova
LOCATION:Alexander Court 1
END:VEVENT
BEGIN:VEVENT
DTSTAMP:20250421T000000Z
UID:21855d06-f4f1-46ac-b213-9001e5f4c3dd@ClaytonBocce
DTSTART;TZID=America/Los_Angeles:20250611T183000
DTEND;TZID=America/Los_Angeles:20250611T210000
STATUS:CONFIRMED
SUMMARY:Ball Busters vs C.I.A.o
URL:/League/Schedule/2778
DESCRIPTION:Regular Season match: Ball Busters vs C.I.A.o
LOCATION:Alexander Court 2
END:VEVENT
BEGIN:VEVENT
DTSTAMP:20250421T000000Z
UID:866e9823-7827-40c9-badd-f850b747e168@ClaytonBocce
DTSTART;TZID=America/Los_Angeles:20250619T183000
DTEND;TZID=America/Los_Angeles:20250619T210000
STATUS:CONFIRMED
SUMMARY:Ball Busters vs Sumofa Bocce
URL:/League/Schedule/2778
DESCRIPTION:Regular Season match: Ball Busters vs Sumofa Boc
 ce
LOCATION:Rithel Court B
END:VEVENT
BEGIN:VEVENT
DTSTAMP:20250421T000000Z
UID:c9423af1-9fa7-47cc-a8a6-43a73c55964d@ClaytonBocce
DTSTART;TZID=America/Los_Angeles:20250626T183000
DTEND;TZID=America/Los_Angeles:20250626T210000
STATUS:CONFIRMED
SUMMARY:Ball Busters vs High Rollers
URL:/League/Schedule/2778
DESCRIPTION:Regular Season match: Ball Busters vs High Rolle
 rs
LOCATION:Rithel Court B
END:VEVENT
BEGIN:VEVENT
DTSTAMP:20250421T000000Z
UID:d8a80d56-054d-4637-a0ce-676901c4268a@ClaytonBocce
DTSTART;TZID=America/Los_Angeles:20250710T183000
DTEND;TZID=America/Los_Angeles:20250710T210000
STATUS:CONFIRMED
SUMMARY:Ball Busters vs Bocce Questo!
URL:/League/Schedule/2778
DESCRIPTION:Regular Season match: Ball Busters vs Bocce Ques
 to!
LOCATION:Alexander Court 2
END:VEVENT
BEGIN:VEVENT
DTSTAMP:20250421T000000Z
UID:24c19090-501d-4cce-ac69-eb9495b3aadd@ClaytonBocce
DTSTART;TZID=America/Los_Angeles:20250717T183000
DTEND;TZID=America/Los_Angeles:20250717T210000
STATUS:CONFIRMED
SUMMARY:Ball Busters vs The Pollastrini
URL:/League/Schedule/2778
DESCRIPTION:Regular Season match: Ball Busters vs The Pollas
 trini
LOCATION:Rithel Court A
END:VEVENT
BEGIN:VEVENT
DTSTAMP:20250421T000000Z
UID:9398b1be-1122-415e-8f7f-660625e2ac1c@ClaytonBocce
DTSTART;TZID=America/Los_Angeles:20250724T183000
DTEND;TZID=America/Los_Angeles:20250724T210000
STATUS:CONFIRMED
SUMMARY:Ball Busters vs Goof Balls
URL:/League/Schedule/2778
DESCRIPTION:Regular Season match: Ball Busters vs Goof Balls
LOCATION:Rithel Court B
END:VEVENT
BEGIN:VEVENT
DTSTAMP:20250421T000000Z
UID:e8998f61-cea1-4c32-8749-be173a48cc44@ClaytonBocce
DTSTART;TZID=America/Los_Angeles:20250807T183000
DTEND;TZID=America/Los_Angeles:20250807T210000
STATUS:CONFIRMED
SUMMARY:Ball Busters vs Blue Cura-Cows
URL:/League/Schedule/2778
DESCRIPTION:Regular Season match: Ball Busters vs Blue Cura-
 Cows
LOCATION:Alexander Court 2
END:VEVENT
BEGIN:VEVENT
DTSTAMP:20250421T000000Z
UID:ad174b2f-b40c-4928-bfa8-47fa34487131@ClaytonBocce
DTSTART;TZID=America/Los_Angeles:20250814T183000
DTEND;TZID=America/Los_Angeles:20250814T210000
STATUS:CONFIRMED
SUMMARY:Ball Busters vs Bocce Betties
URL:/League/Schedule/2778
DESCRIPTION:Regular Season match: Ball Busters vs Bocce Bett
 ies
LOCATION:Alexander Court 1
END:VEVENT
BEGIN:VEVENT
DTSTAMP:20250421T000000Z
UID:450a45f0-27d8-4f84-8d7b-093ab86622d3@ClaytonBocce
DTSTART;TZID=America/Los_Angeles:20250828T183000
DTEND;TZID=America/Los_Angeles:20250828T210000
STATUS:CONFIRMED
SUMMARY:Ball Busters vs Galina
URL:/League/Schedule/2778
DESCRIPTION:Regular Season match: Ball Busters vs Galina
LOCATION:Alexander Court 2
END:VEVENT
END:VCALENDAR
