BEGIN:VCALENDAR
VERSION:2.0
PRODID:-//Clayton Bocce League
METHOD:PUBLISH
BEGIN:VTIMEZONE
TZID:America/Los_Angeles
X-LIC-LOCATION:America/Los_Angeles
BEGIN:DAYLIGHT
TZOFFSETFROM:-0800
TZOFFSETTO:-0700
TZNAME:PDT
DTSTART:20070311T020000
RRULE:FREQ=YEARLY;BYMONTH=3;BYDAY=2SU
END:DAYLIGHT
BEGIN:STANDARD
TZOFFSETFROM:-0700
TZOFFSETTO:-0800
TZNAME:PST
DTSTART:20071104T020000
RRULE:FREQ=YEARLY;BYMONTH=11;BYDAY=1SU
END:STANDARD
END:VTIMEZONE
BEGIN:VEVENT
DTSTAMP:20250421T000000Z
UID:69a9907d-9f2a-493b-8583-e6ff23d9df82@ClaytonBocce
DTSTART;TZID=America/Los_Angeles:20250424T183000
DTEND;TZID=America/Los_Angeles:20250424T210000
STATUS:CONFIRMED
SUMMARY:Bocce Babes vs Free Bailin'
URL:/League/Schedule/2776
DESCRIPTION:Regular Season match: Bocce Babes vs Free Bailin
 '
LOCATION:Rithel Court B
END:VEVENT
BEGIN:VEVENT
DTSTAMP:20250421T000000Z
UID:fb49c27d-3126-457d-867f-be72ca72ec18@ClaytonBocce
DTSTART;TZID=America/Los_Angeles:20250430T183000
DTEND;TZID=America/Los_Angeles:20250430T210000
STATUS:CONFIRMED
SUMMARY:Bocce Babes vs Bocce-lism's
URL:/League/Schedule/2776
DESCRIPTION:Regular Season match: Bocce Babes vs Bocce-lism'
 s
LOCATION:Rithel Court A
END:VEVENT
BEGIN:VEVENT
DTSTAMP:20250421T000000Z
UID:381f200b-7d0e-4d5c-a917-897e2868913f@ClaytonBocce
DTSTART;TZID=America/Los_Angeles:20250508T183000
DTEND;TZID=America/Los_Angeles:20250508T210000
STATUS:CONFIRMED
SUMMARY:Bocce Babes vs The Pollastrini
URL:/League/Schedule/2776
DESCRIPTION:Regular Season match: Bocce Babes vs The Pollast
 rini
LOCATION:Alexander Court 2
END:VEVENT
BEGIN:VEVENT
DTSTAMP:20250421T000000Z
UID:3075dc17-f4be-4958-a1dd-d73e34259263@ClaytonBocce
DTSTART;TZID=America/Los_Angeles:20250515T183000
DTEND;TZID=America/Los_Angeles:20250515T210000
STATUS:CONFIRMED
SUMMARY:Bocce Babes vs Ball Busters
URL:/League/Schedule/2776
DESCRIPTION:Regular Season match: Bocce Babes vs Ball Buster
 s
LOCATION:Rithel Court A
END:VEVENT
BEGIN:VEVENT
DTSTAMP:20250421T000000Z
UID:1f5476c4-091f-4eba-b412-25109eb6ee9a@ClaytonBocce
DTSTART;TZID=America/Los_Angeles:20250521T183000
DTEND;TZID=America/Los_Angeles:20250521T210000
STATUS:CONFIRMED
SUMMARY:Bocce Babes vs Galina
URL:/League/Schedule/2776
DESCRIPTION:Regular Season match: Bocce Babes vs Galina
LOCATION:Rithel Court B
END:VEVENT
BEGIN:VEVENT
DTSTAMP:20250421T000000Z
UID:ab2793be-b801-40f2-88a3-1a49baf5b343@ClaytonBocce
DTSTART;TZID=America/Los_Angeles:20250612T183000
DTEND;TZID=America/Los_Angeles:20250612T210000
STATUS:CONFIRMED
SUMMARY:Bocce Babes vs Sumofa Bocce
URL:/League/Schedule/2776
DESCRIPTION:Regular Season match: Bocce Babes vs Sumofa Bocc
 e
LOCATION:Rithel Court A
END:VEVENT
BEGIN:VEVENT
DTSTAMP:20250421T000000Z
UID:59ebf7ce-ff5b-4cde-b233-b1e4ddbd5af1@ClaytonBocce
DTSTART;TZID=America/Los_Angeles:20250619T183000
DTEND;TZID=America/Los_Angeles:20250619T210000
STATUS:CONFIRMED
SUMMARY:Bocce Babes vs Blue Cura-Cows
URL:/League/Schedule/2776
DESCRIPTION:Regular Season match: Bocce Babes vs Blue Cura-C
 ows
LOCATION:Alexander Court 2
END:VEVENT
BEGIN:VEVENT
DTSTAMP:20250421T000000Z
UID:e3f4e6ec-f46e-4b09-813d-712c1640a189@ClaytonBocce
DTSTART;TZID=America/Los_Angeles:20250626T183000
DTEND;TZID=America/Los_Angeles:20250626T210000
STATUS:CONFIRMED
SUMMARY:Bocce Babes vs Bocce Questo!
URL:/League/Schedule/2776
DESCRIPTION:Regular Season match: Bocce Babes vs Bocce Quest
 o!
LOCATION:Alexander Court 1
END:VEVENT
BEGIN:VEVENT
DTSTAMP:20250421T000000Z
UID:2c5396b9-511e-462a-84f3-f67a0986c484@ClaytonBocce
DTSTART;TZID=America/Los_Angeles:20250702T183000
DTEND;TZID=America/Los_Angeles:20250702T210000
STATUS:CONFIRMED
SUMMARY:Bocce Babes vs C.I.A.o
URL:/League/Schedule/2776
DESCRIPTION:Regular Season match: Bocce Babes vs C.I.A.o
LOCATION:Rithel Court A
END:VEVENT
BEGIN:VEVENT
DTSTAMP:20250421T000000Z
UID:0abb9490-2260-41e8-8f49-1878842ff728@ClaytonBocce
DTSTART;TZID=America/Los_Angeles:20250710T183000
DTEND;TZID=America/Los_Angeles:20250710T210000
STATUS:CONFIRMED
SUMMARY:Bocce Babes vs The Incrediballs
URL:/League/Schedule/2776
DESCRIPTION:Regular Season match: Bocce Babes vs The Incredi
 balls
LOCATION:Alexander Court 1
END:VEVENT
BEGIN:VEVENT
DTSTAMP:20250421T000000Z
UID:4196e313-a2b0-46f7-a6c1-ad2e0e64027c@ClaytonBocce
DTSTART;TZID=America/Los_Angeles:20250716T183000
DTEND;TZID=America/Los_Angeles:20250716T210000
STATUS:CONFIRMED
SUMMARY:Bocce Babes vs Bocce Nova
URL:/League/Schedule/2776
DESCRIPTION:Regular Season match: Bocce Babes vs Bocce Nova
LOCATION:Alexander Court 2
END:VEVENT
BEGIN:VEVENT
DTSTAMP:20250421T000000Z
UID:ef02ae09-8808-4399-baea-ed047d1df000@ClaytonBocce
DTSTART;TZID=America/Los_Angeles:20250723T183000
DTEND;TZID=America/Los_Angeles:20250723T210000
STATUS:CONFIRMED
SUMMARY:Bocce Babes vs Bocce Betties
URL:/League/Schedule/2776
DESCRIPTION:Regular Season match: Bocce Babes vs Bocce Betti
 es
LOCATION:Alexander Court 1
END:VEVENT
BEGIN:VEVENT
DTSTAMP:20250421T000000Z
UID:7bc5ad0c-515e-42fe-a2e5-281f2b10fe58@ClaytonBocce
DTSTART;TZID=America/Los_Angeles:20250806T183000
DTEND;TZID=America/Los_Angeles:20250806T210000
STATUS:CONFIRMED
SUMMARY:Bocce Babes vs High Rollers
URL:/League/Schedule/2776
DESCRIPTION:Regular Season match: Bocce Babes vs High Roller
 s
LOCATION:Alexander Court 2
END:VEVENT
BEGIN:VEVENT
DTSTAMP:20250421T000000Z
UID:ee408c49-1d60-4767-aef1-e3bd0d01f09a@ClaytonBocce
DTSTART;TZID=America/Los_Angeles:20250813T183000
DTEND;TZID=America/Los_Angeles:20250813T210000
STATUS:CONFIRMED
SUMMARY:Bocce Babes vs C.I.A.o
URL:/League/Schedule/2776
DESCRIPTION:Regular Season match: Bocce Babes vs C.I.A.o
LOCATION:Rithel Court A
END:VEVENT
BEGIN:VEVENT
DTSTAMP:20250421T000000Z
UID:d5af5b88-4c1e-4496-8af7-4508f16fd258@ClaytonBocce
DTSTART;TZID=America/Los_Angeles:20250820T183000
DTEND;TZID=America/Los_Angeles:20250820T210000
STATUS:CONFIRMED
SUMMARY:Bocce Babes vs Pollpeti Fumare
URL:/League/Schedule/2776
DESCRIPTION:Regular Season match: Bocce Babes vs Pollpeti Fu
 mare
LOCATION:Rithel Court B
END:VEVENT
BEGIN:VEVENT
DTSTAMP:20250421T000000Z
UID:a2ca3436-8030-4632-9044-880f6dfaf66b@ClaytonBocce
DTSTART;TZID=America/Los_Angeles:20250828T183000
DTEND;TZID=America/Los_Angeles:20250828T210000
STATUS:CONFIRMED
SUMMARY:Bocce Babes vs Goof Balls
URL:/League/Schedule/2776
DESCRIPTION:Regular Season match: Bocce Babes vs Goof Balls
LOCATION:Rithel Court B
END:VEVENT
END:VCALENDAR
