BEGIN:VCALENDAR
VERSION:2.0
PRODID:-//Clayton Bocce League
METHOD:PUBLISH
BEGIN:VTIMEZONE
TZID:America/Los_Angeles
X-LIC-LOCATION:America/Los_Angeles
BEGIN:DAYLIGHT
TZOFFSETFROM:-0800
TZOFFSETTO:-0700
TZNAME:PDT
DTSTART:20070311T020000
RRULE:FREQ=YEARLY;BYMONTH=3;BYDAY=2SU
END:DAYLIGHT
BEGIN:STANDARD
TZOFFSETFROM:-0700
TZOFFSETTO:-0800
TZNAME:PST
DTSTART:20071104T020000
RRULE:FREQ=YEARLY;BYMONTH=11;BYDAY=1SU
END:STANDARD
END:VTIMEZONE
BEGIN:VEVENT
DTSTAMP:20250421T000000Z
UID:69a9907d-9f2a-493b-8583-e6ff23d9df82@ClaytonBocce
DTSTART;TZID=America/Los_Angeles:20250424T183000
DTEND;TZID=America/Los_Angeles:20250424T210000
STATUS:CONFIRMED
SUMMARY:Free Bailin' vs Bocce Babes
URL:/League/Schedule/2783
DESCRIPTION:Regular Season match: Free Bailin' vs Bocce Babe
 s
LOCATION:Rithel Court B
END:VEVENT
BEGIN:VEVENT
DTSTAMP:20250421T000000Z
UID:6db62102-2b0c-4117-b62c-46e5c2de4ddd@ClaytonBocce
DTSTART;TZID=America/Los_Angeles:20250501T183000
DTEND;TZID=America/Los_Angeles:20250501T210000
STATUS:CONFIRMED
SUMMARY:Free Bailin' vs The Pollastrini
URL:/League/Schedule/2783
DESCRIPTION:Regular Season match: Free Bailin' vs The Pollas
 trini
LOCATION:Rithel Court A
END:VEVENT
BEGIN:VEVENT
DTSTAMP:20250421T000000Z
UID:2a92bb22-bf48-49bf-93fb-a453a81618ce@ClaytonBocce
DTSTART;TZID=America/Los_Angeles:20250508T183000
DTEND;TZID=America/Los_Angeles:20250508T210000
STATUS:CONFIRMED
SUMMARY:Free Bailin' vs Ball Busters
URL:/League/Schedule/2783
DESCRIPTION:Regular Season match: Free Bailin' vs Ball Buste
 rs
LOCATION:Rithel Court B
END:VEVENT
BEGIN:VEVENT
DTSTAMP:20250421T000000Z
UID:800fe412-b139-4a05-bf89-50cae77e9114@ClaytonBocce
DTSTART;TZID=America/Los_Angeles:20250514T183000
DTEND;TZID=America/Los_Angeles:20250514T210000
STATUS:CONFIRMED
SUMMARY:Free Bailin' vs High Rollers
URL:/League/Schedule/2783
DESCRIPTION:Regular Season match: Free Bailin' vs High Rolle
 rs
LOCATION:Rithel Court B
END:VEVENT
BEGIN:VEVENT
DTSTAMP:20250421T000000Z
UID:81c70024-b7e2-46ae-93ac-b2e3497bc437@ClaytonBocce
DTSTART;TZID=America/Los_Angeles:20250522T183000
DTEND;TZID=America/Los_Angeles:20250522T210000
STATUS:CONFIRMED
SUMMARY:Free Bailin' vs Bocce-lism's
URL:/League/Schedule/2783
DESCRIPTION:Regular Season match: Free Bailin' vs Bocce-lism
 's
LOCATION:Rithel Court A
END:VEVENT
BEGIN:VEVENT
DTSTAMP:20250421T000000Z
UID:36a20afa-62a2-4054-8ba4-e7ac7382f36d@ClaytonBocce
DTSTART;TZID=America/Los_Angeles:20250605T183000
DTEND;TZID=America/Los_Angeles:20250605T210000
STATUS:CONFIRMED
SUMMARY:Free Bailin' vs Sumofa Bocce
URL:/League/Schedule/2783
DESCRIPTION:Regular Season match: Free Bailin' vs Sumofa Boc
 ce
LOCATION:Alexander Court 2
END:VEVENT
BEGIN:VEVENT
DTSTAMP:20250421T000000Z
UID:c2d4e2f8-fdca-4cfd-94ba-5bb1f731b9e9@ClaytonBocce
DTSTART;TZID=America/Los_Angeles:20250612T183000
DTEND;TZID=America/Los_Angeles:20250612T210000
STATUS:CONFIRMED
SUMMARY:Free Bailin' vs Bocce Nova
URL:/League/Schedule/2783
DESCRIPTION:Regular Season match: Free Bailin' vs Bocce Nova
LOCATION:Alexander Court 1
END:VEVENT
BEGIN:VEVENT
DTSTAMP:20250421T000000Z
UID:5173af3e-3b03-4b63-9d90-22ad3dd8e9b4@ClaytonBocce
DTSTART;TZID=America/Los_Angeles:20250619T183000
DTEND;TZID=America/Los_Angeles:20250619T210000
STATUS:CONFIRMED
SUMMARY:Free Bailin' vs Bocce Questo!
URL:/League/Schedule/2783
DESCRIPTION:Regular Season match: Free Bailin' vs Bocce Ques
 to!
LOCATION:Alexander Court 1
END:VEVENT
BEGIN:VEVENT
DTSTAMP:20250421T000000Z
UID:299c0cf8-0ff6-42a1-9e41-e9067a6723b9@ClaytonBocce
DTSTART;TZID=America/Los_Angeles:20250625T183000
DTEND;TZID=America/Los_Angeles:20250625T210000
STATUS:CONFIRMED
SUMMARY:Free Bailin' vs Pollpeti Fumare
URL:/League/Schedule/2783
DESCRIPTION:Regular Season match: Free Bailin' vs Pollpeti F
 umare
LOCATION:Alexander Court 2
END:VEVENT
BEGIN:VEVENT
DTSTAMP:20250421T000000Z
UID:3281aaf2-874e-49b8-9f28-d8fb3482538f@ClaytonBocce
DTSTART;TZID=America/Los_Angeles:20250709T183000
DTEND;TZID=America/Los_Angeles:20250709T210000
STATUS:CONFIRMED
SUMMARY:Free Bailin' vs Blue Cura-Cows
URL:/League/Schedule/2783
DESCRIPTION:Regular Season match: Free Bailin' vs Blue Cura-
 Cows
LOCATION:Alexander Court 1
END:VEVENT
BEGIN:VEVENT
DTSTAMP:20250421T000000Z
UID:31fa86af-acfa-4875-8477-d4ed6da022d3@ClaytonBocce
DTSTART;TZID=America/Los_Angeles:20250716T183000
DTEND;TZID=America/Los_Angeles:20250716T210000
STATUS:CONFIRMED
SUMMARY:Free Bailin' vs Galina
URL:/League/Schedule/2783
DESCRIPTION:Regular Season match: Free Bailin' vs Galina
LOCATION:Alexander Court 1
END:VEVENT
BEGIN:VEVENT
DTSTAMP:20250421T000000Z
UID:eb1938b4-aff5-4ce9-9f61-0a09c2b7f570@ClaytonBocce
DTSTART;TZID=America/Los_Angeles:20250723T183000
DTEND;TZID=America/Los_Angeles:20250723T210000
STATUS:CONFIRMED
SUMMARY:Free Bailin' vs The Incrediballs
URL:/League/Schedule/2783
DESCRIPTION:Regular Season match: Free Bailin' vs The Incred
 iballs
LOCATION:Alexander Court 2
END:VEVENT
BEGIN:VEVENT
DTSTAMP:20250421T000000Z
UID:5e0662ec-4b03-4e2c-9ba6-c77f9f528d9f@ClaytonBocce
DTSTART;TZID=America/Los_Angeles:20250730T183000
DTEND;TZID=America/Los_Angeles:20250730T210000
STATUS:CONFIRMED
SUMMARY:Free Bailin' vs Goof Balls
URL:/League/Schedule/2783
DESCRIPTION:Regular Season match: Free Bailin' vs Goof Balls
LOCATION:Rithel Court A
END:VEVENT
BEGIN:VEVENT
DTSTAMP:20250421T000000Z
UID:9aa33484-2ccb-4863-ac9d-1a58a9c7ecc3@ClaytonBocce
DTSTART;TZID=America/Los_Angeles:20250806T183000
DTEND;TZID=America/Los_Angeles:20250806T210000
STATUS:CONFIRMED
SUMMARY:Free Bailin' vs C.I.A.o
URL:/League/Schedule/2783
DESCRIPTION:Regular Season match: Free Bailin' vs C.I.A.o
LOCATION:Rithel Court B
END:VEVENT
BEGIN:VEVENT
DTSTAMP:20250421T000000Z
UID:b8d9ee1d-f467-4e20-8214-2f0c1343c04f@ClaytonBocce
DTSTART;TZID=America/Los_Angeles:20250821T183000
DTEND;TZID=America/Los_Angeles:20250821T210000
STATUS:CONFIRMED
SUMMARY:Free Bailin' vs Bocce Betties
URL:/League/Schedule/2783
DESCRIPTION:Regular Season match: Free Bailin' vs Bocce Bett
 ies
LOCATION:Alexander Court 2
END:VEVENT
END:VCALENDAR
