BEGIN:VCALENDAR
VERSION:2.0
PRODID:-//Clayton Bocce League
METHOD:PUBLISH
BEGIN:VTIMEZONE
TZID:America/Los_Angeles
X-LIC-LOCATION:America/Los_Angeles
BEGIN:DAYLIGHT
TZOFFSETFROM:-0800
TZOFFSETTO:-0700
TZNAME:PDT
DTSTART:20070311T020000
RRULE:FREQ=YEARLY;BYMONTH=3;BYDAY=2SU
END:DAYLIGHT
BEGIN:STANDARD
TZOFFSETFROM:-0700
TZOFFSETTO:-0800
TZNAME:PST
DTSTART:20071104T020000
RRULE:FREQ=YEARLY;BYMONTH=11;BYDAY=1SU
END:STANDARD
END:VTIMEZONE
BEGIN:VEVENT
DTSTAMP:20250421T000000Z
UID:f98218c1-aa98-411d-adbb-73084a83814a@ClaytonBocce
DTSTART;TZID=America/Los_Angeles:20250424T183000
DTEND;TZID=America/Los_Angeles:20250424T210000
STATUS:CONFIRMED
SUMMARY:Bocce Nova vs The Incrediballs
URL:/League/Schedule/2786
DESCRIPTION:Regular Season match: Bocce Nova vs The Incredib
 alls
LOCATION:Rithel Court A
END:VEVENT
BEGIN:VEVENT
DTSTAMP:20250421T000000Z
UID:dcaa1ead-e948-4ae6-ae5f-68129a5c8f98@ClaytonBocce
DTSTART;TZID=America/Los_Angeles:20250501T183000
DTEND;TZID=America/Los_Angeles:20250501T210000
STATUS:CONFIRMED
SUMMARY:Bocce Nova vs Pollpeti Fumare
URL:/League/Schedule/2786
DESCRIPTION:Regular Season match: Bocce Nova vs Pollpeti Fum
 are
LOCATION:Rithel Court B
END:VEVENT
BEGIN:VEVENT
DTSTAMP:20250421T000000Z
UID:cb20587d-ddd1-4b2a-85cc-26de9495ccca@ClaytonBocce
DTSTART;TZID=America/Los_Angeles:20250507T183000
DTEND;TZID=America/Los_Angeles:20250507T210000
STATUS:CONFIRMED
SUMMARY:Bocce Nova vs Bocce-lism's
URL:/League/Schedule/2786
DESCRIPTION:Regular Season match: Bocce Nova vs Bocce-lism's
LOCATION:Rithel Court B
END:VEVENT
BEGIN:VEVENT
DTSTAMP:20250421T000000Z
UID:e6f387bb-0689-41be-af08-f3fdd1af94cc@ClaytonBocce
DTSTART;TZID=America/Los_Angeles:20250515T183000
DTEND;TZID=America/Los_Angeles:20250515T210000
STATUS:CONFIRMED
SUMMARY:Bocce Nova vs Bocce Questo!
URL:/League/Schedule/2786
DESCRIPTION:Regular Season match: Bocce Nova vs Bocce Questo
 !
LOCATION:Rithel Court B
END:VEVENT
BEGIN:VEVENT
DTSTAMP:20250421T000000Z
UID:34c0d4ba-fed1-452d-8272-9079a3f51e58@ClaytonBocce
DTSTART;TZID=America/Los_Angeles:20250522T183000
DTEND;TZID=America/Los_Angeles:20250522T210000
STATUS:CONFIRMED
SUMMARY:Bocce Nova vs High Rollers
URL:/League/Schedule/2786
DESCRIPTION:Regular Season match: Bocce Nova vs High Rollers
LOCATION:Alexander Court 2
END:VEVENT
BEGIN:VEVENT
DTSTAMP:20250421T000000Z
UID:d95b9733-9149-4731-8b97-92d563a4495d@ClaytonBocce
DTSTART;TZID=America/Los_Angeles:20250605T183000
DTEND;TZID=America/Los_Angeles:20250605T210000
STATUS:CONFIRMED
SUMMARY:Bocce Nova vs Ball Busters
URL:/League/Schedule/2786
DESCRIPTION:Regular Season match: Bocce Nova vs Ball Busters
LOCATION:Alexander Court 1
END:VEVENT
BEGIN:VEVENT
DTSTAMP:20250421T000000Z
UID:c2d4e2f8-fdca-4cfd-94ba-5bb1f731b9e9@ClaytonBocce
DTSTART;TZID=America/Los_Angeles:20250612T183000
DTEND;TZID=America/Los_Angeles:20250612T210000
STATUS:CONFIRMED
SUMMARY:Bocce Nova vs Free Bailin'
URL:/League/Schedule/2786
DESCRIPTION:Regular Season match: Bocce Nova vs Free Bailin'
LOCATION:Alexander Court 1
END:VEVENT
BEGIN:VEVENT
DTSTAMP:20250421T000000Z
UID:ff3d7f04-71bc-4a57-9054-2c9b719aac49@ClaytonBocce
DTSTART;TZID=America/Los_Angeles:20250618T183000
DTEND;TZID=America/Los_Angeles:20250618T210000
STATUS:CONFIRMED
SUMMARY:Bocce Nova vs The Pollastrini
URL:/League/Schedule/2786
DESCRIPTION:Regular Season match: Bocce Nova vs The Pollastr
 ini
LOCATION:Alexander Court 2
END:VEVENT
BEGIN:VEVENT
DTSTAMP:20250421T000000Z
UID:3ff2e40d-40cd-43d6-9ef5-6692cf564baf@ClaytonBocce
DTSTART;TZID=America/Los_Angeles:20250625T183000
DTEND;TZID=America/Los_Angeles:20250625T210000
STATUS:CONFIRMED
SUMMARY:Bocce Nova vs Galina
URL:/League/Schedule/2786
DESCRIPTION:Regular Season match: Bocce Nova vs Galina
LOCATION:Alexander Court 1
END:VEVENT
BEGIN:VEVENT
DTSTAMP:20250421T000000Z
UID:d466b72c-ebed-4295-b6cc-38da4243c5cc@ClaytonBocce
DTSTART;TZID=America/Los_Angeles:20250710T183000
DTEND;TZID=America/Los_Angeles:20250710T210000
STATUS:CONFIRMED
SUMMARY:Bocce Nova vs Sumofa Bocce
URL:/League/Schedule/2786
DESCRIPTION:Regular Season match: Bocce Nova vs Sumofa Bocce
LOCATION:Rithel Court B
END:VEVENT
BEGIN:VEVENT
DTSTAMP:20250421T000000Z
UID:4196e313-a2b0-46f7-a6c1-ad2e0e64027c@ClaytonBocce
DTSTART;TZID=America/Los_Angeles:20250716T183000
DTEND;TZID=America/Los_Angeles:20250716T210000
STATUS:CONFIRMED
SUMMARY:Bocce Nova vs Bocce Babes
URL:/League/Schedule/2786
DESCRIPTION:Regular Season match: Bocce Nova vs Bocce Babes
LOCATION:Alexander Court 2
END:VEVENT
BEGIN:VEVENT
DTSTAMP:20250421T000000Z
UID:f4f4be4e-805e-4d55-ac4b-5ecbb84dbcda@ClaytonBocce
DTSTART;TZID=America/Los_Angeles:20250723T183000
DTEND;TZID=America/Los_Angeles:20250723T210000
STATUS:CONFIRMED
SUMMARY:Bocce Nova vs C.I.A.o
URL:/League/Schedule/2786
DESCRIPTION:Regular Season match: Bocce Nova vs C.I.A.o
LOCATION:Rithel Court A
END:VEVENT
BEGIN:VEVENT
DTSTAMP:20250421T000000Z
UID:21054fe3-d07c-4c0c-a27c-4976396e3b3e@ClaytonBocce
DTSTART;TZID=America/Los_Angeles:20250730T183000
DTEND;TZID=America/Los_Angeles:20250730T210000
STATUS:CONFIRMED
SUMMARY:Bocce Nova vs Bocce Betties
URL:/League/Schedule/2786
DESCRIPTION:Regular Season match: Bocce Nova vs Bocce Bettie
 s
LOCATION:Rithel Court B
END:VEVENT
BEGIN:VEVENT
DTSTAMP:20250421T000000Z
UID:888b241e-c977-440a-94ac-86a82b1edaff@ClaytonBocce
DTSTART;TZID=America/Los_Angeles:20250814T183000
DTEND;TZID=America/Los_Angeles:20250814T210000
STATUS:CONFIRMED
SUMMARY:Bocce Nova vs Goof Balls
URL:/League/Schedule/2786
DESCRIPTION:Regular Season match: Bocce Nova vs Goof Balls
LOCATION:Alexander Court 2
END:VEVENT
BEGIN:VEVENT
DTSTAMP:20250421T000000Z
UID:06b8c261-0761-4124-b62a-966f9f15594e@ClaytonBocce
DTSTART;TZID=America/Los_Angeles:20250821T183000
DTEND;TZID=America/Los_Angeles:20250821T210000
STATUS:CONFIRMED
SUMMARY:Bocce Nova vs C.I.A.o
URL:/League/Schedule/2786
DESCRIPTION:Regular Season match: Bocce Nova vs C.I.A.o
LOCATION:Rithel Court A
END:VEVENT
BEGIN:VEVENT
DTSTAMP:20250421T000000Z
UID:19b25627-3723-4637-8c26-1258cad23b4d@ClaytonBocce
DTSTART;TZID=America/Los_Angeles:20250828T183000
DTEND;TZID=America/Los_Angeles:20250828T210000
STATUS:CONFIRMED
SUMMARY:Bocce Nova vs Blue Cura-Cows
URL:/League/Schedule/2786
DESCRIPTION:Regular Season match: Bocce Nova vs Blue Cura-Co
 ws
LOCATION:Alexander Court 1
END:VEVENT
END:VCALENDAR
