BEGIN:VCALENDAR
VERSION:2.0
PRODID:-//Clayton Bocce League
METHOD:PUBLISH
BEGIN:VTIMEZONE
TZID:America/Los_Angeles
X-LIC-LOCATION:America/Los_Angeles
BEGIN:DAYLIGHT
TZOFFSETFROM:-0800
TZOFFSETTO:-0700
TZNAME:PDT
DTSTART:20070311T020000
RRULE:FREQ=YEARLY;BYMONTH=3;BYDAY=2SU
END:DAYLIGHT
BEGIN:STANDARD
TZOFFSETFROM:-0700
TZOFFSETTO:-0800
TZNAME:PST
DTSTART:20071104T020000
RRULE:FREQ=YEARLY;BYMONTH=11;BYDAY=1SU
END:STANDARD
END:VTIMEZONE
BEGIN:VEVENT
DTSTAMP:20250421T000000Z
UID:f98218c1-aa98-411d-adbb-73084a83814a@ClaytonBocce
DTSTART;TZID=America/Los_Angeles:20250424T183000
DTEND;TZID=America/Los_Angeles:20250424T210000
STATUS:CONFIRMED
SUMMARY:The Incrediballs vs Bocce Nova
URL:/League/Schedule/2777
DESCRIPTION:Regular Season match: The Incrediballs vs Bocce 
 Nova
LOCATION:Rithel Court A
END:VEVENT
BEGIN:VEVENT
DTSTAMP:20250421T000000Z
UID:a2564a7b-507e-4061-b0b1-5e8442e8997a@ClaytonBocce
DTSTART;TZID=America/Los_Angeles:20250430T183000
DTEND;TZID=America/Los_Angeles:20250430T210000
STATUS:CONFIRMED
SUMMARY:The Incrediballs vs Ball Busters
URL:/League/Schedule/2777
DESCRIPTION:Regular Season match: The Incrediballs vs Ball B
 usters
LOCATION:Rithel Court B
END:VEVENT
BEGIN:VEVENT
DTSTAMP:20250421T000000Z
UID:619e9d4f-b03d-44e0-b44c-6af7454ba194@ClaytonBocce
DTSTART;TZID=America/Los_Angeles:20250507T183000
DTEND;TZID=America/Los_Angeles:20250507T210000
STATUS:CONFIRMED
SUMMARY:The Incrediballs vs High Rollers
URL:/League/Schedule/2777
DESCRIPTION:Regular Season match: The Incrediballs vs High R
 ollers
LOCATION:Rithel Court A
END:VEVENT
BEGIN:VEVENT
DTSTAMP:20250421T000000Z
UID:6475bca2-2ee2-49cd-85fd-30c3f8f032e0@ClaytonBocce
DTSTART;TZID=America/Los_Angeles:20250515T183000
DTEND;TZID=America/Los_Angeles:20250515T210000
STATUS:CONFIRMED
SUMMARY:The Incrediballs vs Pollpeti Fumare
URL:/League/Schedule/2777
DESCRIPTION:Regular Season match: The Incrediballs vs Pollpe
 ti Fumare
LOCATION:Alexander Court 2
END:VEVENT
BEGIN:VEVENT
DTSTAMP:20250421T000000Z
UID:e312e968-72e6-4126-a0f2-17e94a6fb7db@ClaytonBocce
DTSTART;TZID=America/Los_Angeles:20250522T183000
DTEND;TZID=America/Los_Angeles:20250522T210000
STATUS:CONFIRMED
SUMMARY:The Incrediballs vs Bocce Questo!
URL:/League/Schedule/2777
DESCRIPTION:Regular Season match: The Incrediballs vs Bocce 
 Questo!
LOCATION:Rithel Court B
END:VEVENT
BEGIN:VEVENT
DTSTAMP:20250421T000000Z
UID:69afb751-b934-4de8-b47a-fe47376c33c9@ClaytonBocce
DTSTART;TZID=America/Los_Angeles:20250604T183000
DTEND;TZID=America/Los_Angeles:20250604T210000
STATUS:CONFIRMED
SUMMARY:The Incrediballs vs Blue Cura-Cows
URL:/League/Schedule/2777
DESCRIPTION:Regular Season match: The Incrediballs vs Blue C
 ura-Cows
LOCATION:Rithel Court B
END:VEVENT
BEGIN:VEVENT
DTSTAMP:20250421T000000Z
UID:2cdeb888-f48f-4e14-9a24-4928a0afd48e@ClaytonBocce
DTSTART;TZID=America/Los_Angeles:20250619T183000
DTEND;TZID=America/Los_Angeles:20250619T210000
STATUS:CONFIRMED
SUMMARY:The Incrediballs vs Galina
URL:/League/Schedule/2777
DESCRIPTION:Regular Season match: The Incrediballs vs Galina
LOCATION:Rithel Court A
END:VEVENT
BEGIN:VEVENT
DTSTAMP:20250421T000000Z
UID:cad7fa8d-00a1-443e-bff4-7eb484426971@ClaytonBocce
DTSTART;TZID=America/Los_Angeles:20250626T183000
DTEND;TZID=America/Los_Angeles:20250626T210000
STATUS:CONFIRMED
SUMMARY:The Incrediballs vs Goof Balls
URL:/League/Schedule/2777
DESCRIPTION:Regular Season match: The Incrediballs vs Goof B
 alls
LOCATION:Alexander Court 2
END:VEVENT
BEGIN:VEVENT
DTSTAMP:20250421T000000Z
UID:0abb9490-2260-41e8-8f49-1878842ff728@ClaytonBocce
DTSTART;TZID=America/Los_Angeles:20250710T183000
DTEND;TZID=America/Los_Angeles:20250710T210000
STATUS:CONFIRMED
SUMMARY:The Incrediballs vs Bocce Babes
URL:/League/Schedule/2777
DESCRIPTION:Regular Season match: The Incrediballs vs Bocce 
 Babes
LOCATION:Alexander Court 1
END:VEVENT
BEGIN:VEVENT
DTSTAMP:20250421T000000Z
UID:56fc899d-b9d0-4aed-a780-bb13812e2bc7@ClaytonBocce
DTSTART;TZID=America/Los_Angeles:20250717T183000
DTEND;TZID=America/Los_Angeles:20250717T210000
STATUS:CONFIRMED
SUMMARY:The Incrediballs vs Bocce-lism's
URL:/League/Schedule/2777
DESCRIPTION:Regular Season match: The Incrediballs vs Bocce-
 lism's
LOCATION:Alexander Court 1
END:VEVENT
BEGIN:VEVENT
DTSTAMP:20250421T000000Z
UID:eb1938b4-aff5-4ce9-9f61-0a09c2b7f570@ClaytonBocce
DTSTART;TZID=America/Los_Angeles:20250723T183000
DTEND;TZID=America/Los_Angeles:20250723T210000
STATUS:CONFIRMED
SUMMARY:The Incrediballs vs Free Bailin'
URL:/League/Schedule/2777
DESCRIPTION:Regular Season match: The Incrediballs vs Free B
 ailin'
LOCATION:Alexander Court 2
END:VEVENT
BEGIN:VEVENT
DTSTAMP:20250421T000000Z
UID:af8df667-1761-452a-9617-e2ffcdf2d3e3@ClaytonBocce
DTSTART;TZID=America/Los_Angeles:20250730T183000
DTEND;TZID=America/Los_Angeles:20250730T210000
STATUS:CONFIRMED
SUMMARY:The Incrediballs vs C.I.A.o
URL:/League/Schedule/2777
DESCRIPTION:Regular Season match: The Incrediballs vs C.I.A.
 o
LOCATION:Alexander Court 1
END:VEVENT
BEGIN:VEVENT
DTSTAMP:20250421T000000Z
UID:279b2f40-91f0-41ae-bc44-32fc5d492163@ClaytonBocce
DTSTART;TZID=America/Los_Angeles:20250807T183000
DTEND;TZID=America/Los_Angeles:20250807T210000
STATUS:CONFIRMED
SUMMARY:The Incrediballs vs Bocce Betties
URL:/League/Schedule/2777
DESCRIPTION:Regular Season match: The Incrediballs vs Bocce 
 Betties
LOCATION:Rithel Court B
END:VEVENT
BEGIN:VEVENT
DTSTAMP:20250421T000000Z
UID:b1cd7dfd-10f1-4ff6-b8b5-40dffdd8f306@ClaytonBocce
DTSTART;TZID=America/Los_Angeles:20250813T183000
DTEND;TZID=America/Los_Angeles:20250813T210000
STATUS:CONFIRMED
SUMMARY:The Incrediballs vs Sumofa Bocce
URL:/League/Schedule/2777
DESCRIPTION:Regular Season match: The Incrediballs vs Sumofa
  Bocce
LOCATION:Alexander Court 2
END:VEVENT
BEGIN:VEVENT
DTSTAMP:20250421T000000Z
UID:2560eb61-1e9c-477a-8819-870663cee86b@ClaytonBocce
DTSTART;TZID=America/Los_Angeles:20250820T183000
DTEND;TZID=America/Los_Angeles:20250820T210000
STATUS:CONFIRMED
SUMMARY:The Incrediballs vs The Pollastrini
URL:/League/Schedule/2777
DESCRIPTION:Regular Season match: The Incrediballs vs The Po
 llastrini
LOCATION:Rithel Court A
END:VEVENT
END:VCALENDAR
