BEGIN:VCALENDAR
VERSION:2.0
PRODID:-//Clayton Bocce League
METHOD:PUBLISH
BEGIN:VTIMEZONE
TZID:America/Los_Angeles
X-LIC-LOCATION:America/Los_Angeles
BEGIN:DAYLIGHT
TZOFFSETFROM:-0800
TZOFFSETTO:-0700
TZNAME:PDT
DTSTART:20070311T020000
RRULE:FREQ=YEARLY;BYMONTH=3;BYDAY=2SU
END:DAYLIGHT
BEGIN:STANDARD
TZOFFSETFROM:-0700
TZOFFSETTO:-0800
TZNAME:PST
DTSTART:20071104T020000
RRULE:FREQ=YEARLY;BYMONTH=11;BYDAY=1SU
END:STANDARD
END:VTIMEZONE
BEGIN:VEVENT
DTSTAMP:20250421T000000Z
UID:c5cc27de-f033-42f8-988f-5ffbc02724f6@ClaytonBocce
DTSTART;TZID=America/Los_Angeles:20250423T183000
DTEND;TZID=America/Los_Angeles:20250423T210000
STATUS:CONFIRMED
SUMMARY:High Rollers vs Galina
URL:/League/Schedule/2773
DESCRIPTION:Regular Season match: High Rollers vs Galina
LOCATION:Rithel Court A
END:VEVENT
BEGIN:VEVENT
DTSTAMP:20250421T000000Z
UID:bebf0a38-9a61-4cd7-a895-103bddbb37a6@ClaytonBocce
DTSTART;TZID=America/Los_Angeles:20250430T183000
DTEND;TZID=America/Los_Angeles:20250430T210000
STATUS:CONFIRMED
SUMMARY:High Rollers vs Blue Cura-Cows
URL:/League/Schedule/2773
DESCRIPTION:Regular Season match: High Rollers vs Blue Cura-
 Cows
LOCATION:Alexander Court 2
END:VEVENT
BEGIN:VEVENT
DTSTAMP:20250421T000000Z
UID:619e9d4f-b03d-44e0-b44c-6af7454ba194@ClaytonBocce
DTSTART;TZID=America/Los_Angeles:20250507T183000
DTEND;TZID=America/Los_Angeles:20250507T210000
STATUS:CONFIRMED
SUMMARY:High Rollers vs The Incrediballs
URL:/League/Schedule/2773
DESCRIPTION:Regular Season match: High Rollers vs The Incred
 iballs
LOCATION:Rithel Court A
END:VEVENT
BEGIN:VEVENT
DTSTAMP:20250421T000000Z
UID:800fe412-b139-4a05-bf89-50cae77e9114@ClaytonBocce
DTSTART;TZID=America/Los_Angeles:20250514T183000
DTEND;TZID=America/Los_Angeles:20250514T210000
STATUS:CONFIRMED
SUMMARY:High Rollers vs Free Bailin'
URL:/League/Schedule/2773
DESCRIPTION:Regular Season match: High Rollers vs Free Baili
 n'
LOCATION:Rithel Court B
END:VEVENT
BEGIN:VEVENT
DTSTAMP:20250421T000000Z
UID:34c0d4ba-fed1-452d-8272-9079a3f51e58@ClaytonBocce
DTSTART;TZID=America/Los_Angeles:20250522T183000
DTEND;TZID=America/Los_Angeles:20250522T210000
STATUS:CONFIRMED
SUMMARY:High Rollers vs Bocce Nova
URL:/League/Schedule/2773
DESCRIPTION:Regular Season match: High Rollers vs Bocce Nova
LOCATION:Alexander Court 2
END:VEVENT
BEGIN:VEVENT
DTSTAMP:20250421T000000Z
UID:6dfa266f-21dc-4ec5-9404-0286b5911745@ClaytonBocce
DTSTART;TZID=America/Los_Angeles:20250605T183000
DTEND;TZID=America/Los_Angeles:20250605T210000
STATUS:CONFIRMED
SUMMARY:High Rollers vs Bocce Questo!
URL:/League/Schedule/2773
DESCRIPTION:Regular Season match: High Rollers vs Bocce Ques
 to!
LOCATION:Rithel Court A
END:VEVENT
BEGIN:VEVENT
DTSTAMP:20250421T000000Z
UID:c5df1a09-8257-4a17-bf1b-4d2280299095@ClaytonBocce
DTSTART;TZID=America/Los_Angeles:20250612T183000
DTEND;TZID=America/Los_Angeles:20250612T210000
STATUS:CONFIRMED
SUMMARY:High Rollers vs The Pollastrini
URL:/League/Schedule/2773
DESCRIPTION:Regular Season match: High Rollers vs The Pollas
 trini
LOCATION:Rithel Court B
END:VEVENT
BEGIN:VEVENT
DTSTAMP:20250421T000000Z
UID:749b5e84-9a0e-49f2-938f-06e6b11ee1cc@ClaytonBocce
DTSTART;TZID=America/Los_Angeles:20250618T183000
DTEND;TZID=America/Los_Angeles:20250618T210000
STATUS:CONFIRMED
SUMMARY:High Rollers vs Bocce Betties
URL:/League/Schedule/2773
DESCRIPTION:Regular Season match: High Rollers vs Bocce Bett
 ies
LOCATION:Rithel Court B
END:VEVENT
BEGIN:VEVENT
DTSTAMP:20250421T000000Z
UID:c9423af1-9fa7-47cc-a8a6-43a73c55964d@ClaytonBocce
DTSTART;TZID=America/Los_Angeles:20250626T183000
DTEND;TZID=America/Los_Angeles:20250626T210000
STATUS:CONFIRMED
SUMMARY:High Rollers vs Ball Busters
URL:/League/Schedule/2773
DESCRIPTION:Regular Season match: High Rollers vs Ball Buste
 rs
LOCATION:Rithel Court B
END:VEVENT
BEGIN:VEVENT
DTSTAMP:20250421T000000Z
UID:133ae87a-6a06-4bef-9c95-bcd9e487ff31@ClaytonBocce
DTSTART;TZID=America/Los_Angeles:20250710T183000
DTEND;TZID=America/Los_Angeles:20250710T210000
STATUS:CONFIRMED
SUMMARY:High Rollers vs Goof Balls
URL:/League/Schedule/2773
DESCRIPTION:Regular Season match: High Rollers vs Goof Balls
LOCATION:Rithel Court A
END:VEVENT
BEGIN:VEVENT
DTSTAMP:20250421T000000Z
UID:b4e42e3d-af05-4186-b3bc-35acc90de53c@ClaytonBocce
DTSTART;TZID=America/Los_Angeles:20250717T183000
DTEND;TZID=America/Los_Angeles:20250717T210000
STATUS:CONFIRMED
SUMMARY:High Rollers vs C.I.A.o
URL:/League/Schedule/2773
DESCRIPTION:Regular Season match: High Rollers vs C.I.A.o
LOCATION:Alexander Court 2
END:VEVENT
BEGIN:VEVENT
DTSTAMP:20250421T000000Z
UID:2a81c6c1-eb43-47c9-9d89-0e471be5137c@ClaytonBocce
DTSTART;TZID=America/Los_Angeles:20250724T183000
DTEND;TZID=America/Los_Angeles:20250724T210000
STATUS:CONFIRMED
SUMMARY:High Rollers vs Bocce-lism's
URL:/League/Schedule/2773
DESCRIPTION:Regular Season match: High Rollers vs Bocce-lism
 's
LOCATION:Alexander Court 1
END:VEVENT
BEGIN:VEVENT
DTSTAMP:20250421T000000Z
UID:433b6a42-482b-42b1-87ce-2b81c5bf936d@ClaytonBocce
DTSTART;TZID=America/Los_Angeles:20250731T183000
DTEND;TZID=America/Los_Angeles:20250731T210000
STATUS:CONFIRMED
SUMMARY:High Rollers vs Sumofa Bocce
URL:/League/Schedule/2773
DESCRIPTION:Regular Season match: High Rollers vs Sumofa Boc
 ce
LOCATION:Alexander Court 1
END:VEVENT
BEGIN:VEVENT
DTSTAMP:20250421T000000Z
UID:7bc5ad0c-515e-42fe-a2e5-281f2b10fe58@ClaytonBocce
DTSTART;TZID=America/Los_Angeles:20250806T183000
DTEND;TZID=America/Los_Angeles:20250806T210000
STATUS:CONFIRMED
SUMMARY:High Rollers vs Bocce Babes
URL:/League/Schedule/2773
DESCRIPTION:Regular Season match: High Rollers vs Bocce Babe
 s
LOCATION:Alexander Court 2
END:VEVENT
BEGIN:VEVENT
DTSTAMP:20250421T000000Z
UID:ccabd5cd-8455-4ff3-8c77-aa1e5c33d1e6@ClaytonBocce
DTSTART;TZID=America/Los_Angeles:20250813T183000
DTEND;TZID=America/Los_Angeles:20250813T210000
STATUS:CONFIRMED
SUMMARY:High Rollers vs Pollpeti Fumare
URL:/League/Schedule/2773
DESCRIPTION:Regular Season match: High Rollers vs Pollpeti F
 umare
LOCATION:Alexander Court 1
END:VEVENT
END:VCALENDAR
