BEGIN:VCALENDAR
VERSION:2.0
PRODID:-//Clayton Bocce League
METHOD:PUBLISH
BEGIN:VTIMEZONE
TZID:America/Los_Angeles
X-LIC-LOCATION:America/Los_Angeles
BEGIN:DAYLIGHT
TZOFFSETFROM:-0800
TZOFFSETTO:-0700
TZNAME:PDT
DTSTART:20070311T020000
RRULE:FREQ=YEARLY;BYMONTH=3;BYDAY=2SU
END:DAYLIGHT
BEGIN:STANDARD
TZOFFSETFROM:-0700
TZOFFSETTO:-0800
TZNAME:PST
DTSTART:20071104T020000
RRULE:FREQ=YEARLY;BYMONTH=11;BYDAY=1SU
END:STANDARD
END:VTIMEZONE
BEGIN:VEVENT
DTSTAMP:20250421T000000Z
UID:c5cc27de-f033-42f8-988f-5ffbc02724f6@ClaytonBocce
DTSTART;TZID=America/Los_Angeles:20250423T183000
DTEND;TZID=America/Los_Angeles:20250423T210000
STATUS:CONFIRMED
SUMMARY:Galina vs High Rollers
URL:/League/Schedule/2772
DESCRIPTION:Regular Season match: Galina vs High Rollers
LOCATION:Rithel Court A
END:VEVENT
BEGIN:VEVENT
DTSTAMP:20250421T000000Z
UID:5a451dad-8710-4470-84a5-a36e1efd2841@ClaytonBocce
DTSTART;TZID=America/Los_Angeles:20250430T183000
DTEND;TZID=America/Los_Angeles:20250430T210000
STATUS:CONFIRMED
SUMMARY:Galina vs Sumofa Bocce
URL:/League/Schedule/2772
DESCRIPTION:Regular Season match: Galina vs Sumofa Bocce
LOCATION:Alexander Court 1
END:VEVENT
BEGIN:VEVENT
DTSTAMP:20250421T000000Z
UID:376f261c-aa9f-42fc-bc29-b2258be94ae6@ClaytonBocce
DTSTART;TZID=America/Los_Angeles:20250507T183000
DTEND;TZID=America/Los_Angeles:20250507T210000
STATUS:CONFIRMED
SUMMARY:Galina vs Blue Cura-Cows
URL:/League/Schedule/2772
DESCRIPTION:Regular Season match: Galina vs Blue Cura-Cows
LOCATION:Alexander Court 1
END:VEVENT
BEGIN:VEVENT
DTSTAMP:20250421T000000Z
UID:6c65766f-22cf-4ddf-ba6b-245bb96c8e79@ClaytonBocce
DTSTART;TZID=America/Los_Angeles:20250514T183000
DTEND;TZID=America/Los_Angeles:20250514T210000
STATUS:CONFIRMED
SUMMARY:Galina vs Bocce Betties
URL:/League/Schedule/2772
DESCRIPTION:Regular Season match: Galina vs Bocce Betties
LOCATION:Alexander Court 2
END:VEVENT
BEGIN:VEVENT
DTSTAMP:20250421T000000Z
UID:1f5476c4-091f-4eba-b412-25109eb6ee9a@ClaytonBocce
DTSTART;TZID=America/Los_Angeles:20250521T183000
DTEND;TZID=America/Los_Angeles:20250521T210000
STATUS:CONFIRMED
SUMMARY:Galina vs Bocce Babes
URL:/League/Schedule/2772
DESCRIPTION:Regular Season match: Galina vs Bocce Babes
LOCATION:Rithel Court B
END:VEVENT
BEGIN:VEVENT
DTSTAMP:20250421T000000Z
UID:7cea2283-0e99-4107-9a72-b44916008002@ClaytonBocce
DTSTART;TZID=America/Los_Angeles:20250604T183000
DTEND;TZID=America/Los_Angeles:20250604T210000
STATUS:CONFIRMED
SUMMARY:Galina vs Goof Balls
URL:/League/Schedule/2772
DESCRIPTION:Regular Season match: Galina vs Goof Balls
LOCATION:Rithel Court A
END:VEVENT
BEGIN:VEVENT
DTSTAMP:20250421T000000Z
UID:36ebde85-f5b3-4045-a903-d12aee6b5dd8@ClaytonBocce
DTSTART;TZID=America/Los_Angeles:20250612T183000
DTEND;TZID=America/Los_Angeles:20250612T210000
STATUS:CONFIRMED
SUMMARY:Galina vs Bocce Questo!
URL:/League/Schedule/2772
DESCRIPTION:Regular Season match: Galina vs Bocce Questo!
LOCATION:Alexander Court 2
END:VEVENT
BEGIN:VEVENT
DTSTAMP:20250421T000000Z
UID:2cdeb888-f48f-4e14-9a24-4928a0afd48e@ClaytonBocce
DTSTART;TZID=America/Los_Angeles:20250619T183000
DTEND;TZID=America/Los_Angeles:20250619T210000
STATUS:CONFIRMED
SUMMARY:Galina vs The Incrediballs
URL:/League/Schedule/2772
DESCRIPTION:Regular Season match: Galina vs The Incrediballs
LOCATION:Rithel Court A
END:VEVENT
BEGIN:VEVENT
DTSTAMP:20250421T000000Z
UID:3ff2e40d-40cd-43d6-9ef5-6692cf564baf@ClaytonBocce
DTSTART;TZID=America/Los_Angeles:20250625T183000
DTEND;TZID=America/Los_Angeles:20250625T210000
STATUS:CONFIRMED
SUMMARY:Galina vs Bocce Nova
URL:/League/Schedule/2772
DESCRIPTION:Regular Season match: Galina vs Bocce Nova
LOCATION:Alexander Court 1
END:VEVENT
BEGIN:VEVENT
DTSTAMP:20250421T000000Z
UID:bf02f84c-d20a-44c0-b9c4-cc9f2a3cc12c@ClaytonBocce
DTSTART;TZID=America/Los_Angeles:20250709T183000
DTEND;TZID=America/Los_Angeles:20250709T210000
STATUS:CONFIRMED
SUMMARY:Galina vs The Pollastrini
URL:/League/Schedule/2772
DESCRIPTION:Regular Season match: Galina vs The Pollastrini
LOCATION:Rithel Court B
END:VEVENT
BEGIN:VEVENT
DTSTAMP:20250421T000000Z
UID:31fa86af-acfa-4875-8477-d4ed6da022d3@ClaytonBocce
DTSTART;TZID=America/Los_Angeles:20250716T183000
DTEND;TZID=America/Los_Angeles:20250716T210000
STATUS:CONFIRMED
SUMMARY:Galina vs Free Bailin'
URL:/League/Schedule/2772
DESCRIPTION:Regular Season match: Galina vs Free Bailin'
LOCATION:Alexander Court 1
END:VEVENT
BEGIN:VEVENT
DTSTAMP:20250421T000000Z
UID:0b719885-c495-4c13-ae67-692b7d7a6c74@ClaytonBocce
DTSTART;TZID=America/Los_Angeles:20250724T183000
DTEND;TZID=America/Los_Angeles:20250724T210000
STATUS:CONFIRMED
SUMMARY:Galina vs C.I.A.o
URL:/League/Schedule/2772
DESCRIPTION:Regular Season match: Galina vs C.I.A.o
LOCATION:Rithel Court A
END:VEVENT
BEGIN:VEVENT
DTSTAMP:20250421T000000Z
UID:907b11c8-e425-4e2c-afd7-e796698fec06@ClaytonBocce
DTSTART;TZID=America/Los_Angeles:20250731T183000
DTEND;TZID=America/Los_Angeles:20250731T210000
STATUS:CONFIRMED
SUMMARY:Galina vs Pollpeti Fumare
URL:/League/Schedule/2772
DESCRIPTION:Regular Season match: Galina vs Pollpeti Fumare
LOCATION:Alexander Court 2
END:VEVENT
BEGIN:VEVENT
DTSTAMP:20250421T000000Z
UID:1eb27552-b476-446c-9f25-2db0b5c39b32@ClaytonBocce
DTSTART;TZID=America/Los_Angeles:20250820T183000
DTEND;TZID=America/Los_Angeles:20250820T210000
STATUS:CONFIRMED
SUMMARY:Galina vs Bocce-lism's
URL:/League/Schedule/2772
DESCRIPTION:Regular Season match: Galina vs Bocce-lism's
LOCATION:Alexander Court 2
END:VEVENT
BEGIN:VEVENT
DTSTAMP:20250421T000000Z
UID:450a45f0-27d8-4f84-8d7b-093ab86622d3@ClaytonBocce
DTSTART;TZID=America/Los_Angeles:20250828T183000
DTEND;TZID=America/Los_Angeles:20250828T210000
STATUS:CONFIRMED
SUMMARY:Galina vs Ball Busters
URL:/League/Schedule/2772
DESCRIPTION:Regular Season match: Galina vs Ball Busters
LOCATION:Alexander Court 2
END:VEVENT
END:VCALENDAR
