BEGIN:VCALENDAR
VERSION:2.0
PRODID:-//Clayton Bocce League
METHOD:PUBLISH
BEGIN:VTIMEZONE
TZID:America/Los_Angeles
X-LIC-LOCATION:America/Los_Angeles
BEGIN:DAYLIGHT
TZOFFSETFROM:-0800
TZOFFSETTO:-0700
TZNAME:PDT
DTSTART:20070311T020000
RRULE:FREQ=YEARLY;BYMONTH=3;BYDAY=2SU
END:DAYLIGHT
BEGIN:STANDARD
TZOFFSETFROM:-0700
TZOFFSETTO:-0800
TZNAME:PST
DTSTART:20071104T020000
RRULE:FREQ=YEARLY;BYMONTH=11;BYDAY=1SU
END:STANDARD
END:VTIMEZONE
BEGIN:VEVENT
DTSTAMP:20250421T000000Z
UID:5a451dad-8710-4470-84a5-a36e1efd2841@ClaytonBocce
DTSTART;TZID=America/Los_Angeles:20250430T183000
DTEND;TZID=America/Los_Angeles:20250430T210000
STATUS:CONFIRMED
SUMMARY:Sumofa Bocce vs Galina
URL:/League/Schedule/2771
DESCRIPTION:Regular Season match: Sumofa Bocce vs Galina
LOCATION:Alexander Court 1
END:VEVENT
BEGIN:VEVENT
DTSTAMP:20250421T000000Z
UID:9b9dad95-ade1-44f5-b6ca-293f6533ccc1@ClaytonBocce
DTSTART;TZID=America/Los_Angeles:20250507T183000
DTEND;TZID=America/Los_Angeles:20250507T210000
STATUS:CONFIRMED
SUMMARY:Sumofa Bocce vs Goof Balls
URL:/League/Schedule/2771
DESCRIPTION:Regular Season match: Sumofa Bocce vs Goof Balls
LOCATION:Alexander Court 2
END:VEVENT
BEGIN:VEVENT
DTSTAMP:20250421T000000Z
UID:a73aa1fb-3f12-4802-bb58-74b59596d909@ClaytonBocce
DTSTART;TZID=America/Los_Angeles:20250514T183000
DTEND;TZID=America/Los_Angeles:20250514T210000
STATUS:CONFIRMED
SUMMARY:Sumofa Bocce vs Bocce-lism's
URL:/League/Schedule/2771
DESCRIPTION:Regular Season match: Sumofa Bocce vs Bocce-lism
 's
LOCATION:Rithel Court A
END:VEVENT
BEGIN:VEVENT
DTSTAMP:20250421T000000Z
UID:da5df6b6-707c-43e9-8110-333b13d3a884@ClaytonBocce
DTSTART;TZID=America/Los_Angeles:20250521T183000
DTEND;TZID=America/Los_Angeles:20250521T210000
STATUS:CONFIRMED
SUMMARY:Sumofa Bocce vs Blue Cura-Cows
URL:/League/Schedule/2771
DESCRIPTION:Regular Season match: Sumofa Bocce vs Blue Cura-
 Cows
LOCATION:Rithel Court A
END:VEVENT
BEGIN:VEVENT
DTSTAMP:20250421T000000Z
UID:36a20afa-62a2-4054-8ba4-e7ac7382f36d@ClaytonBocce
DTSTART;TZID=America/Los_Angeles:20250605T183000
DTEND;TZID=America/Los_Angeles:20250605T210000
STATUS:CONFIRMED
SUMMARY:Sumofa Bocce vs Free Bailin'
URL:/League/Schedule/2771
DESCRIPTION:Regular Season match: Sumofa Bocce vs Free Baili
 n'
LOCATION:Alexander Court 2
END:VEVENT
BEGIN:VEVENT
DTSTAMP:20250421T000000Z
UID:ab2793be-b801-40f2-88a3-1a49baf5b343@ClaytonBocce
DTSTART;TZID=America/Los_Angeles:20250612T183000
DTEND;TZID=America/Los_Angeles:20250612T210000
STATUS:CONFIRMED
SUMMARY:Sumofa Bocce vs Bocce Babes
URL:/League/Schedule/2771
DESCRIPTION:Regular Season match: Sumofa Bocce vs Bocce Babe
 s
LOCATION:Rithel Court A
END:VEVENT
BEGIN:VEVENT
DTSTAMP:20250421T000000Z
UID:866e9823-7827-40c9-badd-f850b747e168@ClaytonBocce
DTSTART;TZID=America/Los_Angeles:20250619T183000
DTEND;TZID=America/Los_Angeles:20250619T210000
STATUS:CONFIRMED
SUMMARY:Sumofa Bocce vs Ball Busters
URL:/League/Schedule/2771
DESCRIPTION:Regular Season match: Sumofa Bocce vs Ball Buste
 rs
LOCATION:Rithel Court B
END:VEVENT
BEGIN:VEVENT
DTSTAMP:20250421T000000Z
UID:112ca1bb-b317-40bc-9580-1a0ee65aa678@ClaytonBocce
DTSTART;TZID=America/Los_Angeles:20250625T183000
DTEND;TZID=America/Los_Angeles:20250625T210000
STATUS:CONFIRMED
SUMMARY:Sumofa Bocce vs C.I.A.o
URL:/League/Schedule/2771
DESCRIPTION:Regular Season match: Sumofa Bocce vs C.I.A.o
LOCATION:Rithel Court B
END:VEVENT
BEGIN:VEVENT
DTSTAMP:20250421T000000Z
UID:d466b72c-ebed-4295-b6cc-38da4243c5cc@ClaytonBocce
DTSTART;TZID=America/Los_Angeles:20250710T183000
DTEND;TZID=America/Los_Angeles:20250710T210000
STATUS:CONFIRMED
SUMMARY:Sumofa Bocce vs Bocce Nova
URL:/League/Schedule/2771
DESCRIPTION:Regular Season match: Sumofa Bocce vs Bocce Nova
LOCATION:Rithel Court B
END:VEVENT
BEGIN:VEVENT
DTSTAMP:20250421T000000Z
UID:0f50fd5d-d251-486c-a3fd-058da387ef84@ClaytonBocce
DTSTART;TZID=America/Los_Angeles:20250716T183000
DTEND;TZID=America/Los_Angeles:20250716T210000
STATUS:CONFIRMED
SUMMARY:Sumofa Bocce vs Bocce Betties
URL:/League/Schedule/2771
DESCRIPTION:Regular Season match: Sumofa Bocce vs Bocce Bett
 ies
LOCATION:Rithel Court A
END:VEVENT
BEGIN:VEVENT
DTSTAMP:20250421T000000Z
UID:8a13816c-ed81-48d3-87c8-ba7fcaa2df07@ClaytonBocce
DTSTART;TZID=America/Los_Angeles:20250724T183000
DTEND;TZID=America/Los_Angeles:20250724T210000
STATUS:CONFIRMED
SUMMARY:Sumofa Bocce vs The Pollastrini
URL:/League/Schedule/2771
DESCRIPTION:Regular Season match: Sumofa Bocce vs The Pollas
 trini
LOCATION:Alexander Court 2
END:VEVENT
BEGIN:VEVENT
DTSTAMP:20250421T000000Z
UID:433b6a42-482b-42b1-87ce-2b81c5bf936d@ClaytonBocce
DTSTART;TZID=America/Los_Angeles:20250731T183000
DTEND;TZID=America/Los_Angeles:20250731T210000
STATUS:CONFIRMED
SUMMARY:Sumofa Bocce vs High Rollers
URL:/League/Schedule/2771
DESCRIPTION:Regular Season match: Sumofa Bocce vs High Rolle
 rs
LOCATION:Alexander Court 1
END:VEVENT
BEGIN:VEVENT
DTSTAMP:20250421T000000Z
UID:d68408bf-45f7-4131-b2fa-fbdff7969ec4@ClaytonBocce
DTSTART;TZID=America/Los_Angeles:20250806T183000
DTEND;TZID=America/Los_Angeles:20250806T210000
STATUS:CONFIRMED
SUMMARY:Sumofa Bocce vs Bocce Questo!
URL:/League/Schedule/2771
DESCRIPTION:Regular Season match: Sumofa Bocce vs Bocce Ques
 to!
LOCATION:Rithel Court A
END:VEVENT
BEGIN:VEVENT
DTSTAMP:20250421T000000Z
UID:b1cd7dfd-10f1-4ff6-b8b5-40dffdd8f306@ClaytonBocce
DTSTART;TZID=America/Los_Angeles:20250813T183000
DTEND;TZID=America/Los_Angeles:20250813T210000
STATUS:CONFIRMED
SUMMARY:Sumofa Bocce vs The Incrediballs
URL:/League/Schedule/2771
DESCRIPTION:Regular Season match: Sumofa Bocce vs The Incred
 iballs
LOCATION:Alexander Court 2
END:VEVENT
BEGIN:VEVENT
DTSTAMP:20250421T000000Z
UID:2fc0a87f-2046-4b08-a6f4-29b54c2ae814@ClaytonBocce
DTSTART;TZID=America/Los_Angeles:20250828T183000
DTEND;TZID=America/Los_Angeles:20250828T210000
STATUS:CONFIRMED
SUMMARY:Sumofa Bocce vs Pollpeti Fumare
URL:/League/Schedule/2771
DESCRIPTION:Regular Season match: Sumofa Bocce vs Pollpeti F
 umare
LOCATION:Rithel Court A
END:VEVENT
END:VCALENDAR
