BEGIN:VCALENDAR
VERSION:2.0
PRODID:-//Clayton Bocce League
METHOD:PUBLISH
BEGIN:VTIMEZONE
TZID:America/Los_Angeles
X-LIC-LOCATION:America/Los_Angeles
BEGIN:DAYLIGHT
TZOFFSETFROM:-0800
TZOFFSETTO:-0700
TZNAME:PDT
DTSTART:20070311T020000
RRULE:FREQ=YEARLY;BYMONTH=3;BYDAY=2SU
END:DAYLIGHT
BEGIN:STANDARD
TZOFFSETFROM:-0700
TZOFFSETTO:-0800
TZNAME:PST
DTSTART:20071104T020000
RRULE:FREQ=YEARLY;BYMONTH=11;BYDAY=1SU
END:STANDARD
END:VTIMEZONE
BEGIN:VEVENT
DTSTAMP:20250421T000000Z
UID:ed86b06d-c6ac-4875-8c7c-e3a5ed7d6d9b@ClaytonBocce
DTSTART;TZID=America/Los_Angeles:20250424T183000
DTEND;TZID=America/Los_Angeles:20250424T210000
STATUS:CONFIRMED
SUMMARY:Pollpeti Fumare vs The Pollastrini
URL:/League/Schedule/2785
DESCRIPTION:Regular Season match: Pollpeti Fumare vs The Pol
 lastrini
LOCATION:Alexander Court 1
END:VEVENT
BEGIN:VEVENT
DTSTAMP:20250421T000000Z
UID:dcaa1ead-e948-4ae6-ae5f-68129a5c8f98@ClaytonBocce
DTSTART;TZID=America/Los_Angeles:20250501T183000
DTEND;TZID=America/Los_Angeles:20250501T210000
STATUS:CONFIRMED
SUMMARY:Pollpeti Fumare vs Bocce Nova
URL:/League/Schedule/2785
DESCRIPTION:Regular Season match: Pollpeti Fumare vs Bocce N
 ova
LOCATION:Rithel Court B
END:VEVENT
BEGIN:VEVENT
DTSTAMP:20250421T000000Z
UID:47493cb1-d761-4aff-b800-62600c5286f9@ClaytonBocce
DTSTART;TZID=America/Los_Angeles:20250508T183000
DTEND;TZID=America/Los_Angeles:20250508T210000
STATUS:CONFIRMED
SUMMARY:Pollpeti Fumare vs Bocce Questo!
URL:/League/Schedule/2785
DESCRIPTION:Regular Season match: Pollpeti Fumare vs Bocce Q
 uesto!
LOCATION:Rithel Court A
END:VEVENT
BEGIN:VEVENT
DTSTAMP:20250421T000000Z
UID:6475bca2-2ee2-49cd-85fd-30c3f8f032e0@ClaytonBocce
DTSTART;TZID=America/Los_Angeles:20250515T183000
DTEND;TZID=America/Los_Angeles:20250515T210000
STATUS:CONFIRMED
SUMMARY:Pollpeti Fumare vs The Incrediballs
URL:/League/Schedule/2785
DESCRIPTION:Regular Season match: Pollpeti Fumare vs The Inc
 rediballs
LOCATION:Alexander Court 2
END:VEVENT
BEGIN:VEVENT
DTSTAMP:20250421T000000Z
UID:a7039e86-608a-4e17-a929-ea1a08b37207@ClaytonBocce
DTSTART;TZID=America/Los_Angeles:20250522T183000
DTEND;TZID=America/Los_Angeles:20250522T210000
STATUS:CONFIRMED
SUMMARY:Pollpeti Fumare vs Ball Busters
URL:/League/Schedule/2785
DESCRIPTION:Regular Season match: Pollpeti Fumare vs Ball Bu
 sters
LOCATION:Alexander Court 1
END:VEVENT
BEGIN:VEVENT
DTSTAMP:20250421T000000Z
UID:1db95fef-b9db-401b-953e-6416a5b08d47@ClaytonBocce
DTSTART;TZID=America/Los_Angeles:20250604T183000
DTEND;TZID=America/Los_Angeles:20250604T210000
STATUS:CONFIRMED
SUMMARY:Pollpeti Fumare vs Bocce Betties
URL:/League/Schedule/2785
DESCRIPTION:Regular Season match: Pollpeti Fumare vs Bocce B
 etties
LOCATION:Alexander Court 2
END:VEVENT
BEGIN:VEVENT
DTSTAMP:20250421T000000Z
UID:a800792d-465d-45fd-b24e-65bc760e7dda@ClaytonBocce
DTSTART;TZID=America/Los_Angeles:20250618T183000
DTEND;TZID=America/Los_Angeles:20250618T210000
STATUS:CONFIRMED
SUMMARY:Pollpeti Fumare vs Bocce-lism's
URL:/League/Schedule/2785
DESCRIPTION:Regular Season match: Pollpeti Fumare vs Bocce-l
 ism's
LOCATION:Alexander Court 1
END:VEVENT
BEGIN:VEVENT
DTSTAMP:20250421T000000Z
UID:299c0cf8-0ff6-42a1-9e41-e9067a6723b9@ClaytonBocce
DTSTART;TZID=America/Los_Angeles:20250625T183000
DTEND;TZID=America/Los_Angeles:20250625T210000
STATUS:CONFIRMED
SUMMARY:Pollpeti Fumare vs Free Bailin'
URL:/League/Schedule/2785
DESCRIPTION:Regular Season match: Pollpeti Fumare vs Free Ba
 ilin'
LOCATION:Alexander Court 2
END:VEVENT
BEGIN:VEVENT
DTSTAMP:20250421T000000Z
UID:e589eeca-b00e-4cfe-8ec5-2ea20d4d924b@ClaytonBocce
DTSTART;TZID=America/Los_Angeles:20250709T183000
DTEND;TZID=America/Los_Angeles:20250709T210000
STATUS:CONFIRMED
SUMMARY:Pollpeti Fumare vs C.I.A.o
URL:/League/Schedule/2785
DESCRIPTION:Regular Season match: Pollpeti Fumare vs C.I.A.o
LOCATION:Rithel Court A
END:VEVENT
BEGIN:VEVENT
DTSTAMP:20250421T000000Z
UID:e57ebbfa-08b0-4244-9ba9-b71f4412ec42@ClaytonBocce
DTSTART;TZID=America/Los_Angeles:20250716T183000
DTEND;TZID=America/Los_Angeles:20250716T210000
STATUS:CONFIRMED
SUMMARY:Pollpeti Fumare vs Blue Cura-Cows
URL:/League/Schedule/2785
DESCRIPTION:Regular Season match: Pollpeti Fumare vs Blue Cu
 ra-Cows
LOCATION:Rithel Court B
END:VEVENT
BEGIN:VEVENT
DTSTAMP:20250421T000000Z
UID:907b11c8-e425-4e2c-afd7-e796698fec06@ClaytonBocce
DTSTART;TZID=America/Los_Angeles:20250731T183000
DTEND;TZID=America/Los_Angeles:20250731T210000
STATUS:CONFIRMED
SUMMARY:Pollpeti Fumare vs Galina
URL:/League/Schedule/2785
DESCRIPTION:Regular Season match: Pollpeti Fumare vs Galina
LOCATION:Alexander Court 2
END:VEVENT
BEGIN:VEVENT
DTSTAMP:20250421T000000Z
UID:14205b6f-6835-4496-8deb-48ed7092c5c8@ClaytonBocce
DTSTART;TZID=America/Los_Angeles:20250807T183000
DTEND;TZID=America/Los_Angeles:20250807T210000
STATUS:CONFIRMED
SUMMARY:Pollpeti Fumare vs Goof Balls
URL:/League/Schedule/2785
DESCRIPTION:Regular Season match: Pollpeti Fumare vs Goof Ba
 lls
LOCATION:Rithel Court A
END:VEVENT
BEGIN:VEVENT
DTSTAMP:20250421T000000Z
UID:ccabd5cd-8455-4ff3-8c77-aa1e5c33d1e6@ClaytonBocce
DTSTART;TZID=America/Los_Angeles:20250813T183000
DTEND;TZID=America/Los_Angeles:20250813T210000
STATUS:CONFIRMED
SUMMARY:Pollpeti Fumare vs High Rollers
URL:/League/Schedule/2785
DESCRIPTION:Regular Season match: Pollpeti Fumare vs High Ro
 llers
LOCATION:Alexander Court 1
END:VEVENT
BEGIN:VEVENT
DTSTAMP:20250421T000000Z
UID:d5af5b88-4c1e-4496-8af7-4508f16fd258@ClaytonBocce
DTSTART;TZID=America/Los_Angeles:20250820T183000
DTEND;TZID=America/Los_Angeles:20250820T210000
STATUS:CONFIRMED
SUMMARY:Pollpeti Fumare vs Bocce Babes
URL:/League/Schedule/2785
DESCRIPTION:Regular Season match: Pollpeti Fumare vs Bocce B
 abes
LOCATION:Rithel Court B
END:VEVENT
BEGIN:VEVENT
DTSTAMP:20250421T000000Z
UID:2fc0a87f-2046-4b08-a6f4-29b54c2ae814@ClaytonBocce
DTSTART;TZID=America/Los_Angeles:20250828T183000
DTEND;TZID=America/Los_Angeles:20250828T210000
STATUS:CONFIRMED
SUMMARY:Pollpeti Fumare vs Sumofa Bocce
URL:/League/Schedule/2785
DESCRIPTION:Regular Season match: Pollpeti Fumare vs Sumofa 
 Bocce
LOCATION:Rithel Court A
END:VEVENT
END:VCALENDAR
