BEGIN:VCALENDAR
VERSION:2.0
PRODID:-//Clayton Bocce League
METHOD:PUBLISH
BEGIN:VTIMEZONE
TZID:America/Los_Angeles
X-LIC-LOCATION:America/Los_Angeles
BEGIN:DAYLIGHT
TZOFFSETFROM:-0800
TZOFFSETTO:-0700
TZNAME:PDT
DTSTART:20070311T020000
RRULE:FREQ=YEARLY;BYMONTH=3;BYDAY=2SU
END:DAYLIGHT
BEGIN:STANDARD
TZOFFSETFROM:-0700
TZOFFSETTO:-0800
TZNAME:PST
DTSTART:20071104T020000
RRULE:FREQ=YEARLY;BYMONTH=11;BYDAY=1SU
END:STANDARD
END:VTIMEZONE
BEGIN:VEVENT
DTSTAMP:20250421T000000Z
UID:ed86b06d-c6ac-4875-8c7c-e3a5ed7d6d9b@ClaytonBocce
DTSTART;TZID=America/Los_Angeles:20250424T183000
DTEND;TZID=America/Los_Angeles:20250424T210000
STATUS:CONFIRMED
SUMMARY:The Pollastrini vs Pollpeti Fumare
URL:/League/Schedule/2784
DESCRIPTION:Regular Season match: The Pollastrini vs Pollpet
 i Fumare
LOCATION:Alexander Court 1
END:VEVENT
BEGIN:VEVENT
DTSTAMP:20250421T000000Z
UID:6db62102-2b0c-4117-b62c-46e5c2de4ddd@ClaytonBocce
DTSTART;TZID=America/Los_Angeles:20250501T183000
DTEND;TZID=America/Los_Angeles:20250501T210000
STATUS:CONFIRMED
SUMMARY:The Pollastrini vs Free Bailin'
URL:/League/Schedule/2784
DESCRIPTION:Regular Season match: The Pollastrini vs Free Ba
 ilin'
LOCATION:Rithel Court A
END:VEVENT
BEGIN:VEVENT
DTSTAMP:20250421T000000Z
UID:381f200b-7d0e-4d5c-a917-897e2868913f@ClaytonBocce
DTSTART;TZID=America/Los_Angeles:20250508T183000
DTEND;TZID=America/Los_Angeles:20250508T210000
STATUS:CONFIRMED
SUMMARY:The Pollastrini vs Bocce Babes
URL:/League/Schedule/2784
DESCRIPTION:Regular Season match: The Pollastrini vs Bocce B
 abes
LOCATION:Alexander Court 2
END:VEVENT
BEGIN:VEVENT
DTSTAMP:20250421T000000Z
UID:9e2321af-bb05-4416-a4ae-8dcfc310ea7d@ClaytonBocce
DTSTART;TZID=America/Los_Angeles:20250515T183000
DTEND;TZID=America/Los_Angeles:20250515T210000
STATUS:CONFIRMED
SUMMARY:The Pollastrini vs C.I.A.o
URL:/League/Schedule/2784
DESCRIPTION:Regular Season match: The Pollastrini vs C.I.A.o
LOCATION:Alexander Court 1
END:VEVENT
BEGIN:VEVENT
DTSTAMP:20250421T000000Z
UID:02eb3a3c-1538-42ed-8ed2-e2c32ff6a99a@ClaytonBocce
DTSTART;TZID=America/Los_Angeles:20250521T183000
DTEND;TZID=America/Los_Angeles:20250521T210000
STATUS:CONFIRMED
SUMMARY:The Pollastrini vs Goof Balls
URL:/League/Schedule/2784
DESCRIPTION:Regular Season match: The Pollastrini vs Goof Ba
 lls
LOCATION:Alexander Court 2
END:VEVENT
BEGIN:VEVENT
DTSTAMP:20250421T000000Z
UID:c5df1a09-8257-4a17-bf1b-4d2280299095@ClaytonBocce
DTSTART;TZID=America/Los_Angeles:20250612T183000
DTEND;TZID=America/Los_Angeles:20250612T210000
STATUS:CONFIRMED
SUMMARY:The Pollastrini vs High Rollers
URL:/League/Schedule/2784
DESCRIPTION:Regular Season match: The Pollastrini vs High Ro
 llers
LOCATION:Rithel Court B
END:VEVENT
BEGIN:VEVENT
DTSTAMP:20250421T000000Z
UID:ff3d7f04-71bc-4a57-9054-2c9b719aac49@ClaytonBocce
DTSTART;TZID=America/Los_Angeles:20250618T183000
DTEND;TZID=America/Los_Angeles:20250618T210000
STATUS:CONFIRMED
SUMMARY:The Pollastrini vs Bocce Nova
URL:/League/Schedule/2784
DESCRIPTION:Regular Season match: The Pollastrini vs Bocce N
 ova
LOCATION:Alexander Court 2
END:VEVENT
BEGIN:VEVENT
DTSTAMP:20250421T000000Z
UID:8e74b4c9-6e1c-4e2c-9888-480d6063249e@ClaytonBocce
DTSTART;TZID=America/Los_Angeles:20250625T183000
DTEND;TZID=America/Los_Angeles:20250625T210000
STATUS:CONFIRMED
SUMMARY:The Pollastrini vs Bocce Betties
URL:/League/Schedule/2784
DESCRIPTION:Regular Season match: The Pollastrini vs Bocce B
 etties
LOCATION:Rithel Court A
END:VEVENT
BEGIN:VEVENT
DTSTAMP:20250421T000000Z
UID:bf02f84c-d20a-44c0-b9c4-cc9f2a3cc12c@ClaytonBocce
DTSTART;TZID=America/Los_Angeles:20250709T183000
DTEND;TZID=America/Los_Angeles:20250709T210000
STATUS:CONFIRMED
SUMMARY:The Pollastrini vs Galina
URL:/League/Schedule/2784
DESCRIPTION:Regular Season match: The Pollastrini vs Galina
LOCATION:Rithel Court B
END:VEVENT
BEGIN:VEVENT
DTSTAMP:20250421T000000Z
UID:24c19090-501d-4cce-ac69-eb9495b3aadd@ClaytonBocce
DTSTART;TZID=America/Los_Angeles:20250717T183000
DTEND;TZID=America/Los_Angeles:20250717T210000
STATUS:CONFIRMED
SUMMARY:The Pollastrini vs Ball Busters
URL:/League/Schedule/2784
DESCRIPTION:Regular Season match: The Pollastrini vs Ball Bu
 sters
LOCATION:Rithel Court A
END:VEVENT
BEGIN:VEVENT
DTSTAMP:20250421T000000Z
UID:8a13816c-ed81-48d3-87c8-ba7fcaa2df07@ClaytonBocce
DTSTART;TZID=America/Los_Angeles:20250724T183000
DTEND;TZID=America/Los_Angeles:20250724T210000
STATUS:CONFIRMED
SUMMARY:The Pollastrini vs Sumofa Bocce
URL:/League/Schedule/2784
DESCRIPTION:Regular Season match: The Pollastrini vs Sumofa 
 Bocce
LOCATION:Alexander Court 2
END:VEVENT
BEGIN:VEVENT
DTSTAMP:20250421T000000Z
UID:f0628b2c-d66b-4d25-87fa-7111c2b4baca@ClaytonBocce
DTSTART;TZID=America/Los_Angeles:20250731T183000
DTEND;TZID=America/Los_Angeles:20250731T210000
STATUS:CONFIRMED
SUMMARY:The Pollastrini vs Blue Cura-Cows
URL:/League/Schedule/2784
DESCRIPTION:Regular Season match: The Pollastrini vs Blue Cu
 ra-Cows
LOCATION:Rithel Court A
END:VEVENT
BEGIN:VEVENT
DTSTAMP:20250421T000000Z
UID:31b13a32-9f9b-4972-a29c-0d7ce70a8ef0@ClaytonBocce
DTSTART;TZID=America/Los_Angeles:20250806T183000
DTEND;TZID=America/Los_Angeles:20250806T210000
STATUS:CONFIRMED
SUMMARY:The Pollastrini vs Bocce-lism's
URL:/League/Schedule/2784
DESCRIPTION:Regular Season match: The Pollastrini vs Bocce-l
 ism's
LOCATION:Alexander Court 1
END:VEVENT
BEGIN:VEVENT
DTSTAMP:20250421T000000Z
UID:25494012-09d5-4e7d-83ae-0f441a338143@ClaytonBocce
DTSTART;TZID=America/Los_Angeles:20250813T183000
DTEND;TZID=America/Los_Angeles:20250813T210000
STATUS:CONFIRMED
SUMMARY:The Pollastrini vs Bocce Questo!
URL:/League/Schedule/2784
DESCRIPTION:Regular Season match: The Pollastrini vs Bocce Q
 uesto!
LOCATION:Rithel Court B
END:VEVENT
BEGIN:VEVENT
DTSTAMP:20250421T000000Z
UID:2560eb61-1e9c-477a-8819-870663cee86b@ClaytonBocce
DTSTART;TZID=America/Los_Angeles:20250820T183000
DTEND;TZID=America/Los_Angeles:20250820T210000
STATUS:CONFIRMED
SUMMARY:The Pollastrini vs The Incrediballs
URL:/League/Schedule/2784
DESCRIPTION:Regular Season match: The Pollastrini vs The Inc
 rediballs
LOCATION:Rithel Court A
END:VEVENT
END:VCALENDAR
