BEGIN:VCALENDAR
VERSION:2.0
PRODID:-//Clayton Bocce League
METHOD:PUBLISH
BEGIN:VTIMEZONE
TZID:America/Los_Angeles
X-LIC-LOCATION:America/Los_Angeles
BEGIN:DAYLIGHT
TZOFFSETFROM:-0800
TZOFFSETTO:-0700
TZNAME:PDT
DTSTART:20070311T020000
RRULE:FREQ=YEARLY;BYMONTH=3;BYDAY=2SU
END:DAYLIGHT
BEGIN:STANDARD
TZOFFSETFROM:-0700
TZOFFSETTO:-0800
TZNAME:PST
DTSTART:20071104T020000
RRULE:FREQ=YEARLY;BYMONTH=11;BYDAY=1SU
END:STANDARD
END:VTIMEZONE
BEGIN:VEVENT
DTSTAMP:20250421T000000Z
UID:f6f71055-4238-4b0f-96b5-5f0cad732504@ClaytonBocce
DTSTART;TZID=America/Los_Angeles:20250423T183000
DTEND;TZID=America/Los_Angeles:20250423T210000
STATUS:CONFIRMED
SUMMARY:Bocce Betties vs Bocce Questo!
URL:/League/Schedule/2780
DESCRIPTION:Regular Season match: Bocce Betties vs Bocce Que
 sto!
LOCATION:Alexander Court 1
END:VEVENT
BEGIN:VEVENT
DTSTAMP:20250421T000000Z
UID:d7b03d7d-4507-41cf-8b85-d4a09a9105ef@ClaytonBocce
DTSTART;TZID=America/Los_Angeles:20250501T183000
DTEND;TZID=America/Los_Angeles:20250501T210000
STATUS:CONFIRMED
SUMMARY:Bocce Betties vs Goof Balls
URL:/League/Schedule/2780
DESCRIPTION:Regular Season match: Bocce Betties vs Goof Ball
 s
LOCATION:Alexander Court 1
END:VEVENT
BEGIN:VEVENT
DTSTAMP:20250421T000000Z
UID:c15cc38e-4fe7-4ffb-a600-c0e4ee1ce544@ClaytonBocce
DTSTART;TZID=America/Los_Angeles:20250508T183000
DTEND;TZID=America/Los_Angeles:20250508T210000
STATUS:CONFIRMED
SUMMARY:Bocce Betties vs C.I.A.o
URL:/League/Schedule/2780
DESCRIPTION:Regular Season match: Bocce Betties vs C.I.A.o
LOCATION:Alexander Court 1
END:VEVENT
BEGIN:VEVENT
DTSTAMP:20250421T000000Z
UID:6c65766f-22cf-4ddf-ba6b-245bb96c8e79@ClaytonBocce
DTSTART;TZID=America/Los_Angeles:20250514T183000
DTEND;TZID=America/Los_Angeles:20250514T210000
STATUS:CONFIRMED
SUMMARY:Bocce Betties vs Galina
URL:/League/Schedule/2780
DESCRIPTION:Regular Season match: Bocce Betties vs Galina
LOCATION:Alexander Court 2
END:VEVENT
BEGIN:VEVENT
DTSTAMP:20250421T000000Z
UID:1db95fef-b9db-401b-953e-6416a5b08d47@ClaytonBocce
DTSTART;TZID=America/Los_Angeles:20250604T183000
DTEND;TZID=America/Los_Angeles:20250604T210000
STATUS:CONFIRMED
SUMMARY:Bocce Betties vs Pollpeti Fumare
URL:/League/Schedule/2780
DESCRIPTION:Regular Season match: Bocce Betties vs Pollpeti 
 Fumare
LOCATION:Alexander Court 2
END:VEVENT
BEGIN:VEVENT
DTSTAMP:20250421T000000Z
UID:386c9a9f-f131-48cb-95c8-c50edaca3629@ClaytonBocce
DTSTART;TZID=America/Los_Angeles:20250611T183000
DTEND;TZID=America/Los_Angeles:20250611T210000
STATUS:CONFIRMED
SUMMARY:Bocce Betties vs Blue Cura-Cows
URL:/League/Schedule/2780
DESCRIPTION:Regular Season match: Bocce Betties vs Blue Cura
 -Cows
LOCATION:Rithel Court A
END:VEVENT
BEGIN:VEVENT
DTSTAMP:20250421T000000Z
UID:749b5e84-9a0e-49f2-938f-06e6b11ee1cc@ClaytonBocce
DTSTART;TZID=America/Los_Angeles:20250618T183000
DTEND;TZID=America/Los_Angeles:20250618T210000
STATUS:CONFIRMED
SUMMARY:Bocce Betties vs High Rollers
URL:/League/Schedule/2780
DESCRIPTION:Regular Season match: Bocce Betties vs High Roll
 ers
LOCATION:Rithel Court B
END:VEVENT
BEGIN:VEVENT
DTSTAMP:20250421T000000Z
UID:8e74b4c9-6e1c-4e2c-9888-480d6063249e@ClaytonBocce
DTSTART;TZID=America/Los_Angeles:20250625T183000
DTEND;TZID=America/Los_Angeles:20250625T210000
STATUS:CONFIRMED
SUMMARY:Bocce Betties vs The Pollastrini
URL:/League/Schedule/2780
DESCRIPTION:Regular Season match: Bocce Betties vs The Polla
 strini
LOCATION:Rithel Court A
END:VEVENT
BEGIN:VEVENT
DTSTAMP:20250421T000000Z
UID:daf7d92a-1c5a-4a5a-9887-15f3d5f08338@ClaytonBocce
DTSTART;TZID=America/Los_Angeles:20250709T183000
DTEND;TZID=America/Los_Angeles:20250709T210000
STATUS:CONFIRMED
SUMMARY:Bocce Betties vs Bocce-lism's
URL:/League/Schedule/2780
DESCRIPTION:Regular Season match: Bocce Betties vs Bocce-lis
 m's
LOCATION:Alexander Court 2
END:VEVENT
BEGIN:VEVENT
DTSTAMP:20250421T000000Z
UID:0f50fd5d-d251-486c-a3fd-058da387ef84@ClaytonBocce
DTSTART;TZID=America/Los_Angeles:20250716T183000
DTEND;TZID=America/Los_Angeles:20250716T210000
STATUS:CONFIRMED
SUMMARY:Bocce Betties vs Sumofa Bocce
URL:/League/Schedule/2780
DESCRIPTION:Regular Season match: Bocce Betties vs Sumofa Bo
 cce
LOCATION:Rithel Court A
END:VEVENT
BEGIN:VEVENT
DTSTAMP:20250421T000000Z
UID:ef02ae09-8808-4399-baea-ed047d1df000@ClaytonBocce
DTSTART;TZID=America/Los_Angeles:20250723T183000
DTEND;TZID=America/Los_Angeles:20250723T210000
STATUS:CONFIRMED
SUMMARY:Bocce Betties vs Bocce Babes
URL:/League/Schedule/2780
DESCRIPTION:Regular Season match: Bocce Betties vs Bocce Bab
 es
LOCATION:Alexander Court 1
END:VEVENT
BEGIN:VEVENT
DTSTAMP:20250421T000000Z
UID:21054fe3-d07c-4c0c-a27c-4976396e3b3e@ClaytonBocce
DTSTART;TZID=America/Los_Angeles:20250730T183000
DTEND;TZID=America/Los_Angeles:20250730T210000
STATUS:CONFIRMED
SUMMARY:Bocce Betties vs Bocce Nova
URL:/League/Schedule/2780
DESCRIPTION:Regular Season match: Bocce Betties vs Bocce Nov
 a
LOCATION:Rithel Court B
END:VEVENT
BEGIN:VEVENT
DTSTAMP:20250421T000000Z
UID:279b2f40-91f0-41ae-bc44-32fc5d492163@ClaytonBocce
DTSTART;TZID=America/Los_Angeles:20250807T183000
DTEND;TZID=America/Los_Angeles:20250807T210000
STATUS:CONFIRMED
SUMMARY:Bocce Betties vs The Incrediballs
URL:/League/Schedule/2780
DESCRIPTION:Regular Season match: Bocce Betties vs The Incre
 diballs
LOCATION:Rithel Court B
END:VEVENT
BEGIN:VEVENT
DTSTAMP:20250421T000000Z
UID:ad174b2f-b40c-4928-bfa8-47fa34487131@ClaytonBocce
DTSTART;TZID=America/Los_Angeles:20250814T183000
DTEND;TZID=America/Los_Angeles:20250814T210000
STATUS:CONFIRMED
SUMMARY:Bocce Betties vs Ball Busters
URL:/League/Schedule/2780
DESCRIPTION:Regular Season match: Bocce Betties vs Ball Bust
 ers
LOCATION:Alexander Court 1
END:VEVENT
BEGIN:VEVENT
DTSTAMP:20250421T000000Z
UID:b8d9ee1d-f467-4e20-8214-2f0c1343c04f@ClaytonBocce
DTSTART;TZID=America/Los_Angeles:20250821T183000
DTEND;TZID=America/Los_Angeles:20250821T210000
STATUS:CONFIRMED
SUMMARY:Bocce Betties vs Free Bailin'
URL:/League/Schedule/2780
DESCRIPTION:Regular Season match: Bocce Betties vs Free Bail
 in'
LOCATION:Alexander Court 2
END:VEVENT
END:VCALENDAR
