BEGIN:VCALENDAR
VERSION:2.0
PRODID:-//Clayton Bocce League
METHOD:PUBLISH
BEGIN:VTIMEZONE
TZID:America/Los_Angeles
X-LIC-LOCATION:America/Los_Angeles
BEGIN:DAYLIGHT
TZOFFSETFROM:-0800
TZOFFSETTO:-0700
TZNAME:PDT
DTSTART:20070311T020000
RRULE:FREQ=YEARLY;BYMONTH=3;BYDAY=2SU
END:DAYLIGHT
BEGIN:STANDARD
TZOFFSETFROM:-0700
TZOFFSETTO:-0800
TZNAME:PST
DTSTART:20071104T020000
RRULE:FREQ=YEARLY;BYMONTH=11;BYDAY=1SU
END:STANDARD
END:VTIMEZONE
BEGIN:VEVENT
DTSTAMP:20250421T000000Z
UID:f6f71055-4238-4b0f-96b5-5f0cad732504@ClaytonBocce
DTSTART;TZID=America/Los_Angeles:20250423T183000
DTEND;TZID=America/Los_Angeles:20250423T210000
STATUS:CONFIRMED
SUMMARY:Bocce Questo! vs Bocce Betties
URL:/League/Schedule/2781
DESCRIPTION:Regular Season match: Bocce Questo! vs Bocce Bet
 ties
LOCATION:Alexander Court 1
END:VEVENT
BEGIN:VEVENT
DTSTAMP:20250421T000000Z
UID:3bfafd73-6935-4bd1-93e6-d4b839ff96f4@ClaytonBocce
DTSTART;TZID=America/Los_Angeles:20250501T183000
DTEND;TZID=America/Los_Angeles:20250501T210000
STATUS:CONFIRMED
SUMMARY:Bocce Questo! vs C.I.A.o
URL:/League/Schedule/2781
DESCRIPTION:Regular Season match: Bocce Questo! vs C.I.A.o
LOCATION:Alexander Court 2
END:VEVENT
BEGIN:VEVENT
DTSTAMP:20250421T000000Z
UID:47493cb1-d761-4aff-b800-62600c5286f9@ClaytonBocce
DTSTART;TZID=America/Los_Angeles:20250508T183000
DTEND;TZID=America/Los_Angeles:20250508T210000
STATUS:CONFIRMED
SUMMARY:Bocce Questo! vs Pollpeti Fumare
URL:/League/Schedule/2781
DESCRIPTION:Regular Season match: Bocce Questo! vs Pollpeti 
 Fumare
LOCATION:Rithel Court A
END:VEVENT
BEGIN:VEVENT
DTSTAMP:20250421T000000Z
UID:e6f387bb-0689-41be-af08-f3fdd1af94cc@ClaytonBocce
DTSTART;TZID=America/Los_Angeles:20250515T183000
DTEND;TZID=America/Los_Angeles:20250515T210000
STATUS:CONFIRMED
SUMMARY:Bocce Questo! vs Bocce Nova
URL:/League/Schedule/2781
DESCRIPTION:Regular Season match: Bocce Questo! vs Bocce Nov
 a
LOCATION:Rithel Court B
END:VEVENT
BEGIN:VEVENT
DTSTAMP:20250421T000000Z
UID:e312e968-72e6-4126-a0f2-17e94a6fb7db@ClaytonBocce
DTSTART;TZID=America/Los_Angeles:20250522T183000
DTEND;TZID=America/Los_Angeles:20250522T210000
STATUS:CONFIRMED
SUMMARY:Bocce Questo! vs The Incrediballs
URL:/League/Schedule/2781
DESCRIPTION:Regular Season match: Bocce Questo! vs The Incre
 diballs
LOCATION:Rithel Court B
END:VEVENT
BEGIN:VEVENT
DTSTAMP:20250421T000000Z
UID:6dfa266f-21dc-4ec5-9404-0286b5911745@ClaytonBocce
DTSTART;TZID=America/Los_Angeles:20250605T183000
DTEND;TZID=America/Los_Angeles:20250605T210000
STATUS:CONFIRMED
SUMMARY:Bocce Questo! vs High Rollers
URL:/League/Schedule/2781
DESCRIPTION:Regular Season match: Bocce Questo! vs High Roll
 ers
LOCATION:Rithel Court A
END:VEVENT
BEGIN:VEVENT
DTSTAMP:20250421T000000Z
UID:36ebde85-f5b3-4045-a903-d12aee6b5dd8@ClaytonBocce
DTSTART;TZID=America/Los_Angeles:20250612T183000
DTEND;TZID=America/Los_Angeles:20250612T210000
STATUS:CONFIRMED
SUMMARY:Bocce Questo! vs Galina
URL:/League/Schedule/2781
DESCRIPTION:Regular Season match: Bocce Questo! vs Galina
LOCATION:Alexander Court 2
END:VEVENT
BEGIN:VEVENT
DTSTAMP:20250421T000000Z
UID:5173af3e-3b03-4b63-9d90-22ad3dd8e9b4@ClaytonBocce
DTSTART;TZID=America/Los_Angeles:20250619T183000
DTEND;TZID=America/Los_Angeles:20250619T210000
STATUS:CONFIRMED
SUMMARY:Bocce Questo! vs Free Bailin'
URL:/League/Schedule/2781
DESCRIPTION:Regular Season match: Bocce Questo! vs Free Bail
 in'
LOCATION:Alexander Court 1
END:VEVENT
BEGIN:VEVENT
DTSTAMP:20250421T000000Z
UID:e3f4e6ec-f46e-4b09-813d-712c1640a189@ClaytonBocce
DTSTART;TZID=America/Los_Angeles:20250626T183000
DTEND;TZID=America/Los_Angeles:20250626T210000
STATUS:CONFIRMED
SUMMARY:Bocce Questo! vs Bocce Babes
URL:/League/Schedule/2781
DESCRIPTION:Regular Season match: Bocce Questo! vs Bocce Bab
 es
LOCATION:Alexander Court 1
END:VEVENT
BEGIN:VEVENT
DTSTAMP:20250421T000000Z
UID:d8a80d56-054d-4637-a0ce-676901c4268a@ClaytonBocce
DTSTART;TZID=America/Los_Angeles:20250710T183000
DTEND;TZID=America/Los_Angeles:20250710T210000
STATUS:CONFIRMED
SUMMARY:Bocce Questo! vs Ball Busters
URL:/League/Schedule/2781
DESCRIPTION:Regular Season match: Bocce Questo! vs Ball Bust
 ers
LOCATION:Alexander Court 2
END:VEVENT
BEGIN:VEVENT
DTSTAMP:20250421T000000Z
UID:c34c5637-0cd5-4af2-8e0c-183e7662ff91@ClaytonBocce
DTSTART;TZID=America/Los_Angeles:20250723T183000
DTEND;TZID=America/Los_Angeles:20250723T210000
STATUS:CONFIRMED
SUMMARY:Bocce Questo! vs Blue Cura-Cows
URL:/League/Schedule/2781
DESCRIPTION:Regular Season match: Bocce Questo! vs Blue Cura
 -Cows
LOCATION:Rithel Court B
END:VEVENT
BEGIN:VEVENT
DTSTAMP:20250421T000000Z
UID:c4589171-fbe7-43b1-b609-382398179d19@ClaytonBocce
DTSTART;TZID=America/Los_Angeles:20250730T183000
DTEND;TZID=America/Los_Angeles:20250730T210000
STATUS:CONFIRMED
SUMMARY:Bocce Questo! vs Bocce-lism's
URL:/League/Schedule/2781
DESCRIPTION:Regular Season match: Bocce Questo! vs Bocce-lis
 m's
LOCATION:Alexander Court 2
END:VEVENT
BEGIN:VEVENT
DTSTAMP:20250421T000000Z
UID:d68408bf-45f7-4131-b2fa-fbdff7969ec4@ClaytonBocce
DTSTART;TZID=America/Los_Angeles:20250806T183000
DTEND;TZID=America/Los_Angeles:20250806T210000
STATUS:CONFIRMED
SUMMARY:Bocce Questo! vs Sumofa Bocce
URL:/League/Schedule/2781
DESCRIPTION:Regular Season match: Bocce Questo! vs Sumofa Bo
 cce
LOCATION:Rithel Court A
END:VEVENT
BEGIN:VEVENT
DTSTAMP:20250421T000000Z
UID:25494012-09d5-4e7d-83ae-0f441a338143@ClaytonBocce
DTSTART;TZID=America/Los_Angeles:20250813T183000
DTEND;TZID=America/Los_Angeles:20250813T210000
STATUS:CONFIRMED
SUMMARY:Bocce Questo! vs The Pollastrini
URL:/League/Schedule/2781
DESCRIPTION:Regular Season match: Bocce Questo! vs The Polla
 strini
LOCATION:Rithel Court B
END:VEVENT
BEGIN:VEVENT
DTSTAMP:20250421T000000Z
UID:881a37bd-708c-4504-8b9a-0e4e84376cae@ClaytonBocce
DTSTART;TZID=America/Los_Angeles:20250821T183000
DTEND;TZID=America/Los_Angeles:20250821T210000
STATUS:CONFIRMED
SUMMARY:Bocce Questo! vs Goof Balls
URL:/League/Schedule/2781
DESCRIPTION:Regular Season match: Bocce Questo! vs Goof Ball
 s
LOCATION:Alexander Court 1
END:VEVENT
END:VCALENDAR
