BEGIN:VCALENDAR
VERSION:2.0
PRODID:-//Clayton Bocce League
METHOD:PUBLISH
BEGIN:VTIMEZONE
TZID:America/Los_Angeles
X-LIC-LOCATION:America/Los_Angeles
BEGIN:DAYLIGHT
TZOFFSETFROM:-0800
TZOFFSETTO:-0700
TZNAME:PDT
DTSTART:20070311T020000
RRULE:FREQ=YEARLY;BYMONTH=3;BYDAY=2SU
END:DAYLIGHT
BEGIN:STANDARD
TZOFFSETFROM:-0700
TZOFFSETTO:-0800
TZNAME:PST
DTSTART:20071104T020000
RRULE:FREQ=YEARLY;BYMONTH=11;BYDAY=1SU
END:STANDARD
END:VTIMEZONE
BEGIN:VEVENT
DTSTAMP:20260428T000000Z
UID:d2e74e24-557f-4fb5-b950-0dc0b675ef34@ClaytonBocce
DTSTART;TZID=America/Los_Angeles:20260428T093000
DTEND;TZID=America/Los_Angeles:20260428T120000
STATUS:CONFIRMED
SUMMARY:Bocceholics vs As Good As It Gets
URL:/League/Schedule/3318
DESCRIPTION:Regular Season match: Bocceholics vs As Good As 
 It Gets
LOCATION:Newhall Court 8
END:VEVENT
BEGIN:VEVENT
DTSTAMP:20260428T000000Z
UID:e6b0202d-a0bd-4d47-b7d3-45e43330fcbf@ClaytonBocce
DTSTART;TZID=America/Los_Angeles:20260505T093000
DTEND;TZID=America/Los_Angeles:20260505T120000
STATUS:CONFIRMED
SUMMARY:Bocceholics vs Early Bloomers
URL:/League/Schedule/3318
DESCRIPTION:Regular Season match: Bocceholics vs Early Bloom
 ers
LOCATION:Newhall Court 3
END:VEVENT
BEGIN:VEVENT
DTSTAMP:20260428T000000Z
UID:4ce40e46-da0f-4638-84be-77d0e7bade38@ClaytonBocce
DTSTART;TZID=America/Los_Angeles:20260512T093000
DTEND;TZID=America/Los_Angeles:20260512T120000
STATUS:CONFIRMED
SUMMARY:Bocceholics vs Straight Shooters
URL:/League/Schedule/3318
DESCRIPTION:Regular Season match: Bocceholics vs Straight Sh
 ooters
LOCATION:Newhall Court 4
END:VEVENT
BEGIN:VEVENT
DTSTAMP:20260428T000000Z
UID:95bd59bf-7f1d-42e2-bbaa-59b5af581cea@ClaytonBocce
DTSTART;TZID=America/Los_Angeles:20260519T093000
DTEND;TZID=America/Los_Angeles:20260519T120000
STATUS:CONFIRMED
SUMMARY:Bocceholics vs Bobs Bocce Bunch
URL:/League/Schedule/3318
DESCRIPTION:Regular Season match: Bocceholics vs Bobs Bocce 
 Bunch
LOCATION:Newhall Court 3
END:VEVENT
BEGIN:VEVENT
DTSTAMP:20260428T000000Z
UID:2c6acb9e-b336-4d1f-abe7-a4df9b28e0dd@ClaytonBocce
DTSTART;TZID=America/Los_Angeles:20260602T093000
DTEND;TZID=America/Los_Angeles:20260602T120000
STATUS:CONFIRMED
SUMMARY:Bocceholics vs Hardly Wallbangers
URL:/League/Schedule/3318
DESCRIPTION:Regular Season match: Bocceholics vs Hardly Wall
 bangers
LOCATION:Newhall Court 5
END:VEVENT
BEGIN:VEVENT
DTSTAMP:20260428T000000Z
UID:cb7f0b84-a69f-4230-82b4-22fa22925c10@ClaytonBocce
DTSTART;TZID=America/Los_Angeles:20260609T093000
DTEND;TZID=America/Los_Angeles:20260609T120000
STATUS:CONFIRMED
SUMMARY:Bocceholics vs T3 Perfettas
URL:/League/Schedule/3318
DESCRIPTION:Regular Season match: Bocceholics vs T3 Perfetta
 s
LOCATION:Newhall Court 6
END:VEVENT
BEGIN:VEVENT
DTSTAMP:20260428T000000Z
UID:c50e867d-2486-482b-9448-2296ac658c33@ClaytonBocce
DTSTART;TZID=America/Los_Angeles:20260616T093000
DTEND;TZID=America/Los_Angeles:20260616T120000
STATUS:CONFIRMED
SUMMARY:Bocceholics vs Clayton Cannolies
URL:/League/Schedule/3318
DESCRIPTION:Regular Season match: Bocceholics vs Clayton Can
 nolies
LOCATION:Newhall Court 2
END:VEVENT
BEGIN:VEVENT
DTSTAMP:20260428T000000Z
UID:a27a48ed-7aff-44fc-8543-5fbb2d0b9e60@ClaytonBocce
DTSTART;TZID=America/Los_Angeles:20260623T093000
DTEND;TZID=America/Los_Angeles:20260623T120000
STATUS:CONFIRMED
SUMMARY:Bocceholics vs As Good As It Gets
URL:/League/Schedule/3318
DESCRIPTION:Regular Season match: Bocceholics vs As Good As 
 It Gets
LOCATION:Newhall Court 1
END:VEVENT
BEGIN:VEVENT
DTSTAMP:20260428T000000Z
UID:98eb532d-5463-401e-b01e-84880965ecf8@ClaytonBocce
DTSTART;TZID=America/Los_Angeles:20260630T093000
DTEND;TZID=America/Los_Angeles:20260630T120000
STATUS:CONFIRMED
SUMMARY:Bocceholics vs Early Bloomers
URL:/League/Schedule/3318
DESCRIPTION:Regular Season match: Bocceholics vs Early Bloom
 ers
LOCATION:Newhall Court 8
END:VEVENT
BEGIN:VEVENT
DTSTAMP:20260428T000000Z
UID:5b801a1a-3142-4025-8386-df5686b5a264@ClaytonBocce
DTSTART;TZID=America/Los_Angeles:20260714T093000
DTEND;TZID=America/Los_Angeles:20260714T120000
STATUS:CONFIRMED
SUMMARY:Bocceholics vs Straight Shooters
URL:/League/Schedule/3318
DESCRIPTION:Regular Season match: Bocceholics vs Straight Sh
 ooters
LOCATION:Newhall Court 7
END:VEVENT
BEGIN:VEVENT
DTSTAMP:20260428T000000Z
UID:c4515940-c0a8-497c-ad71-7e33d1a118f1@ClaytonBocce
DTSTART;TZID=America/Los_Angeles:20260721T093000
DTEND;TZID=America/Los_Angeles:20260721T120000
STATUS:CONFIRMED
SUMMARY:Bocceholics vs Bobs Bocce Bunch
URL:/League/Schedule/3318
DESCRIPTION:Regular Season match: Bocceholics vs Bobs Bocce 
 Bunch
LOCATION:Newhall Court 2
END:VEVENT
BEGIN:VEVENT
DTSTAMP:20260428T000000Z
UID:11c04032-4206-4e21-9d30-82196ebdf764@ClaytonBocce
DTSTART;TZID=America/Los_Angeles:20260728T093000
DTEND;TZID=America/Los_Angeles:20260728T120000
STATUS:CONFIRMED
SUMMARY:Bocceholics vs Hardly Wallbangers
URL:/League/Schedule/3318
DESCRIPTION:Regular Season match: Bocceholics vs Hardly Wall
 bangers
LOCATION:Newhall Court 4
END:VEVENT
BEGIN:VEVENT
DTSTAMP:20260428T000000Z
UID:8827d176-fe1c-4e5c-9858-a980c3f9f575@ClaytonBocce
DTSTART;TZID=America/Los_Angeles:20260804T093000
DTEND;TZID=America/Los_Angeles:20260804T120000
STATUS:CONFIRMED
SUMMARY:Bocceholics vs T3 Perfettas
URL:/League/Schedule/3318
DESCRIPTION:Regular Season match: Bocceholics vs T3 Perfetta
 s
LOCATION:Newhall Court 5
END:VEVENT
BEGIN:VEVENT
DTSTAMP:20260428T000000Z
UID:140628f4-816c-4730-8ecb-8afed679b75f@ClaytonBocce
DTSTART;TZID=America/Los_Angeles:20260811T093000
DTEND;TZID=America/Los_Angeles:20260811T120000
STATUS:CONFIRMED
SUMMARY:Bocceholics vs Clayton Cannolies
URL:/League/Schedule/3318
DESCRIPTION:Regular Season match: Bocceholics vs Clayton Can
 nolies
LOCATION:Newhall Court 3
END:VEVENT
END:VCALENDAR
