BEGIN:VCALENDAR
VERSION:2.0
PRODID:-//Clayton Bocce League
METHOD:PUBLISH
BEGIN:VTIMEZONE
TZID:America/Los_Angeles
X-LIC-LOCATION:America/Los_Angeles
BEGIN:DAYLIGHT
TZOFFSETFROM:-0800
TZOFFSETTO:-0700
TZNAME:PDT
DTSTART:20070311T020000
RRULE:FREQ=YEARLY;BYMONTH=3;BYDAY=2SU
END:DAYLIGHT
BEGIN:STANDARD
TZOFFSETFROM:-0700
TZOFFSETTO:-0800
TZNAME:PST
DTSTART:20071104T020000
RRULE:FREQ=YEARLY;BYMONTH=11;BYDAY=1SU
END:STANDARD
END:VTIMEZONE
BEGIN:VEVENT
DTSTAMP:20260428T000000Z
UID:d2e74e24-557f-4fb5-b950-0dc0b675ef34@ClaytonBocce
DTSTART;TZID=America/Los_Angeles:20260428T093000
DTEND;TZID=America/Los_Angeles:20260428T120000
STATUS:CONFIRMED
SUMMARY:As Good As It Gets vs Bocceholics
URL:/League/Schedule/3309
DESCRIPTION:Regular Season match: As Good As It Gets vs Bocc
 eholics
LOCATION:Newhall Court 8
END:VEVENT
BEGIN:VEVENT
DTSTAMP:20260428T000000Z
UID:4572c381-9d76-4644-ab15-88f10184c834@ClaytonBocce
DTSTART;TZID=America/Los_Angeles:20260505T093000
DTEND;TZID=America/Los_Angeles:20260505T120000
STATUS:CONFIRMED
SUMMARY:As Good As It Gets vs Clayton Cannolies
URL:/League/Schedule/3309
DESCRIPTION:Regular Season match: As Good As It Gets vs Clay
 ton Cannolies
LOCATION:Newhall Court 2
END:VEVENT
BEGIN:VEVENT
DTSTAMP:20260428T000000Z
UID:62a1b0a7-e6c9-4225-982c-8b2f2e6d564f@ClaytonBocce
DTSTART;TZID=America/Los_Angeles:20260512T093000
DTEND;TZID=America/Los_Angeles:20260512T120000
STATUS:CONFIRMED
SUMMARY:As Good As It Gets vs T3 Perfettas
URL:/League/Schedule/3309
DESCRIPTION:Regular Season match: As Good As It Gets vs T3 P
 erfettas
LOCATION:Newhall Court 1
END:VEVENT
BEGIN:VEVENT
DTSTAMP:20260428T000000Z
UID:8e10c705-8f27-46fe-970a-c9b5cbc19245@ClaytonBocce
DTSTART;TZID=America/Los_Angeles:20260519T093000
DTEND;TZID=America/Los_Angeles:20260519T120000
STATUS:CONFIRMED
SUMMARY:As Good As It Gets vs Hardly Wallbangers
URL:/League/Schedule/3309
DESCRIPTION:Regular Season match: As Good As It Gets vs Hard
 ly Wallbangers
LOCATION:Newhall Court 4
END:VEVENT
BEGIN:VEVENT
DTSTAMP:20260428T000000Z
UID:0221a227-a2aa-4ca6-a3af-98e506bfc11e@ClaytonBocce
DTSTART;TZID=America/Los_Angeles:20260602T093000
DTEND;TZID=America/Los_Angeles:20260602T120000
STATUS:CONFIRMED
SUMMARY:As Good As It Gets vs Early Bloomers
URL:/League/Schedule/3309
DESCRIPTION:Regular Season match: As Good As It Gets vs Earl
 y Bloomers
LOCATION:Newhall Court 3
END:VEVENT
BEGIN:VEVENT
DTSTAMP:20260428T000000Z
UID:ab47b45f-9160-442c-848d-df75e030041f@ClaytonBocce
DTSTART;TZID=America/Los_Angeles:20260609T093000
DTEND;TZID=America/Los_Angeles:20260609T120000
STATUS:CONFIRMED
SUMMARY:As Good As It Gets vs Straight Shooters
URL:/League/Schedule/3309
DESCRIPTION:Regular Season match: As Good As It Gets vs Stra
 ight Shooters
LOCATION:Newhall Court 8
END:VEVENT
BEGIN:VEVENT
DTSTAMP:20260428T000000Z
UID:65133a16-8342-4874-9e54-ee5d819054d9@ClaytonBocce
DTSTART;TZID=America/Los_Angeles:20260616T093000
DTEND;TZID=America/Los_Angeles:20260616T120000
STATUS:CONFIRMED
SUMMARY:As Good As It Gets vs Bobs Bocce Bunch
URL:/League/Schedule/3309
DESCRIPTION:Regular Season match: As Good As It Gets vs Bobs
  Bocce Bunch
LOCATION:Newhall Court 5
END:VEVENT
BEGIN:VEVENT
DTSTAMP:20260428T000000Z
UID:a27a48ed-7aff-44fc-8543-5fbb2d0b9e60@ClaytonBocce
DTSTART;TZID=America/Los_Angeles:20260623T093000
DTEND;TZID=America/Los_Angeles:20260623T120000
STATUS:CONFIRMED
SUMMARY:As Good As It Gets vs Bocceholics
URL:/League/Schedule/3309
DESCRIPTION:Regular Season match: As Good As It Gets vs Bocc
 eholics
LOCATION:Newhall Court 1
END:VEVENT
BEGIN:VEVENT
DTSTAMP:20260428T000000Z
UID:68024da2-7d82-4ae0-a95c-ba269b22cb2d@ClaytonBocce
DTSTART;TZID=America/Los_Angeles:20260630T093000
DTEND;TZID=America/Los_Angeles:20260630T120000
STATUS:CONFIRMED
SUMMARY:As Good As It Gets vs Clayton Cannolies
URL:/League/Schedule/3309
DESCRIPTION:Regular Season match: As Good As It Gets vs Clay
 ton Cannolies
LOCATION:Newhall Court 7
END:VEVENT
BEGIN:VEVENT
DTSTAMP:20260428T000000Z
UID:d17d797d-1aa5-4f0f-9b13-570d5e295a4b@ClaytonBocce
DTSTART;TZID=America/Los_Angeles:20260714T093000
DTEND;TZID=America/Los_Angeles:20260714T120000
STATUS:CONFIRMED
SUMMARY:As Good As It Gets vs T3 Perfettas
URL:/League/Schedule/3309
DESCRIPTION:Regular Season match: As Good As It Gets vs T3 P
 erfettas
LOCATION:Newhall Court 4
END:VEVENT
BEGIN:VEVENT
DTSTAMP:20260428T000000Z
UID:c92edcd7-08fb-4326-a186-c07536887bc2@ClaytonBocce
DTSTART;TZID=America/Los_Angeles:20260721T093000
DTEND;TZID=America/Los_Angeles:20260721T120000
STATUS:CONFIRMED
SUMMARY:As Good As It Gets vs Hardly Wallbangers
URL:/League/Schedule/3309
DESCRIPTION:Regular Season match: As Good As It Gets vs Hard
 ly Wallbangers
LOCATION:Newhall Court 6
END:VEVENT
BEGIN:VEVENT
DTSTAMP:20260428T000000Z
UID:cfdbd450-2acf-41a0-af52-3ae732d3bf79@ClaytonBocce
DTSTART;TZID=America/Los_Angeles:20260728T093000
DTEND;TZID=America/Los_Angeles:20260728T120000
STATUS:CONFIRMED
SUMMARY:As Good As It Gets vs Early Bloomers
URL:/League/Schedule/3309
DESCRIPTION:Regular Season match: As Good As It Gets vs Earl
 y Bloomers
LOCATION:Newhall Court 2
END:VEVENT
BEGIN:VEVENT
DTSTAMP:20260428T000000Z
UID:0591f3f6-2a29-4349-8904-44ba1e21cc3c@ClaytonBocce
DTSTART;TZID=America/Los_Angeles:20260804T093000
DTEND;TZID=America/Los_Angeles:20260804T120000
STATUS:CONFIRMED
SUMMARY:As Good As It Gets vs Straight Shooters
URL:/League/Schedule/3309
DESCRIPTION:Regular Season match: As Good As It Gets vs Stra
 ight Shooters
LOCATION:Newhall Court 1
END:VEVENT
BEGIN:VEVENT
DTSTAMP:20260428T000000Z
UID:a38c4abc-205f-4404-87ef-b7c7d249aa64@ClaytonBocce
DTSTART;TZID=America/Los_Angeles:20260811T093000
DTEND;TZID=America/Los_Angeles:20260811T120000
STATUS:CONFIRMED
SUMMARY:As Good As It Gets vs Bobs Bocce Bunch
URL:/League/Schedule/3309
DESCRIPTION:Regular Season match: As Good As It Gets vs Bobs
  Bocce Bunch
LOCATION:Newhall Court 7
END:VEVENT
END:VCALENDAR
