BEGIN:VCALENDAR
VERSION:2.0
PRODID:-//Clayton Bocce League
METHOD:PUBLISH
BEGIN:VTIMEZONE
TZID:America/Los_Angeles
X-LIC-LOCATION:America/Los_Angeles
BEGIN:DAYLIGHT
TZOFFSETFROM:-0800
TZOFFSETTO:-0700
TZNAME:PDT
DTSTART:20070311T020000
RRULE:FREQ=YEARLY;BYMONTH=3;BYDAY=2SU
END:DAYLIGHT
BEGIN:STANDARD
TZOFFSETFROM:-0700
TZOFFSETTO:-0800
TZNAME:PST
DTSTART:20071104T020000
RRULE:FREQ=YEARLY;BYMONTH=11;BYDAY=1SU
END:STANDARD
END:VTIMEZONE
BEGIN:VEVENT
DTSTAMP:20260428T000000Z
UID:340e0c44-c69a-4f75-8a09-aba0c3e4ce5e@ClaytonBocce
DTSTART;TZID=America/Los_Angeles:20260428T093000
DTEND;TZID=America/Los_Angeles:20260428T120000
STATUS:CONFIRMED
SUMMARY:The In Crowd vs Bocce High Rollers
URL:/League/Schedule/3316
DESCRIPTION:Regular Season match: The In Crowd vs Bocce High
  Rollers
LOCATION:Newhall Court 3
END:VEVENT
BEGIN:VEVENT
DTSTAMP:20260428T000000Z
UID:5d2c9d87-5150-48c6-a134-cf4cb91afb85@ClaytonBocce
DTSTART;TZID=America/Los_Angeles:20260505T093000
DTEND;TZID=America/Los_Angeles:20260505T120000
STATUS:CONFIRMED
SUMMARY:The In Crowd vs Bocce Dogs
URL:/League/Schedule/3316
DESCRIPTION:Regular Season match: The In Crowd vs Bocce Dogs
LOCATION:Newhall Court 7
END:VEVENT
BEGIN:VEVENT
DTSTAMP:20260428T000000Z
UID:917691e3-eb6f-4c7d-ba66-9c5593456fbf@ClaytonBocce
DTSTART;TZID=America/Los_Angeles:20260512T093000
DTEND;TZID=America/Los_Angeles:20260512T120000
STATUS:CONFIRMED
SUMMARY:The In Crowd vs Martinez
URL:/League/Schedule/3316
DESCRIPTION:Regular Season match: The In Crowd vs Martinez
LOCATION:Newhall Court 5
END:VEVENT
BEGIN:VEVENT
DTSTAMP:20260428T000000Z
UID:a964cdec-832e-4c04-bd66-c04e483dfc23@ClaytonBocce
DTSTART;TZID=America/Los_Angeles:20260519T093000
DTEND;TZID=America/Los_Angeles:20260519T120000
STATUS:CONFIRMED
SUMMARY:The In Crowd vs Fossil Farm
URL:/League/Schedule/3316
DESCRIPTION:Regular Season match: The In Crowd vs Fossil Far
 m
LOCATION:Newhall Court 7
END:VEVENT
BEGIN:VEVENT
DTSTAMP:20260428T000000Z
UID:af95bafc-fe5f-4067-aa97-abbf893e2dd1@ClaytonBocce
DTSTART;TZID=America/Los_Angeles:20260602T093000
DTEND;TZID=America/Los_Angeles:20260602T120000
STATUS:CONFIRMED
SUMMARY:The In Crowd vs Stugots
URL:/League/Schedule/3316
DESCRIPTION:Regular Season match: The In Crowd vs Stugots
LOCATION:Newhall Court 8
END:VEVENT
BEGIN:VEVENT
DTSTAMP:20260428T000000Z
UID:26f292a5-0dc5-4cff-b9a9-1b35927796e3@ClaytonBocce
DTSTART;TZID=America/Los_Angeles:20260609T093000
DTEND;TZID=America/Los_Angeles:20260609T120000
STATUS:CONFIRMED
SUMMARY:The In Crowd vs Rolling Oldies
URL:/League/Schedule/3316
DESCRIPTION:Regular Season match: The In Crowd vs Rolling Ol
 dies
LOCATION:Newhall Court 3
END:VEVENT
BEGIN:VEVENT
DTSTAMP:20260428T000000Z
UID:3bb12e51-2b89-41e4-bdc3-b47f645bd3ec@ClaytonBocce
DTSTART;TZID=America/Los_Angeles:20260616T093000
DTEND;TZID=America/Los_Angeles:20260616T120000
STATUS:CONFIRMED
SUMMARY:The In Crowd vs Pacheco D'Boccieri
URL:/League/Schedule/3316
DESCRIPTION:Regular Season match: The In Crowd vs Pacheco D'
 Boccieri
LOCATION:Newhall Court 1
END:VEVENT
BEGIN:VEVENT
DTSTAMP:20260428T000000Z
UID:87d7c702-9130-437a-adbc-2e90ae4fd8d2@ClaytonBocce
DTSTART;TZID=America/Los_Angeles:20260623T093000
DTEND;TZID=America/Los_Angeles:20260623T120000
STATUS:CONFIRMED
SUMMARY:The In Crowd vs Bocce High Rollers
URL:/League/Schedule/3316
DESCRIPTION:Regular Season match: The In Crowd vs Bocce High
  Rollers
LOCATION:Newhall Court 5
END:VEVENT
BEGIN:VEVENT
DTSTAMP:20260428T000000Z
UID:92ca68d1-69dd-4630-bc7e-615f6d45a112@ClaytonBocce
DTSTART;TZID=America/Los_Angeles:20260630T093000
DTEND;TZID=America/Los_Angeles:20260630T120000
STATUS:CONFIRMED
SUMMARY:The In Crowd vs Bocce Dogs
URL:/League/Schedule/3316
DESCRIPTION:Regular Season match: The In Crowd vs Bocce Dogs
LOCATION:Newhall Court 6
END:VEVENT
BEGIN:VEVENT
DTSTAMP:20260428T000000Z
UID:c82c9e72-3e2d-42ad-9575-dcbe9cfe9e38@ClaytonBocce
DTSTART;TZID=America/Los_Angeles:20260714T093000
DTEND;TZID=America/Los_Angeles:20260714T120000
STATUS:CONFIRMED
SUMMARY:The In Crowd vs Martinez
URL:/League/Schedule/3316
DESCRIPTION:Regular Season match: The In Crowd vs Martinez
LOCATION:Newhall Court 8
END:VEVENT
BEGIN:VEVENT
DTSTAMP:20260428T000000Z
UID:d5588bc4-7f07-48a3-81d9-3daa4faf0905@ClaytonBocce
DTSTART;TZID=America/Los_Angeles:20260721T093000
DTEND;TZID=America/Los_Angeles:20260721T120000
STATUS:CONFIRMED
SUMMARY:The In Crowd vs Fossil Farm
URL:/League/Schedule/3316
DESCRIPTION:Regular Season match: The In Crowd vs Fossil Far
 m
LOCATION:Newhall Court 1
END:VEVENT
BEGIN:VEVENT
DTSTAMP:20260428T000000Z
UID:5a9c71fa-03c4-4ba9-98bd-2b8631eca299@ClaytonBocce
DTSTART;TZID=America/Los_Angeles:20260728T093000
DTEND;TZID=America/Los_Angeles:20260728T120000
STATUS:CONFIRMED
SUMMARY:The In Crowd vs Stugots
URL:/League/Schedule/3316
DESCRIPTION:Regular Season match: The In Crowd vs Stugots
LOCATION:Newhall Court 7
END:VEVENT
BEGIN:VEVENT
DTSTAMP:20260428T000000Z
UID:4ffc252f-f8e8-40bf-9a3c-5d2fcaf124c9@ClaytonBocce
DTSTART;TZID=America/Los_Angeles:20260804T093000
DTEND;TZID=America/Los_Angeles:20260804T120000
STATUS:CONFIRMED
SUMMARY:The In Crowd vs Rolling Oldies
URL:/League/Schedule/3316
DESCRIPTION:Regular Season match: The In Crowd vs Rolling Ol
 dies
LOCATION:Newhall Court 4
END:VEVENT
BEGIN:VEVENT
DTSTAMP:20260428T000000Z
UID:fe86dab4-d8ff-48af-831c-667497230885@ClaytonBocce
DTSTART;TZID=America/Los_Angeles:20260811T093000
DTEND;TZID=America/Los_Angeles:20260811T120000
STATUS:CONFIRMED
SUMMARY:The In Crowd vs Pacheco D'Boccieri
URL:/League/Schedule/3316
DESCRIPTION:Regular Season match: The In Crowd vs Pacheco D'
 Boccieri
LOCATION:Newhall Court 2
END:VEVENT
END:VCALENDAR
