BEGIN:VCALENDAR
VERSION:2.0
PRODID:-//Clayton Bocce League
METHOD:PUBLISH
BEGIN:VTIMEZONE
TZID:America/Los_Angeles
X-LIC-LOCATION:America/Los_Angeles
BEGIN:DAYLIGHT
TZOFFSETFROM:-0800
TZOFFSETTO:-0700
TZNAME:PDT
DTSTART:20070311T020000
RRULE:FREQ=YEARLY;BYMONTH=3;BYDAY=2SU
END:DAYLIGHT
BEGIN:STANDARD
TZOFFSETFROM:-0700
TZOFFSETTO:-0800
TZNAME:PST
DTSTART:20071104T020000
RRULE:FREQ=YEARLY;BYMONTH=11;BYDAY=1SU
END:STANDARD
END:VTIMEZONE
BEGIN:VEVENT
DTSTAMP:20260428T000000Z
UID:340e0c44-c69a-4f75-8a09-aba0c3e4ce5e@ClaytonBocce
DTSTART;TZID=America/Los_Angeles:20260428T093000
DTEND;TZID=America/Los_Angeles:20260428T120000
STATUS:CONFIRMED
SUMMARY:Bocce High Rollers vs The In Crowd
URL:/League/Schedule/3322
DESCRIPTION:Regular Season match: Bocce High Rollers vs The 
 In Crowd
LOCATION:Newhall Court 3
END:VEVENT
BEGIN:VEVENT
DTSTAMP:20260428T000000Z
UID:0b255a92-8ebc-48b7-a9fd-22a091be2c9e@ClaytonBocce
DTSTART;TZID=America/Los_Angeles:20260505T093000
DTEND;TZID=America/Los_Angeles:20260505T120000
STATUS:CONFIRMED
SUMMARY:Bocce High Rollers vs Pacheco D'Boccieri
URL:/League/Schedule/3322
DESCRIPTION:Regular Season match: Bocce High Rollers vs Pach
 eco D'Boccieri
LOCATION:Newhall Court 5
END:VEVENT
BEGIN:VEVENT
DTSTAMP:20260428T000000Z
UID:71938649-c120-48b6-8f49-ffa91b4fc94f@ClaytonBocce
DTSTART;TZID=America/Los_Angeles:20260512T093000
DTEND;TZID=America/Los_Angeles:20260512T120000
STATUS:CONFIRMED
SUMMARY:Bocce High Rollers vs Rolling Oldies
URL:/League/Schedule/3322
DESCRIPTION:Regular Season match: Bocce High Rollers vs Roll
 ing Oldies
LOCATION:Newhall Court 7
END:VEVENT
BEGIN:VEVENT
DTSTAMP:20260428T000000Z
UID:a35dd679-aba6-452c-a6a7-b52ace8f58c3@ClaytonBocce
DTSTART;TZID=America/Los_Angeles:20260519T093000
DTEND;TZID=America/Los_Angeles:20260519T120000
STATUS:CONFIRMED
SUMMARY:Bocce High Rollers vs Stugots
URL:/League/Schedule/3322
DESCRIPTION:Regular Season match: Bocce High Rollers vs Stug
 ots
LOCATION:Newhall Court 6
END:VEVENT
BEGIN:VEVENT
DTSTAMP:20260428T000000Z
UID:257ee223-6659-4408-826d-4529e79c9cde@ClaytonBocce
DTSTART;TZID=America/Los_Angeles:20260602T093000
DTEND;TZID=America/Los_Angeles:20260602T120000
STATUS:CONFIRMED
SUMMARY:Bocce High Rollers vs Bocce Dogs
URL:/League/Schedule/3322
DESCRIPTION:Regular Season match: Bocce High Rollers vs Bocc
 e Dogs
LOCATION:Newhall Court 2
END:VEVENT
BEGIN:VEVENT
DTSTAMP:20260428T000000Z
UID:ef1ce3eb-fb6c-422b-ad9d-ed8b873869dd@ClaytonBocce
DTSTART;TZID=America/Los_Angeles:20260609T093000
DTEND;TZID=America/Los_Angeles:20260609T120000
STATUS:CONFIRMED
SUMMARY:Bocce High Rollers vs Martinez
URL:/League/Schedule/3322
DESCRIPTION:Regular Season match: Bocce High Rollers vs Mart
 inez
LOCATION:Newhall Court 4
END:VEVENT
BEGIN:VEVENT
DTSTAMP:20260428T000000Z
UID:3027fec3-c094-4ef1-8ac5-0e4badb04a3c@ClaytonBocce
DTSTART;TZID=America/Los_Angeles:20260616T093000
DTEND;TZID=America/Los_Angeles:20260616T120000
STATUS:CONFIRMED
SUMMARY:Bocce High Rollers vs Fossil Farm
URL:/League/Schedule/3322
DESCRIPTION:Regular Season match: Bocce High Rollers vs Foss
 il Farm
LOCATION:Newhall Court 7
END:VEVENT
BEGIN:VEVENT
DTSTAMP:20260428T000000Z
UID:87d7c702-9130-437a-adbc-2e90ae4fd8d2@ClaytonBocce
DTSTART;TZID=America/Los_Angeles:20260623T093000
DTEND;TZID=America/Los_Angeles:20260623T120000
STATUS:CONFIRMED
SUMMARY:Bocce High Rollers vs The In Crowd
URL:/League/Schedule/3322
DESCRIPTION:Regular Season match: Bocce High Rollers vs The 
 In Crowd
LOCATION:Newhall Court 5
END:VEVENT
BEGIN:VEVENT
DTSTAMP:20260428T000000Z
UID:6b5028aa-9a05-4794-80fd-a3b179689227@ClaytonBocce
DTSTART;TZID=America/Los_Angeles:20260630T093000
DTEND;TZID=America/Los_Angeles:20260630T120000
STATUS:CONFIRMED
SUMMARY:Bocce High Rollers vs Pacheco D'Boccieri
URL:/League/Schedule/3322
DESCRIPTION:Regular Season match: Bocce High Rollers vs Pach
 eco D'Boccieri
LOCATION:Newhall Court 3
END:VEVENT
BEGIN:VEVENT
DTSTAMP:20260428T000000Z
UID:b8ef96e6-c2cd-459f-a307-8015332a4a1d@ClaytonBocce
DTSTART;TZID=America/Los_Angeles:20260714T093000
DTEND;TZID=America/Los_Angeles:20260714T120000
STATUS:CONFIRMED
SUMMARY:Bocce High Rollers vs Rolling Oldies
URL:/League/Schedule/3322
DESCRIPTION:Regular Season match: Bocce High Rollers vs Roll
 ing Oldies
LOCATION:Newhall Court 6
END:VEVENT
BEGIN:VEVENT
DTSTAMP:20260428T000000Z
UID:a97dafdd-9e25-4e29-a548-7ef84f0c1370@ClaytonBocce
DTSTART;TZID=America/Los_Angeles:20260721T093000
DTEND;TZID=America/Los_Angeles:20260721T120000
STATUS:CONFIRMED
SUMMARY:Bocce High Rollers vs Stugots
URL:/League/Schedule/3322
DESCRIPTION:Regular Season match: Bocce High Rollers vs Stug
 ots
LOCATION:Newhall Court 4
END:VEVENT
BEGIN:VEVENT
DTSTAMP:20260428T000000Z
UID:0b429f01-763a-4e13-9a50-ccca94a4c0db@ClaytonBocce
DTSTART;TZID=America/Los_Angeles:20260728T093000
DTEND;TZID=America/Los_Angeles:20260728T120000
STATUS:CONFIRMED
SUMMARY:Bocce High Rollers vs Bocce Dogs
URL:/League/Schedule/3322
DESCRIPTION:Regular Season match: Bocce High Rollers vs Bocc
 e Dogs
LOCATION:Newhall Court 1
END:VEVENT
BEGIN:VEVENT
DTSTAMP:20260428T000000Z
UID:5750c5c0-3655-414e-93df-b1db2c870bee@ClaytonBocce
DTSTART;TZID=America/Los_Angeles:20260804T093000
DTEND;TZID=America/Los_Angeles:20260804T120000
STATUS:CONFIRMED
SUMMARY:Bocce High Rollers vs Martinez
URL:/League/Schedule/3322
DESCRIPTION:Regular Season match: Bocce High Rollers vs Mart
 inez
LOCATION:Newhall Court 2
END:VEVENT
BEGIN:VEVENT
DTSTAMP:20260428T000000Z
UID:939f2460-940b-4a0e-aef9-27c14cf18e41@ClaytonBocce
DTSTART;TZID=America/Los_Angeles:20260811T093000
DTEND;TZID=America/Los_Angeles:20260811T120000
STATUS:CONFIRMED
SUMMARY:Bocce High Rollers vs Fossil Farm
URL:/League/Schedule/3322
DESCRIPTION:Regular Season match: Bocce High Rollers vs Foss
 il Farm
LOCATION:Newhall Court 8
END:VEVENT
END:VCALENDAR
